{"text_format":"1","workbook":"xlsx","n_sheets":9,"sheets":["預算表","單價分析","一般計算","粉刷表","結構計算","鋼構","門窗","廁所雜項","連續壁"],"not_rendered":{"charts":0,"images":0,"macros":0,"external_links":1,"defined_names":20,"comments":0,"pivot_tables":0},"unopened":[],"bounds":{"document_bytes":16777216,"sheet_cells":100000,"rows_first":2000,"rows_last":500,"rows_between":2000,"halvings":0,"cell_chars":16384,"cell_head_chars":4096},"cells_cut":0,"cells_raw":0,"read":"whole","date_system":"1900"}

{"sheet":"預算表","index":0,"n_rows":342,"n_cols":8,"rows_kept":342,"cut":false,"hidden":false,"merged":[[0,0,0,6],[25,1,25,6],[26,1,26,6],[27,1,27,6],[28,1,28,6],[34,1,34,6],[29,1,29,6],[30,1,30,6],[31,1,31,6],[32,1,32,6],[33,1,33,6]]}
["彭 定 吉 建 築 師 事 務 所"]
["建築工程預算書 (詳細表)"]
["業 主: 樂迦再生科技股份有限公司",null,null,null,null,"日    期:2022-07-"]
["工程名稱:竹北生醫園區廠房新建工程",null,null,null,null,"施工地點:新竹縣竹北"]
["項次","名                稱","單位","數   量","單   價","複    價","備    註"]
["壹","建築工程"]
["一","假設工程","式",1]
["二","基礎工程","式",1]
["三","RC結構工程","式",1]
["四","鋼構工程","式",1]
["五","外牆裝修工程","式",1]
["六","室內一般裝修工程","式",1]
["七","門窗工程(含玻璃及門窗五金)","式",1]
["八","雜項工程","式",1]
["九","電梯設備工程(含吊掛鋼樑等安裝須求項目)","式",1]
["十","景觀及植栽工程","式",1]
[null,"小計(一~十)"]
["十一","勞工安全衛生管理費 (2%)","式",1]
["十二","交通維持、道路維護費及環境保護費 (1%)","式",1]
["十三","施工品質管制作業費 (1%)","式",1]
["十四","承包商利潤、管理及保險費 (7%)","式",1]
[null,"小計 (十一~十四)"]
[null,"合計 (一~十四)"]
["十五","加值營業稅 5%","式",1]
[null,"總計 (一~十五)"]
[null,"註:  1. 所有材料廠牌型號品質標準依據，廠商可依相同品質認証材料送審,未經業主與建築師同意不得使用於本建築內，"]
[null,"         標單所列項目、數量僅供參考，廠商投標前應自行按圖詳估，如發現與圖說有出入等情形"]
[null,"        ，應合併於單價內或其他相關項目內估計之。"]
[null,"     2. 投標時需提報施工計劃。"]
[null,"     3. 使照申請時配合施作工項\"廠商應依相關圖說自行增列項目並詳估費用。"]
[null,"     4. 廠商須依圖說及標單項目內容評估屬一次性工項或配合使照申請分階段完成之工項自行估算"]
[null,"        該工項之合理單價填入。"]
[null,"     5.工地使用之鋼管施工架應全面符合國家標準CNS 4750及相關勞安衛規定。"]
[null,"     6.本工程檢、試驗含於總價內，其試驗項目及次數，以施工圖說及公共工程施工規範為主。"]
[null,"     7.營造公司負責本案建築執照之申辦及取得，並完成正式用水用電，為本工程之一部分。"]
[null,"土木建築工程"]
["一","假設工程"]
["1","基地清理及整地(高程整至GL0)","M2",{"$f":"+一般計算!E8","v":{"$error":"#VALUE!"}}]
["2","甲種施工安全圍籬(含防溢座,相關設施及維護費)","M",{"$f":"+一般計算!E9","v":{"$error":"#VALUE!"}}]
["3","施工圍籬綠美化 ","M2",{"$f":"+一般計算!E10","v":{"$error":"#VALUE!"}}]
["4","施工圍籬，折疊式大門，12M，(含地坪混凝土鋪設)","樘",{"$f":"+一般計算!E11","v":{"$error":"#VALUE!"}}]
["5","施工圍籬，折疊式大門，8M，(含地坪混凝土鋪設)","樘",{"$f":"+一般計算!E12","v":{"$error":"#VALUE!"}}]
["6","環境保護，沖洗設備，(臨時洗車台設備及防污設備)","處",{"$f":"+一般計算!E13","v":{"$error":"#VALUE!"}}]
["7","廠區駐地警衛保全及崗亭","處",{"$f":"+一般計算!E14","v":{"$error":"#VALUE!"}}]
["8","工地臨時辦公室(含水電設備及傢俱)","式",{"$f":"+一般計算!E15","v":{"$error":"#VALUE!"}}]
["9","臨時廁所，含化糞池","座",{"$f":"+一般計算!E16","v":{"$error":"#VALUE!"}}]
["10","工地臨時給排水,電，照明，監視設備及臨時水電費","式",{"$f":"+一般計算!E17","v":{"$error":"#VALUE!"}}]
["11","施工中安全防護﹑警示措施及設備費(含各種開口),消防設施","式",{"$f":"+一般計算!E18","v":{"$error":"#VALUE!"}}]
["12","環境保護，灑水設施，各項汙染物防制及設置費","式",{"$f":"+一般計算!E19","v":{"$error":"#VALUE!"}}]
["13","營建工地逕流廢水污染削減計畫書","式",{"$f":"+一般計算!E20","v":{"$error":"#VALUE!"}}]
["14","營建廢棄物及生活垃圾運棄及吊運費","式",{"$f":"+一般計算!E21","v":{"$error":"#VALUE!"}}]
["15","施工之臨時抽排水費","式",{"$f":"+一般計算!E22","v":{"$error":"#VALUE!"}}]
["16","工程告示牌","面",{"$f":"+一般計算!E23","v":{"$error":"#VALUE!"}}]
["17","工程攝錄影，紀錄片後製及報表相片等費用","式",{"$f":"+一般計算!E24","v":{"$error":"#VALUE!"}}]
["18","完工交屋前清潔費","式",{"$f":"+一般計算!E25","v":{"$error":"#VALUE!"}}]
["19","鄰房鑑定費","式",{"$f":"+一般計算!E26","v":{"$error":"#VALUE!"}}]
["20","工程介面整合圖說及施工圖繪製","式",{"$f":"+一般計算!E27","v":{"$error":"#VALUE!"}}]
["21","開工，放樣勘驗，使照請領費用","式",{"$f":"+一般計算!E28","v":{"$error":"#VALUE!"}}]
["22","各項民俗儀式","式",{"$f":"+一般計算!E29","v":{"$error":"#VALUE!"}}]
["23","公共設施復原(施工及申請)","式",{"$f":"+一般計算!E30","v":{"$error":"#VALUE!"}}]
["24","施工電梯(本項工作由營造自行評估)","式",1]
["25","施工固定式吊車(本項工作由營造自行評估)","式",1]
["26","外部施工鷹架含安全網 含斜籬","M2",{"$f":"+一般計算!E33","v":{"$error":"#VALUE!"}}]
[27,"室內高層及挑空區週邊工作架 >4.5M","M2",{"$f":"+一般計算!E41","v":{"$error":"#VALUE!"}}]
[28,"高空工作車及移動工作架≦4.5M","式",{"$f":"+一般計算!E48","v":{"$error":"#VALUE!"}}]
[null,"  計",null,{"$f":"+一般計算!E49","v":0}]
[null,null,null,{"$f":"+一般計算!E50","v":0}]
["二","基礎工程",null,{"$f":"+一般計算!E51","v":0}]
["二.1","地下開挖安全措施",null,{"$f":"+一般計算!E52","v":0}]
["二.1.1","擋土型鋼 H300*300*10*15 @50 L=14M","支",{"$f":"+一般計算!E53","v":{"$error":"#VALUE!"}}]
["二.1.2","擋土型鋼 H300*300*10*15 @50 L=16M","支",{"$f":"+一般計算!E54","v":{"$error":"#VALUE!"}}]
["二.1.3","H300 中間樁 L=12(含止水板及截樁3.6M)","支",{"$f":"+一般計算!E55","v":{"$error":"#VALUE!"}}]
["二.1.4","H300 中間樁 L=14(含止水板及截樁3.6M)","支",{"$f":"+一般計算!E56","v":{"$error":"#VALUE!"}}]
["二.1.5","第一層H型鋼橫擋及支撐 H-350*350*12*19 含H350圍令","M2",{"$f":"+一般計算!E57","v":{"$error":"#VALUE!"}}]
["二.1.6","第二層H型鋼橫擋及支撐 H-400*400*13*21 含H400圍令","M2",{"$f":"+一般計算!E58","v":{"$error":"#VALUE!"}}]
["二.1.7","第三層H型鋼橫擋回撐 H-250*250*9*14 含H250圍令","M2",{"$f":"+一般計算!E59","v":{"$error":"#VALUE!"}}]
["二.1.8","施工輔助，施工構台","M2",{"$f":"+一般計算!E60","v":{"$error":"#VALUE!"}}]
["二.1.9","構台及四週安全欄杆,安全母索,施工便梯","M",{"$f":"+一般計算!E61","v":{"$error":"#VALUE!"}}]
["二.1.10","挖土方及運棄處理費(含警衛室)","M3",{"$f":"+一般計算!E62","v":{"$error":"#VALUE!"}}]
["二.1.11","廢方運棄及土方處理費(含警衛室)","M3",{"$f":"+一般計算!E67","v":{"$error":"#VALUE!"}}]
["二.1.12","現地土方回填(含警衛室)","M2",{"$f":"+一般計算!E71","v":{"$error":"#VALUE!"}}]
["二.2","安全監測系統"]
["二.2.1","傾斜儀 L=14,16","處",{"$f":"+一般計算!E74","v":{"$error":"#VALUE!"}}]
["二.2.2","建物傾斜計","處",{"$f":"+一般計算!E75","v":{"$error":"#VALUE!"}}]
["二.2.3","支撐應變計 (振弦式)","組",{"$f":"+一般計算!E76","v":{"$error":"#VALUE!"}}]
["二.2.4","水位觀測井 12M","處",{"$f":"+一般計算!E77","v":{"$error":"#VALUE!"}}]
["二.2.5","沉陷觀測釘","處",{"$f":"+一般計算!E78","v":{"$error":"#VALUE!"}}]
["二.2.6","中間柱隆起桿","處",{"$f":"+一般計算!E79","v":{"$error":"#VALUE!"}}]
[null,"  計"]
[]
["三","RC結構工程"]
["三.1","施工測量，放樣","M2",{"$f":"+一般計算!E82","v":{"$error":"#VALUE!"}}]
["三.2","結構用混凝土 140kgf/cm2","M3",{"$f":"+一般計算!E84","v":{"$error":"#VALUE!"}}]
["三.3","結構用混凝土 280kgf/cm2","M3",{"$f":"+一般計算!E86","v":{"$error":"#VALUE!"}}]
["三.4","筏基內回填低強度混凝土","M3",{"$f":"+一般計算!E87","v":{"$error":"#VALUE!"}}]
["三.5","鋼筋，SD420W","噸",{"$f":"+一般計算!E90","v":{"$error":"#VALUE!"}}]
["三.6","鋼絲網10*8/100*100&10*10/100*100","T",{"$f":"+一般計算!E91","v":{"$error":"#VALUE!"}}]
["三.7","普通模板","M2",{"$f":"+一般計算!E92","v":{"$error":"#VALUE!"}}]
["三.8","平頂清水模板","M2",{"$f":"+一般計算!E93","v":{"$error":"#VALUE!"}}]
["三.9","DECK鋼承板 BD65*1.2","M2",{"$f":"+一般計算!E94","v":{"$error":"#VALUE!"}}]
["三.10","#8 鋼筋續接器","組",{"$f":"+一般計算!E95","v":{"$error":"#VALUE!"}}]
["三.11","#10 鋼筋續接器","組",{"$f":"+一般計算!E96","v":{"$error":"#VALUE!"}}]
["三.12","#10接鋼柱  鋼筋續接器","組",{"$f":"+一般計算!E97","v":{"$error":"#VALUE!"}}]
["三.13","#6 T頭 ","組",{"$f":"+一般計算!E98","v":{"$error":"#VALUE!"}}]
["三.14","#8 T頭 ","組",{"$f":"+一般計算!E99","v":{"$error":"#VALUE!"}}]
["三.15","#10 T頭 ","組",{"$f":"+一般計算!E100","v":{"$error":"#VALUE!"}}]
["三.16","接鋼柱剪力釘 19∮*200","支",{"$f":"+一般計算!E101","v":{"$error":"#VALUE!"}}]
["三.17","複合型橡膠鋼板止水帶","M",{"$f":"+一般計算!E102","v":{"$error":"#VALUE!"}}]
[null,"  計"]
[]
["四","鋼構工程"]
["四.1","鋼板焊接口型鋼 SN490YC","T",{"$f":"+一般計算!E106","v":{"$error":"#VALUE!"}}]
["四.2","鋼板焊接口型鋼 SN490B","T",{"$f":"+一般計算!E107","v":{"$error":"#VALUE!"}}]
["四.3","BH及RH型鋼 SN490B","T",{"$f":"+一般計算!E108","v":{"$error":"#VALUE!"}}]
["四.4","H型鋼 A572","T",{"$f":"+一般計算!E109","v":{"$error":"#VALUE!"}}]
["四.5","H型鋼 A36","T",{"$f":"+一般計算!E110","v":{"$error":"#VALUE!"}}]
["四.6","鋼板 SN490B,A572","T",{"$f":"+一般計算!E111","v":{"$error":"#VALUE!"}}]
["四.7","鋼板 A36","T",{"$f":"+一般計算!E112","v":{"$error":"#VALUE!"}}]
["四.8","預埋螺栓 L=700 M-36A.B","支",{"$f":"+一般計算!E113","v":{"$error":"#VALUE!"}}]
["四.9","預埋螺栓 L=600 M24 A.B","支",{"$f":"+一般計算!E114","v":{"$error":"#VALUE!"}}]
["四.10","S10T 扭矩控制螺栓","T",{"$f":"+一般計算!E115","v":{"$error":"#VALUE!"}}]
["四.11","25∮TIE 拉桿","支'",{"$f":"+一般計算!E116","v":{"$error":"#VALUE!"}}]
["四.12","剪力釘 19∮*76","T",{"$f":"+一般計算!E117","v":{"$error":"#VALUE!"}}]
["四.13","剪力釘 19∮*100","組",{"$f":"+一般計算!E118","v":{"$error":"#VALUE!"}}]
["四.14","柱內灌漿混凝土","M3",{"$f":"+一般計算!E119","v":{"$error":"#VALUE!"}}]
["四.15","不收縮砂漿","M3",{"$f":"+一般計算!E120","v":{"$error":"#VALUE!"}}]
["四.16","結構鋼構吊裝","T",{"$f":"+一般計算!E121","v":{"$error":"#VALUE!"}}]
["四.17","鋼料半成品運費及小搬運","T",{"$f":"+一般計算!E122","v":{"$error":"#VALUE!"}}]
["四.18","鋼樑工廠開孔補強","孔",{"$f":"+一般計算!E123","v":{"$error":"#VALUE!"}}]
["四.19","鋼樑小樑工廠開孔補強","孔",{"$f":"+一般計算!E124","v":{"$error":"#VALUE!"}}]
["四.20","鋼構一小時防火時效被覆","M2",{"$f":"+一般計算!E125","v":{"$error":"#VALUE!"}}]
["四.21","鋼構二小時防火時效被覆","M2",{"$f":"+一般計算!E126","v":{"$error":"#VALUE!"}}]
["四.22","鋼柱一小時防火漆","M3",{"$f":"+一般計算!E127","v":{"$error":"#VALUE!"}}]
["四.23","鋼柱二小時防火漆","M4",{"$f":"+一般計算!E128","v":{"$error":"#VALUE!"}}]
["四.24","室內鋼樓梯 ","T",{"$f":"+一般計算!E129","v":{"$error":"#VALUE!"}}]
["四.25","樓梯 鋼筋網","M2",{"$f":"+一般計算!E130","v":{"$error":"#VALUE!"}}]
["四.26","樓梯 面層混凝土 280kg/cm2","M3",{"$f":"+一般計算!E131","v":{"$error":"#VALUE!"}}]
["四.27","電梯內樑柱","T",{"$f":"+一般計算!E132","v":{"$error":"#VALUE!"}}]
[null,"  計"]
[]
["五","外牆裝修工程"]
["五.1","外牆造型2.5t佛碳烤漆鋁包板牆 (深灰色)","M2",{"$f":"+一般計算!E135","v":{"$error":"#VALUE!"}}]
["五.2","外牆4t 烤漆鋁複合板包板牆 (淺灰色)","M2",{"$f":"+一般計算!E165","v":{"$error":"#VALUE!"}}]
["五.3","外牆貼45*45小口磚 淺灰色","M2",{"$f":"+一般計算!E177","v":{"$error":"#VALUE!"}}]
["五.4","警衛室窗台板貼花崗石","M2",{"$f":"+一般計算!E183","v":{"$error":"#VALUE!"}}]
["五.5","氟碳烤漆金屬格柵裝飾牆","M2",{"$f":"+一般計算!E185","v":{"$error":"#VALUE!"}}]
["五.6","氣體區氟碳烤漆金屬格柵牆","M2",{"$f":"+一般計算!E186","v":{"$error":"#VALUE!"}}]
["五.7","氣體區氟碳烤漆金屬格柵門 140*210","樘",{"$f":"+一般計算!E187","v":{"$error":"#VALUE!"}}]
[null,"  計"]
[]
["六","室內一般裝修工程"]
["六.1","高層水泥纖維板灌漿隔間12cm","M2",{"$f":"+一般計算!E190","v":{"$error":"#VALUE!"}}]
["六.2","一般樓層水泥纖維板灌漿隔間12cm","M2",{"$f":"+一般計算!E194","v":{"$error":"#VALUE!"}}]
["六.3","水泥纖維板廁所外側單面封板","M2",{"$f":"+一般計算!E203","v":{"$error":"#VALUE!"}}]
["六.4","高層雙面矽酸鈣板防火隔間牆","M2",{"$f":"+一般計算!E214","v":{"$error":"#VALUE!"}}]
["六.5","一般樓層雙面矽酸鈣板防火隔間牆","M2",{"$f":"+一般計算!E217","v":{"$error":"#VALUE!"}}]
["六.6","外牆內側金屬庫板隔間牆","M2",{"$f":"+一般計算!E229","v":{"$error":"#VALUE!"}}]
["六.7","一小時防火時效金屬庫板牆(挑空區管道間)","M2",{"$f":"+一般計算!E239","v":{"$error":"#VALUE!"}}]
["六.8","牆面1:3水泥粉刷","M2",{"$f":"+一般計算!E250","v":{"$error":"#VALUE!"}}]
["六.9","輕隔間牆面批土整平","M2",{"$f":"+一般計算!E251","v":{"$error":"#VALUE!"}}]
["六.10","牆面1:3水泥粉刷批土刷水泥漆","M2",{"$f":"+一般計算!E252","v":{"$error":"#VALUE!"}}]
["六.11","地下室外側牆面1:2防水泥粉刷刷水泥漆","M2",{"$f":"+一般計算!E253","v":{"$error":"#VALUE!"}}]
["六.12","牆面1:3水泥粉刷貼30*60磁磚","M2",{"$f":"+一般計算!E254","v":{"$error":"#VALUE!"}}]
["六.13","輕隔間牆面貼30*60磁磚","M2",{"$f":"+一般計算!E255","v":{"$error":"#VALUE!"}}]
["六.14","輕隔間牆面批土刷水泥漆","M2",{"$f":"+一般計算!E256","v":{"$error":"#VALUE!"}}]
["六.15","輕隔間立體架乾式吊掛石材","M2",{"$f":"+一般計算!E257","v":{"$error":"#VALUE!"}}]
["六.16","RC牆面乾掛石材","M2",{"$f":"+一般計算!E258","v":{"$error":"#VALUE!"}}]
["六.17","室內牆面金屬包板","M2",{"$f":"+一般計算!E259","v":{"$error":"#VALUE!"}}]
["六.18","廁所牆面1:2水泥砂漿貼30*60磁磚","M2",{"$f":"+一般計算!E260","v":{"$error":"#VALUE!"}}]
["六.19","廁所輕隔間牆面防水膠塗佈後黏著劑貼30*60磁磚","M2",{"$f":"+一般計算!E261","v":{"$error":"#VALUE!"}}]
["六.20","牆面防水劑+防水粉刷貼20*20面磚","M2",{"$f":"+一般計算!E262","v":{"$error":"#VALUE!"}}]
["六.21","90CM台度牆面水泥粉刷警示漆","M2",{"$f":"+一般計算!E263","v":{"$error":"#VALUE!"}}]
["六.22","地下室外側90CM台度牆面1:2防水泥粉刷刷水泥漆","M2",{"$f":"+一般計算!E264","v":{"$error":"#VALUE!"}}]
["六.23","地坪乾式打底貼拋光面石材 F1","M2",{"$f":"+一般計算!E265","v":{"$error":"#VALUE!"}}]
["六.24","整體粉光+除泥地墊","M2",{"$f":"+一般計算!E266","v":{"$error":"#VALUE!"}}]
["六.25","整體粉光+貼PVC地毯","M2",{"$f":"+一般計算!E267","v":{"$error":"#VALUE!"}}]
["六.26","地坪整體粉刷後貼60*60抛光石英磚 F4","M2",{"$f":"+一般計算!E268","v":{"$error":"#VALUE!"}}]
["六.27","平面車道停車位整體粉光+3mm EPOXY+石英砂地坪 F5","M2",{"$f":"+一般計算!E269","v":{"$error":"#VALUE!"}}]
["六.28","斜車道整體粉光+5mm EPOXY+石英砂地坪 F5A","M2",{"$f":"+一般計算!E270","v":{"$error":"#VALUE!"}}]
["六.29","地坪拍漿粉光+3mm EPOXY平光面 F6","M2",{"$f":"+一般計算!E271","v":{"$error":"#VALUE!"}}]
["六.30","樓梯面貼20*20面磚+止滑磚 F7","M2",{"$f":"+一般計算!E272","v":{"$error":"#VALUE!"}}]
["六.31","廁所地坪防水塗佈後貼30*30止滑石英磚","M2",{"$f":"+一般計算!E273","v":{"$error":"#VALUE!"}}]
["六.32","陽台地坪防水膠貼10*10窯燒花崗石","M2",{"$f":"+一般計算!E274","v":{"$error":"#VALUE!"}}]
["六.33","無毒防水劑+1:2防水粉刷貼20*20地磚 F10","M2",{"$f":"+一般計算!E275","v":{"$error":"#VALUE!"}}]
["六.34","地坪高平整整體粉光 F11","M2",{"$f":"+一般計算!E276","v":{"$error":"#VALUE!"}}]
["六.35","平頂未施作材料","M2",{"$f":"+一般計算!E277","v":{"$error":"#VALUE!"}}]
["六.36","平頂清水模面噴水泥漆 C1","M2",{"$f":"+一般計算!E278","v":{"$error":"#VALUE!"}}]
["六.37","平頂樑底樑側清水模面噴水泥漆 C1A","M2",{"$f":"+一般計算!E279","v":{"$error":"#VALUE!"}}]
["六.38","平頂水泥粉刷水泥漆(含樑底樑側) C2","M2",{"$f":"+一般計算!E280","v":{"$error":"#VALUE!"}}]
["六.39","平頂60*60明架矽酸鈣板天花 C3","M2",{"$f":"+一般計算!E281","v":{"$error":"#VALUE!"}}]
["六.40","平頂60*60明架礦纖天花 C4","M2",{"$f":"+一般計算!E282","v":{"$error":"#VALUE!"}}]
["六.41","平頂暗架矽酸鈣板天花含燈槽,窗簾盒等收邊 C5","M2",{"$f":"+一般計算!E283","v":{"$error":"#VALUE!"}}]
["六.42","風除室平頂矽酸鈣板天花含上方吊掛骨料","M2",{"$f":"+一般計算!E284","v":{"$error":"#VALUE!"}}]
["六.43","鋼承板面噴漆","M2",{"$f":"+一般計算!E285","v":{"$error":"#VALUE!"}}]
["六.44","鋼樓梯背板噴漆(含側板) C14","M2",{"$f":"+一般計算!E286","v":{"$error":"#VALUE!"}}]
["六.45","樓板面批土整平 C10","M2",{"$f":"+一般計算!E287","v":{"$error":"#VALUE!"}}]
["六.46","樓電梯位置磚","M2",{"$f":"+一般計算!E288","v":{"$error":"#VALUE!"}}]
["六.47","筏基內廢水池地坪牆面防水粉刷","M2",{"$f":"+一般計算!E290","v":{"$error":"#VALUE!"}},null,null,null,"原單位 處"]
["六.48","筏基空調及製程水池地坪牆面防水粉刷","M2",{"$f":"+一般計算!E293","v":{"$error":"#VALUE!"}}]
["六.49","消防水池內阼水粉刷","M2",{"$f":"+一般計算!E296","v":{"$error":"#VALUE!"}}]
["六.50","筏基內雨水儲水槽地坪牆面防水粉刷","M2",{"$f":"+一般計算!E298","v":{"$error":"#VALUE!"}}]
["六.51","筏基內雨水貯集滯洪池地坪牆面防水粉刷","M2",{"$f":"+一般計算!E301","v":{"$error":"#VALUE!"}}]
["六.52","筏基電梯坑地坪牆面防水粉刷","M2",{"$f":"+一般計算!E304","v":{"$error":"#VALUE!"}}]
["六.53","屋面及露台防水隔熱層","M2",{"$f":"+一般計算!E308","v":{"$error":"#VALUE!"}}]
["六.54","屋面1/2B汎水壓磚","M2",{"$f":"+一般計算!E314","v":{"$error":"#VALUE!"}}]
["六.55","女兒牆內側防水粉刷(含汎水)","M2",{"$f":"+一般計算!E319","v":{"$error":"#VALUE!"}}]
["六.56","地下室頂板防水層含保護層","M2",{"$f":"+一般計算!E324","v":{"$error":"#VALUE!"}}]
["六.57","筏基及一層外推地坪防潮層","M2",{"$f":"+一般計算!E328","v":{"$error":"#VALUE!"}}]
["六.58","地下室外牆接縫防水打鑿","M2",{"$f":"+一般計算!E331","v":{"$error":"#VALUE!"}}]
["六.59","地下室外牆防水層","M2",{"$f":"+一般計算!E333","v":{"$error":"#VALUE!"}}]
["六.60","屋面設備基座 15CM高","M2",{"$f":"+一般計算!E335","v":{"$error":"#VALUE!"}}]
["六.61","設備基座不銹鋼邊框","M",{"$f":"+一般計算!E337","v":{"$error":"#VALUE!"}}]
[null,"  計"]
[]
["七","門窗工程(含玻璃及門窗五金)"]
["七.1","D1 200*235 不銹鋼烤漆安全門 F60A (遮煙)","樘",{"$f":"+一般計算!E341","v":1}]
["七.2","D2 120*220 不銹鋼烤漆安全門 F60A (遮煙)","樘",{"$f":"+一般計算!E342","v":36}]
["七.3","D3 120*220 不銹鋼烤漆安全門 F60A (遮煙)","樘",{"$f":"+一般計算!E343","v":1}]
["七.4","D4 250*250 不銹鋼烤漆防火門 F60A (遮煙)","樘",{"$f":"+一般計算!E344","v":1}]
["七.5","D5 240*220 不銹鋼烤漆防火門 F60A (遮煙)","樘",{"$f":"+一般計算!E345","v":14}]
["七.6","D6 240*220 不銹鋼烤漆防火門 F60A (遮煙)","樘",{"$f":"+一般計算!E346","v":2}]
["七.7","D7 200*235 不銹鋼烤漆防火門 F60A (遮煙)","樘",{"$f":"+一般計算!E347","v":1}]
["七.8","D8 200*220 不銹鋼烤漆防火門 F60A (遮煙)","樘",{"$f":"+一般計算!E348","v":11}]
["七.9","D9 120*220 不銹鋼烤漆防火門 F60A (遮煙)","樘",{"$f":"+一般計算!E349","v":3}]
["七.10","D10 100*220 不銹鋼烤漆防火門 F60A (遮煙)","樘",{"$f":"+一般計算!E350","v":12}]
["七.11","D11 160*210 不銹鋼烤漆防火門 F60A (遮煙)","樘",{"$f":"+一般計算!E351","v":45}]
["七.12","D12 160*200 不銹鋼烤漆防火門 F60A (遮煙)","樘",{"$f":"+一般計算!E352","v":2}]
["七.13","D13 90*210 不銹鋼烤漆防火門 F60A (遮煙)","樘",{"$f":"+一般計算!E353","v":16}]
["七.14","D14 300*300 不銹鋼烤漆防火門 F60A","樘",{"$f":"+一般計算!E354","v":1}]
["七.15","D15 250*250 不銹鋼烤漆防火門 F60A","樘",{"$f":"+一般計算!E355","v":2}]
["七.16","D16 240*220 不銹鋼烤漆防火門 F60A","樘",{"$f":"+一般計算!E356","v":1}]
["七.17","D17 200*220 不銹鋼烤漆防火門 F60A","樘",{"$f":"+一般計算!E357","v":4}]
["七.18","D18 120*220 不銹鋼烤漆防火門 F60A","樘",{"$f":"+一般計算!E358","v":6}]
["七.19","D19 100*220 不銹鋼烤漆防火門 F60A","樘",{"$f":"+一般計算!E359","v":2}]
["七.20","D20 200*220 不銹鋼烤漆門 ","樘",{"$f":"+一般計算!E360","v":1}]
["七.21","D21 120*220 不銹鋼烤漆門","樘",{"$f":"+一般計算!E361","v":1}]
["七.22","D22 120*220 不銹鋼烤漆門","樘",{"$f":"+一般計算!E362","v":2}]
["七.23","D23 100*220 鋼製烤漆門 含視窗","樘",{"$f":"+一般計算!E363","v":2}]
["七.24","D24 90*220 鋼製烤漆門 含視窗","樘",{"$f":"+一般計算!E364","v":27}]
["七.25","D25 80*210 鋼製烤漆門 含百葉","樘",{"$f":"+一般計算!E365","v":1}]
["七.26","D26 200*205 不銹鋼烤漆門 台電規格橫拉門 ","樘",{"$f":"+一般計算!E366","v":1}]
["七.27","D27 110*210 SMC 無障礙拉門","樘",{"$f":"+一般計算!E367","v":4}]
["七.28","D28 120*120 不銹鋼防火維修門 F60B","樘",{"$f":"+一般計算!E368","v":13}]
["七.29","D29 80*120 不銹鋼防火維修門 F60B","樘",{"$f":"+一般計算!E369","v":13}]
["七.30","SD1  700*322  不銹鋼電動捲門","樘",{"$f":"+一般計算!E370","v":1}]
["七.31","SD2  310*445  不銹鋼電動捲門","樘",{"$f":"+一般計算!E371","v":2}]
["七.32","SD3  350*400  不銹鋼電動捲門","樘",{"$f":"+一般計算!E372","v":1}]
["七.33","SD4  350*375  不銹鋼電動捲門","樘",{"$f":"+一般計算!E373","v":8}]
["七.34","SD5  500*280  不銹鋼電動防火捲門 60A","樘",{"$f":"+一般計算!E374","v":1}]
["七.35","SD6  181*280  遮煙捲簾","樘",{"$f":"+一般計算!E375","v":18}]
["七.36","L1 鍍鋅鋼板防火百葉閘門 65*65","樘",{"$f":"+一般計算!E376","v":1}]
["七.37","L1a 鍍鋅鋼板防火百葉閘門 65*65","樘",{"$f":"+一般計算!E377","v":1}]
["七.38","L2 284*156 防颱型鋁百葉","樘",{"$f":"+一般計算!E378","v":1}]
["七.39","L3 134*156 防颱型鋁百葉","樘",{"$f":"+一般計算!E379","v":4}]
["七.40","L4 140*200 防颱型鋁百葉","樘",{"$f":"+一般計算!E380","v":1}]
["七.41","L5 250*100 防颱型鋁百葉","樘",{"$f":"+一般計算!E381","v":1}]
["七.42","L6 1100*100 防颱型鋁百葉+鋁窗","樘",{"$f":"+一般計算!E382","v":3}]
["七.43","L7 85*150 防颱型鋁百葉","樘",{"$f":"+一般計算!E383","v":2}]
["七.44","L8 100*100 可關閉防水型鋁百葉","樘",{"$f":"+一般計算!E384","v":1}]
["七.45","L8a 100*100 可關閉防水型鋁百葉","樘",{"$f":"+一般計算!E385","v":2}]
["七.46","L9 60*60 防颱型鋁百葉","樘",{"$f":"+一般計算!E386","v":1}]
["七.47","L9a 60*60 防颱型鋁百葉","樘",{"$f":"+一般計算!E387","v":1}]
["七.48","L10 130*55 防颱型鋁百葉","樘",{"$f":"+一般計算!E388","v":1}]
["七.49","W1 1100*200 鋁窗 (附摺疊紗窗)","樘",{"$f":"+一般計算!E389","v":1}]
["七.50","W2 1100*100 鋁窗 (附摺疊紗窗)","樘",{"$f":"+一般計算!E390","v":5}]
["七.51","W3 300*200 鋁窗 (附摺疊紗窗)","樘",{"$f":"+一般計算!E391","v":1}]
["七.52","W4 180*100 鋁窗 (附摺疊紗窗)","樘",{"$f":"+一般計算!E392","v":1}]
["七.53","W4a 180*100 鋁窗 (附摺疊紗窗)","樘",{"$f":"+一般計算!E393","v":1}]
["七.54","W5 180*100 鋁窗+防颱型百葉 (附摺疊紗窗)","樘",{"$f":"+一般計算!E394","v":1}]
["七.55","W6 100*100 鋁窗 (附摺疊紗窗)","樘",{"$f":"+一般計算!E395","v":2}]
["七.56","W6a 100*100 鋁窗 (附摺疊紗窗)","樘",{"$f":"+一般計算!E396","v":18}]
["七.57","W7 100*50 鋁窗 (附摺疊紗窗)","樘",{"$f":"+一般計算!E397","v":4}]
["七.58","W8 840*245 鋁窗+鋁門 (附紗窗,紗門)","樘",{"$f":"+一般計算!E398","v":1}]
["七.59","W9 100*103 鋁窗 (附紗窗)","樘",{"$f":"+一般計算!E399","v":1}]
["七.60","CW1 1214*4845 玻璃帷幕牆 含飾板","樘",{"$f":"+一般計算!E400","v":1}]
["七.61","CW2 3980.5*1185 玻璃帷幕牆","樘",{"$f":"+一般計算!E401","v":1}]
["七.62","CW3 219.5*500 玻璃帷幕牆","樘",{"$f":"+一般計算!E402","v":1}]
["七.63","CW4 219.5*500 玻璃帷幕牆 ","樘",{"$f":"+一般計算!E403","v":1}]
["七.64","CW5 1498*400 玻璃帷幕牆 風除室","樘",{"$f":"+一般計算!E404","v":1}]
["七.65","CW6 979*370 玻璃帷幕牆","樘",{"$f":"+一般計算!E405","v":1}]
["七.66","CW7 994*345 玻璃帷幕牆","樘",{"$f":"+一般計算!E406","v":2}]
["七.67","CW8 898*345 玻璃帷幕牆","樘",{"$f":"+一般計算!E407","v":1}]
["七.68","CW9 979*200 玻璃帷幕牆","樘",{"$f":"+一般計算!E408","v":6}]
["七.69","CW10 968*305 玻璃帷幕牆","樘",{"$f":"+一般計算!E409","v":1}]
["七.70","CW11 980*305 玻璃帷幕牆","樘",{"$f":"+一般計算!E410","v":1}]
["七.71","CW12 1691*360 玻璃帷幕牆","樘",{"$f":"+一般計算!E411","v":1}]
["七.72","CW13 180*5010 玻璃帷幕牆","樘",{"$f":"+一般計算!E412","v":1}]
["七.73","CW14 242*4110 玻璃帷幕牆","樘",{"$f":"+一般計算!E413","v":1}]
["七.74","CW15 3424*434 玻璃帷幕牆 含鋁飾板","樘",{"$f":"+一般計算!E414","v":6}]
[null,"  計"]
[]
["八","雜項工程"]
["八.1","A樓梯立式行動不便不銹鋼杆木扶手(內側) H=90","M",{"$f":"+一般計算!E417","v":{"$error":"#VALUE!"}}]
["八.2","A樓梯立式不銹鋼杆木扶手(外側)","M",{"$f":"+一般計算!E420","v":{"$error":"#VALUE!"}}]
["八.3","B樓梯立式行動不便不銹鋼欄杆扶手(內側) H=110","M",{"$f":"+一般計算!E425","v":{"$error":"#VALUE!"}}]
["八.4","B樓梯立式行動不便不銹鋼欄杆扶手(外側) H=110","M",{"$f":"+一般計算!E428","v":{"$error":"#VALUE!"}}]
["八.5","C樓梯立式行動不便不銹鋼欄杆扶手(內側) H=90","M",{"$f":"+一般計算!E432","v":{"$error":"#VALUE!"}}]
["八.6","C樓梯掛式不銹鋼欄杆扶手","M",{"$f":"+一般計算!E435","v":{"$error":"#VALUE!"}}]
["八.7","B2層A梯廳階梯欄杆扶手","M",{"$f":"+一般計算!E437","v":{"$error":"#VALUE!"}}]
["八.8","裝卸區階梯欄杆扶手","M",{"$f":"+一般計算!E439","v":{"$error":"#VALUE!"}}]
["八.9","機房階梯欄杆扶手","M",{"$f":"+一般計算!E441","v":{"$error":"#VALUE!"}}]
["八.10","吊裝平台不銹鋼湩動欄杆","M",{"$f":"+一般計算!E443","v":{"$error":"#VALUE!"}}]
["八.11","裝卸區昇降調整板","組",{"$f":"+一般計算!E445","v":{"$error":"#VALUE!"}}]
["八.12","筏基水池氣密鑄鐵人孔蓋 80∮","組",{"$f":"+一般計算!E447","v":{"$error":"#VALUE!"}}]
["八.13","筏基水箱不銹鋼爬梯 H*1.5","組",{"$f":"+一般計算!E449","v":{"$error":"#VALUE!"}}]
["八.14","電梯坑不銹鋼爬梯","組",{"$f":"+一般計算!E451","v":{"$error":"#VALUE!"}}]
["八.15","屋面不銹鋼人孔蓋 80*80","座",{"$f":"+一般計算!E453","v":{"$error":"#VALUE!"}}]
["八.16","屋面不銹鋼爬梯 H=404","座",{"$f":"+一般計算!E455","v":{"$error":"#VALUE!"}}]
["八.17","屋面不銹鋼爬梯 H=354","座",{"$f":"+一般計算!E457","v":{"$error":"#VALUE!"}}]
["八.18","廁所熱固性板隔間 含門扇,五金,掛鈎","間",{"$f":"+一般計算!E459","v":{"$error":"#VALUE!"}}]
["八.19","小便斗隔板","片",{"$f":"+一般計算!E461","v":{"$error":"#VALUE!"}}]
["八.20","單元廁所馬桶背板及上方蓋板","組",{"$f":"+一般計算!E463","v":{"$error":"#VALUE!"}}]
["八.21","單元小便斗面板","組",{"$f":"+一般計算!E465","v":{"$error":"#VALUE!"}}]
["八.22","小便斗上方人造石蓋板","M",{"$f":"+一般計算!E467","v":{"$error":"#VALUE!"}}]
["八.23","行動不便小便斗扶手","組",{"$f":"+一般計算!E469","v":{"$error":"#VALUE!"}}]
["八.24","行動不便廁所扶手配件","間",{"$f":"+一般計算!E471","v":{"$error":"#VALUE!"}}]
["八.25","人造石洗手台面","M",{"$f":"+一般計算!E473","v":{"$error":"#VALUE!"}}]
["八.26","三重明鏡","M2",{"$f":"+一般計算!E475","v":{"$error":"#VALUE!"}}]
["八.27","茶水間不銹鋼流理台含水槽及吊櫃 L=200CM","座",{"$f":"+一般計算!E477","v":{"$error":"#VALUE!"}}]
["八.19","汽車停車位劃線","個",{"$f":"+一般計算!E479","v":{"$error":"#VALUE!"}}]
["八.20","行動不便汽車停車位劃線(含標誌,共用走道)","個",{"$f":"+一般計算!E482","v":{"$error":"#VALUE!"}}]
["八.21","機車停車位劃線","個",{"$f":"+一般計算!E484","v":{"$error":"#VALUE!"}}]
["八.22","行動不便機車位(含標誌)","個",{"$f":"+一般計算!E486","v":{"$error":"#VALUE!"}}]
["八.23","一樓裝卸車位","個",{"$f":"+一般計算!E488","v":{"$error":"#VALUE!"}}]
["八.24","車輪檔","個",{"$f":"+一般計算!E490","v":{"$error":"#VALUE!"}}]
["八.25","防撞條","個",{"$f":"+一般計算!E492","v":{"$error":"#VALUE!"}}]
["八.26","反射鏡","個",{"$f":"+一般計算!E495","v":{"$error":"#VALUE!"}}]
["八.27","方向箭頭","個",{"$f":"+一般計算!E497","v":{"$error":"#VALUE!"}}]
["八.28","車道截水溝","M",{"$f":"+一般計算!E499","v":{"$error":"#VALUE!"}}]
["八.29","筏基連通管 6\"","支",{"$f":"+一般計算!E501","v":{"$error":"#VALUE!"}}]
["八.30","筏基通氣管 4\"","支",{"$f":"+一般計算!E503","v":{"$error":"#VALUE!"}}]
[null,"  計"]
[null,"廁所設備,馬桶,小便斗等型式由業主決定,並由機電廠施作"]
[null,"充電樁規格採DC快充型式,由機電廠商建置"]
[]
["九","電梯設備工程(含吊掛鋼樑等安裝須求項目)"]
["九.1","乘客兼行動不便電梯 1000KG 90M/Min 12停","部",{"$f":"+一般計算!E506","v":{"$error":"#VALUE!"}}]
["九.2","乘客梯 1000KG 90M/Min 12停","部",{"$f":"+一般計算!E507","v":{"$error":"#VALUE!"}}]
["九.3","載貨電梯 3000KG 60M/Min 13停","部",{"$f":"+一般計算!E508","v":{"$error":"#VALUE!"}}]
["九.4","乘客電梯 雙向門 1000KG 90M/Min 9停","部",{"$f":"+一般計算!E509","v":{"$error":"#VALUE!"}}]
[null,null,null,{"$f":"+一般計算!E510","v":0}]
["十","景觀及植栽工程",null,{"$f":"+一般計算!E511","v":0}]

{"sheet":"單價分析","index":1,"n_rows":814,"n_cols":15,"rows_kept":814,"cut":false,"hidden":false,"merged":[[0,0,0,6]]}
["彭 定 吉 建 築 師 事 務 所"]
["單  價  分  析  表"]
["業 主: 樂迦再生科技股份有限公司",null,null,null,null,"日    期:2022-07-18"]
["工程名稱:竹北生醫園區廠房新建工程",null,null,null,null,"施工地點:竹北生醫園區"]
["項次","名                稱","單位","數   量","單   價","複    價","備    註"]
[]
[]
[]
[]
[]
[]
[]
[]
[]
[]
[]
[]
[]
[]
[]
[]
[]
[]
[]
[]
[]
[]
[]
[]
[]
[]
[]
[]
[]
[]
[]
[]
[]
[]
[]
[]
[]
[]
[]
[]
[]
[]
[]
[]
[]
[]
[]
[]
[]
[]
[]
[]
[]
[]
[]
[]
[]
[]
[]
[]
[]
[]
[]
[]
[]
[]
[]
[]
[]
[]
[]
[]
[]
[]
[]
[]
[]
[]
[]
[]
[]
[]
[]
[]
[]
[]
[]
[]
[]
[]
[]
[]
[]
[]
[]
[]
[]
[]
[]
[null,null,null,null,null,null,null,{"$f":"(2.05*6.7*2.24+1.05*16*0.994)*1.05","v":49.838880000000003}]
[]
[]
[]
[]
[]
[]
[]
[]
[]
[]
[]
[]
[]
[]
[null,null,null,null,null,null,null,{"$f":"(3.2*6.7*2.24+1.05*18*0.994)*1.05","v":70.152810000000002}]
[]
[]
[]
[]
[]
[]
[]
[]
[]
[]
[]
[]
[]
[]
[null,null,null,null,null,null,null,{"$f":"(3.5*6.7*2.24+1.05*20*0.994)*1.05","v":77.072100000000006}]
[]
[]
[]
[]
[]
[]
[]
[]
[]
[]
[]
[]
[]
[]
[]
[null,null,null,null,null,null,null,{"$f":"(3.35*12*2.24+4.6*9*0.994)*1.05","v":137.75958}]
[]
[]
[]
[]
[]
[]
[]
[]
[]
[]
[]
[]
[null,null,null,null,null,null,null,{"$f":"(3.75*12*2.24+4.6*10*0.994)*1.05","v":153.8502}]
[]
[]
[]
[]
[]
[]
[]
[]
[]
[]
[]
[]
[]
[]
[]
[]
[]
[]
[]
[]
[]
[]
[]
[]
[]
[]
[]
[]
[]
[]
[]
[]
[]
[]
[null,null,null,null,null,null,null,"#5",null,{"$f":"(20.6+1.56*2+0.25)*54*2+(10.6+1.56+0.25)*103*2","v":5145.22},{"$f":"+J199*1.56*1.05","v":8427.8703600000008}]
[null,null,null,null,null,null,null,"#4",null,{"$f":"(3.6*12)*15+2.1*2*18*22","v":2311.2000000000003},{"$f":"+J200*0.994*1.05","v":2412.1994400000003}]
[null,null,null,null,null,null,null,"#4",null,{"$f":"(20.6+1.05*2+0.4)*54*2+(10.6+1.25*2+0.4)*103*2+3.7*23*2*4+3.7*23*2*8+(20.6+1.25*2+0.4)*12*4+(10.6+1.25+0.4)*12*4","v":9034.2000000000007},{"$f":"+J201*0.994*1.04","v":9339.1945919999998}]
[null,null,null,null,null,null,null,null,null,null,0]
[null,null,null,null,null,null,null,"#8",null,{"$f":"4.1*8*15","v":491.99999999999994},{"$f":"+J203*3.98*1.08","v":2114.8128000000002}]
[null,null,null,null,null,null,null,"#7",null,{"$f":"(10.6+0.7+1.9)*8*5+(20.6+0.7+1.9*2)*8*3","v":1130.4000000000001},{"$f":"+J204*3.05*1.07","v":3689.0604000000003}]
[null,null,null,null,null,null,null,null,null,null,{"$f":"SUM(K199:K204)","v":25983.137591999999}]
[]
[]
[]
[]
[]
[]
[]
[]
[]
[]
[]
[]
[]
[]
[]
[null,null,null,null,null,null,null,null,null,"#4",{"$f":"1.05*26*2+1.05*37*2+1.05*5","v":137.55000000000001},{"$f":"+K221*0.994*1.04","v":142.19368800000001}]
[null,null,null,null,null,null,null,null,null,"#5",{"$f":"(4.8+0.5)*5+(4.7+0.5)*5+(7.15+0.5)*5+1.5*5","v":98.25},{"$f":"+K222*1.56*1.05","v":160.93350000000001}]
[null,null,null,null,null,null,null,null,null,"#8",{"$f":"(4.8+0.8)*5","v":28},{"$f":"+K223*3.98*1.08","v":120.35520000000001}]
[null,null,null,null,null,null,null,null,null,null,null,{"$f":"SUM(L221:L223)","v":423.48238800000007}]
[]
[]
[]
[]
[]
[]
[]
[]
[null,null,null,null,null,null,null,null,null,"#4",{"$f":"1.05*16*2+4.3*5+1.05*19*2+1.05*5","v":100.25},{"$f":"+K233*0.994*1.05","v":104.630925}]
[null,null,null,null,null,null,null,null,null,"#5",{"$f":"(2.8+0.5)*3.4*2+3.1*3.4+1.5*5","v":40.479999999999997},{"$f":"+K234*1.56*1.05","v":66.306240000000003}]
[null,null,null,null,null,null,null,null,null,"#6",{"$f":"4.6*3.4","v":15.639999999999999},{"$f":"+K235*2.25*1.06","v":37.301400000000001}]
[null,null,null,null,null,null,null,null,null,null,null,{"$f":"SUM(L233:L235)","v":208.23856499999999}]
[]
[]
[]
[]
[]
[]
[]
[null,null,null,null,null,null,null,null,null,{"$f":"(2.85*134*0.994*1.04+(20+2.52)*24*6.41*1.1)+2.85*5*0.994*1.1","v":4221.298374}]
[null,null,null,null,null,null,null,null,null,{"$f":"0.8*0.8*0.7854*20*1.1","v":11.058432000000003}]
[null,null,null,null,null,null,null,null,null,{"$f":"0.8*0.8*0.7854*20","v":10.053120000000002}]
[]
[]
[]
[]
[]
[]
[]
[null,null,null,null,null,null,null,null,null,{"$f":"(3.48*196+3.48*12)*0.994*1.04+(23.4+2.52*2)*28*6.41*1.1","v":6363.1291584000001}]
[null,null,null,null,null,null,null,null,null,{"$f":"1*1*0.7854*23.4*1.08","v":19.848628799999997}]
[null,null,null,null,null,null,null,null,null,{"$f":"1*1*0.7854*23.4","v":18.378359999999997}]
[]
[]
[]
[]
[]
[]
[null,null,null,null,null,null,null,null,null,{"$f":"1.2*0.8","v":0.96}]
[null,null,null,null,null,null,null,null,null,{"$f":"4*5*0.56*1.05+1.1*10*2.25*1.06","v":37.995000000000005}]
[]
[]
[]
[]
[]
[null,null,null,null,null,null,null,null,null,{"$f":"1.2*1","v":1.2}]
[null,null,null,null,null,null,null,null,null,{"$f":"4.4*5*0.56*1.05+1.1*10*2.25*1.06","v":39.171000000000006}]
[]
[]
[]
[]
[]
[]
[]
[]
[]
[]
[]
[]
[]
[]
[]
[]
[]
[]
[]
[]
[]
[]
[]
[]
[]
[]
[]
[]
[]
[]
[]
[]
[]
[]
[]
[]
[]
[]
[]
[]
[]
[]
[]
[]
[]
[]
[]
[]
[]
[]
[]
[]
[]
[]
[]
[]
[]
[]
[]
[]
[]
[]
[]
[]
[]
[]
[]
[]
[]
[]
[]
[]
[]
[]
[]
[]
[]
[]
[]
[]
[]
[]
[]
[]
[]
[]
[]
[]
[]
[]
[]
[]
[]
[]
[]
[]
[]
[]
[]
[]
[]
[]
[]
[null,null,null,null,null,null,null,null,null,{"$f":"9*16*3.98*1.08+3*75*0.994*1.04+1.6*8*0.994*1.04","v":864.79772800000001}]
[null,null,null,null,null,null,null,null,null,{"$f":"0.8*0.8*0.7854*9*1.08","v":4.8858163200000009}]
[null,null,null,null,null,null,null,null,null,{"$f":"0.8*0.8*0.7854*9","v":4.5239040000000008}]
[]
[]
[]
[]
[]
[]
[null,null,null,null,null,null,null,null,{"$f":"4.45*2.45+4.45*2.23*0.5+2.45*0.8+2.45*1.23*0.5","v":19.331000000000003}]
[]
[]
[]
[]
[null,null,null,null,null,null,null,null,null,"#4",{"$f":"(2.75*4.1*2+1.05*22+4.85*8.2+1.05*22)*0.994*1.04","v":112.18363519999998}]
[]
[]
[]
[]
[]
[]
[]
[]
[]
[]
[]
[]
[]
[null,null,null,null,null,null,null,null,null,"#4",{"$f":"2.2*5+1.05*18+5.5*10+1.05*14*2","v":114.30000000000001},{"$f":"+K403*0.994*1.04","v":118.15876800000001}]
[null,null,null,null,null,null,null,null,null,"#5",{"$f":"5*5.2*2+1.2*5.5+3*5.5+5.2*5.2","v":102.14},{"$f":"+K404*1.56*1.05","v":167.30532000000002}]
[]
[null,null,null,null,null,null,null,null,null,null,null,{"$f":"+L403+L404","v":285.46408800000006}]
[]
[]
[]
[]
[]
[]
[]
[]
[]
[]
[]
[null,null,null,null,null,null,null,null,{"$f":"3.2*4.1*2+1.05*8*2","v":43.04},{"$f":"+I418*0.994*1.04","v":44.493030400000002}]
[]
[]
[]
[]
[]
[]
[]
[]
[]
[]
[]
[]
[]
[]
[]
[]
[]
[]
[]
[]
[]
[]
[]
[]
[]
[]
[]
[]
[]
[]
[]
[]
[]
[]
[]
[]
[]
[]
[]
[]
[]
[]
[]
[]
[]
[]
[]
[]
[]
[]
[]
[]
[]
[]
[]
[]
[]
[]
[]
[]
[]
[]
[]
[]
[]
[]
[]
[]
[]
[]
[]
[]
[]
[]
[]
[]
[]
[]
[]
[]
[]
[]
[]
[]
[]
[]
[]
[]
[]
[]
[]
[]
[]
[]
[]
[]
[]
[]
[]
[]
[]
[]
[]
[]
[]
[]
[]
[]
[]
[]
[]
[]
[]
[]
[]
[]
[]
[]
[]
[]
[]
[]
[]
[]
[]
[]
[]
[]
[]
[]
[]
[]
[]
[]
[]
[]
[]
[]
[]
[]
[]
[]
[]
[]
[]
[]
[]
[]
[]
[]
[]
[]
[]
[]
[]
[]
[]
[]
[]
[]
[]
[]
[]
[]
[]
[]
[]
[]
[]
[]
[]
[]
[]
[]
[]
[]
[]
[]
[]
[]
[]
[]
[]
[]
[]
[]
[]
[]
[]
[]
[]
[]
[]
[]
[]
[]
[]
[]
[]
[]
[]
[]
[]
[null,null,null,null,null,null,null,null,{"$f":"80.92*49.9+5.97*20.9","v":4162.6809999999996},{"$f":"105.73*2500","v":264325},{"$f":"+I622+J622","v":268487.68099999998}]
[null,null,null,null,null,null,null,null,{"$f":"6.65*4.07*4+8.6*6.65*2+0.4*4.2*4+0.46*8.6*2","v":237.274}]
[null,null,null,null,null,null,null,null,{"$f":"7.78*3.75*2","v":58.35}]
[null,null,null,null,null,null,null,null,{"$f":"7.8*3.75*2*10.89","v":637.06500000000005}]
[]
[]
[]
[]
[]
[]
[]
[null,null,null,null,null,null,null,null,{"$f":"6.65*4.07*2+8.6*2","v":71.331000000000003}]
[]
[]
[]
[]
[]
[]
[]
[]
[null,null,null,null,null,null,null,null,{"$f":"(29.672+1.741)*9.15","v":287.42894999999999}]
[null,null,null,null,null,null,null,null,{"$f":"31.413*(0.23+2.41+2.06+0.6)+4.68*1.741","v":174.63677999999999}]
[]
[null,null,null,null,null,null,null,null,{"$f":"(0.9*3+0.97+1.01)*29.67-1.8*0.9","v":137.23560000000001},{"$f":"+I645*10.89","v":1494.4956840000002}]
[null,null,null,null,null,null,null,null,{"$f":"0.97*29.672+174.6","v":203.38183999999998}]
[null,null,null,null,null,null,null,null,{"$f":"9.12+9.1+8.6","v":26.82}]
[]
[]
[]
[]
[]
[]
[null,null,null,null,null,null,null,null,{"$f":"30.1*8.24-4.212*8.6","v":211.80080000000004}]
[]
[null,null,null,null,null,null,null,null,{"$f":"2.68*30.1+1.15*(10.76+10.74)","v":105.393}]
[]
[null,null,null,null,null,null,null,null,{"$f":"(10.74+10.76)*4.64+1.59*8.6","v":113.434},{"$f":"+I658*10.89","v":1235.2962600000001}]
[null,null,null,null,null,null,null,null,{"$f":"(10.74+10.76)*0.97+105.39","v":126.245}]
[null,null,null,null,null,null,null,null,{"$f":"10.74+10.76","v":21.5}]
[]
[]
[]
[]
[]
[null,null,null,null,null,null,null,null,{"$f":"(37.08+28.03)*9.15","v":595.75650000000007}]
[]
[null,null,null,null,null,null,null,null,{"$f":"(0.905+0.4+0.29+1.27+0.605)*(37.08+28.03)+(0.905+0.6)*57.1","v":311.86720000000003}]
[]
[null,null,null,null,null,null,null,null,{"$f":"(0.9*3+0.97+1.01)*(37.078+28.03)*10.89","v":3318.2422416000004}]
[null,null,null,null,null,null,null,null,{"$f":"(1.27+0.29+0.97+0.905)*(37.078+28.03)+(0.905+0.6)*57.1","v":309.58148000000006}]
[null,null,null,null,null,null,null,null,{"$f":"37.08+28.03+57.1-5.2","v":117.01}]
[]
[]
[]
[]
[]
[]
[null,null,null,null,null,null,null,null,{"$f":"(13.05+11.75+3.22)*6.7","v":187.73400000000001}]
[]
[null,null,null,null,null,null,null,null,{"$f":"(13.05+11.75+3.22)*(0.4+0.29+1.27+0.1+0.605)","v":74.673299999999998}]
[]
[null,null,null,null,null,null,null,null,{"$f":"(13.05+11.75+3.22)*4.64-1.91*4.35","v":121.7043},{"$f":"+I683*10.89","v":1325.359827}]
[null,null,null,null,null,null,null,null,{"$f":"(13.05+11.75+3.22)*(0.4+0.29+1.27+0.1+0.605+0.97)","v":101.8527}]
[null,null,null,null,null,null,null,null,{"$f":"11.775+3.22","v":14.995000000000001}]
[null,null,null,null,null,null,null,null,{"$f":"1.8*1.91","v":3.4379999999999997}]
[]
[]
[]
[]
[]
[]
[]
[null,null,null,null,null,null,null,null,{"$f":"24.2*36.05","v":872.40999999999985}]
[null,null,null,null,null,null,null,null,{"$f":"(1.54+0.23+0.073)*24.2","v":44.6006}]
[]
[null,null,null,null,null,null,null,null,{"$f":"34.45*24.2","v":833.69},{"$f":"+I697*10.89","v":9078.8841000000011}]
[null,null,null,null,null,null,null,null,{"$f":"(0.7+1.07*3+1.55*5)*24.2","v":282.17199999999997}]
[null,null,null,null,null,null,null,null,{"$f":"24.2*6","v":145.19999999999999}]
[null,null,null,null,null,null,null,null,{"$f":"24.2*5","v":121}]
[null,null,null,null,null,null,null,null,{"$f":"(4.5*2+6.7*2+5+6.2)*4","v":134.4}]
[null,null,null,null,null,null,null,null,{"$f":"6.81+8.61+10.41+12.21+14.01+15.81+17.61+19.41+21.21","v":126.09}]
[]
[]
[]
[]
[]
[null,null,null,null,null,null,null,null,{"$f":"57.18*35.55+0.5*17.69","v":2041.5939999999998}]
[]
[null,null,null,null,null,null,null,null,{"$f":"(1.54+0.23+0.073)*57.18+0.46*39.49","v":123.54814}]
[]
[null,null,null,null,null,null,null,null,{"$f":"33.55*39.49+34.51*17.69","v":1935.3714},{"$f":"+I712*10.89","v":21076.194546000002}]
[]
[null,null,null,null,null,null,null,null,{"$f":"(0.7+1.07*3+1.55*5)*57.18+0.46*39.49","v":684.88419999999996}]
[null,null,null,null,null,null,null,null,{"$f":"57.18*6","v":343.08}]
[null,null,null,null,null,null,null,null,{"$f":"57.18*5+39.49","v":325.39}]
[null,null,null,null,null,null,null,null,{"$f":"(4.5*2+6.7*2+5+6.2)*10","v":336}]
[null,null,null,null,null,null,null,null,{"$f":"12.49+16.09+19.69+23.29+26.89+30.49+34.09+37.69+41.29","v":242.01}]
[]
[]
[]
[]
[]
[]
[null,null,null,null,null,null,null,null,{"$f":"8.225*35.55+1.135*1.85","v":294.49849999999992}]
[null,null,null,null,null,null,null,null,{"$f":"(1.54+0.23+0.073+0.46)*8.225+1.135*1.85","v":21.041924999999999}]
[]
[null,null,null,null,null,null,null,null,{"$f":"8.225*33.61-1.8*1.89-1.8*2.433-1.8*2.14-1.8*2.1-1.8*2.14-1.8*2.69","v":252.3348500000001},{"$f":"+I728*10.89","v":2747.9265165000011}]
[null,null,null,null,null,null,null,null,{"$f":"(0.7+1.07*3+1.55*5)*8.225","v":95.903499999999994}]
[null,null,null,null,null,null,null,null,{"$f":"6.53*6","v":39.18}]
[null,null,null,null,null,null,null,null,{"$f":"-1.8*1.89-1.8*2.433-1.8*2.14-1.8*2.1-1.8*2.14-1.8*2.69","v":-24.107399999999998}]
[null,null,null,null,null,null,null,null,{"$f":"(4.5*2+6.7*2+5+6.2)*4","v":134.4}]
[null,null,null,null,null,null,null,null,{"$f":"8.225*5","v":41.125}]
[null,null,null,null,null,null,null,null,{"$f":"(4.5*2+6.7*2+5+6.2)*2","v":67.2}]
[null,null,null,null,null,null,null,null,{"$f":"9.225*9","v":83.024999999999991}]
[]
[]
[]
[]
[]
[]
[null,null,null,null,null,null,null,null,{"$f":"11.775*37.4","v":440.38499999999999}]
[null,null,null,null,null,null,null,null,{"$f":"(1.54+0.23+0.073+2.41)*11.775","v":50.079075000000003}]
[]
[null,null,null,null,null,null,null,null,{"$f":"34.01*11.775","v":400.46774999999997},{"$f":"+I745*10.89","v":4361.0937974999997}]
[]
[null,null,null,null,null,null,null,null,{"$f":"(0.7+1.07*3+1.55*5)*11.775","v":137.29650000000001}]
[null,null,null,null,null,null,null,null,{"$f":"11.775*5","v":58.875}]
[null,null,null,null,null,null,null,null,{"$f":"(4.5*2+6.7*2+5+6.2)*2","v":67.2}]
[null,null,null,null,null,null,null,null,{"$f":"11.775*9","v":105.97500000000001}]
[]
[]
[]
[]
[]
[]
[null,null,null,null,null,null,null,null,{"$f":"8.075*37.4","v":302.00499999999994}]
[null,null,null,null,null,null,null,null,{"$f":"(1.54+0.23+0.073+1.05)*8.075+1.005*1.09","v":24.456424999999996}]
[]
[null,null,null,null,null,null,null,null,{"$f":"34.81*8.075-3.915*(1.59+2.13+1.835+1.795+1.835+1.959)","v":237.46199000000001},{"$f":"+I760*10.89","v":2585.9610711000005}]
[null,null,null,null,null,null,null,null,{"$f":"(0.7+1.07*3+1.55*5)*1.09+(0.9+1.093+1.05*5+1.1*2)*6.875","v":77.630025000000018}]
[null,null,null,null,null,null,null,null,{"$f":"8.075*5","v":40.375}]
[null,null,null,null,null,null,null,null,{"$f":"(4.5*2+6.7*2+5+6.2)*1","v":33.6}]
[null,null,null,null,null,null,null,null,{"$f":"8.075*9","v":72.674999999999997}]
[]
[]
[]
[]
[]
[]
[null,null,null,null,null,null,null,null,"H-350*350*12*19",{"$f":"5.15*12","v":61.800000000000004},135,{"$f":"+J771*K771*1.1","v":9177.3000000000011},null,"鋁板",{"$f":"4*(19.375+20.884)*2+0.5*(4+19.375+20.84)*2+0.67*5*2+1.6*2*5.15*12+5.05*(48.975+26.609)*2+0.67*(48.975+26.609)+0.3*(48.975+26.609)","v":1407.4618800000001}]
[null,null,null,null,null,null,null,null,"H-294*200*8*12",{"$f":"4.5*12","v":54},55.8,{"$f":"+J772*K772*1.1","v":3314.52},null,null,{"$f":"+O771*1.1","v":1548.2080680000001}]
[null,null,null,null,null,null,null,null,"H-194*150*6*9",{"$f":"(48.9+26.6)*2","v":151},29.9,{"$f":"+J773*K773*1.1","v":4966.3900000000003}]
[null,null,null,null,null,null,null,null,"H-150*150*7*10",{"$f":"(19.375+20.884)*4+0.5*4*2","v":165.036},31.1,{"$f":"+J774*K774*1.1","v":5645.8815600000007}]
[null,null,null,null,null,null,null,null,"C75*45*2.3",{"$f":"(48.98+26.66)*10+21.75*12+4*16*2+0.67*6*12+(19.375+20.887)*2*5","v":1596.2600000000002},3.52,{"$f":"+J775*K775*1.1","v":6180.7187200000008}]
[null,null,null,null,null,null,null,null,"C-60*30*1.6",{"$f":"(0.9+0.5)*2*5*12+4*4*2","v":200},1.63,{"$f":"+J776*K776*2.5","v":815}]
[null,null,null,null,null,null,null,null,{"$f":"4*(19.375+20.884)+5.05*(48.975+26.605)","v":542.71499999999992},null,null,{"$f":"+L775+L776","v":6995.7187200000008}]
[]
[]
[]
[]
[null,null,null,null,null,null,null,null,"H-194*150*6*9",{"$f":"0.55","v":0.55000000000000004},29.9,{"$f":"+J782*K782*1.1","v":18.089500000000001}]
[null,null,null,null,null,null,null,null,"口-100*100*3.2",1.1000000000000001,9.52,{"$f":"+J783*K783*1.1","v":11.5192}]
[null,null,null,null,null,null,null,null,"C75*45*2.3",4.4000000000000004,3.52,17.036800000000003]
[null,null,null,null,null,null,null,null,"L-50*50*5",4.4000000000000004,4.43,21.441200000000002]
[null,null,null,null,null,null,null,null,"C-60*30*1.6",14,1.63,25.102000000000004]
[null,null,null,null,null,null,null,null,null,null,null,{"$f":"SUM(L783:L786)","v":75.09920000000001}]
[]
[]
[]
[null,null,null,null,null,null,null,null,"H-194*150*6*9",0.36,29.9,{"$f":"+J791*K791*1.1","v":11.840400000000001}]
[null,null,null,null,null,null,null,null,"口-100*100*3.2",1.1000000000000001,9.52,{"$f":"+J792*K792*1.1","v":11.5192}]
[null,null,null,null,null,null,null,null,"C75*45*2.3",4.4000000000000004,3.52,17.036800000000003]
[null,null,null,null,null,null,null,null,"L-50*50*5",4.4000000000000004,4.43,21.441200000000002]
[null,null,null,null,null,null,null,null,"C-60*30*1.6",11,1.63,19.723000000000003]
[null,null,null,null,null,null,null,null,null,null,null,{"$f":"SUM(L792:L795)","v":69.720200000000006}]
[]
[]
[]
[]
[]
[]
[]
[]
[]
[]
[]
[]
[]
[null,null,null,null,null,null,null,null,{"$f":"(6*3+2.2*71.8+(12+7.6+10.8)*20.9)*1.15","v":933.01800000000003}]
[null,null,null,null,null,null,null,null,{"$f":"(0.94*3+2.45*2)*(7.64+10.8)*3.3*1.05+(0.41*4*4+4.9*4)*4+(0.41*4+2+2*4)*3.3*1.05","v":638.23891200000003}]
[null,null,null,null,null,null,null,null,{"$f":"6.79*(7.64+10.8)+1.64*(4.9*4+0.9)+1.34*2.86","v":162.66000000000003}]
[]
[null,null,null,null,null,null,null,null,{"$f":"(9.03+7.24)/2*4.9+1*0.9","v":40.761499999999998}]

{"sheet":"一般計算","index":2,"n_rows":1383,"n_cols":8,"rows_kept":1383,"cut":false,"hidden":false,"merged":[[0,0,0,5]]}
[]
[null,"工  程  數  量  計  算"]
[null,"業 主: 樂迦再生科技股份有限公司",null," 日    期:2022-0"]
[null,"工程名稱:竹北生醫園區廠房新建工程",null," 施工地點:"]
[null,"項         目","數      量      計       算","數量合計",null,"單位"]
[null,"土木建築工程"]
["一","假設工程"]
["1","基地清理及整地(高程整至GL0)",4456.8100000000004,{"$f":"一般計算","v":{"$error":"#NAME?"}},{"$f":"ROUND(SUM(D8),0)","v":{"$error":"#VALUE!"}},"M2"]
["2","甲種施工安全圍籬(含防溢座,相關設施及維護費)","68.27+58+69.4+72.5-12-8",{"$f":"一般計算","v":{"$error":"#NAME?"}},{"$f":"ROUND(SUM(D9),0)","v":{"$error":"#VALUE!"}},"M"]
["3","施工圍籬綠美化 ","69.4-12-8",{"$f":"一般計算","v":{"$error":"#NAME?"}},{"$f":"ROUND(SUM(D10),0)","v":{"$error":"#VALUE!"}},"M2"]
["4","施工圍籬，折疊式大門，12M，(含地坪混凝土鋪設)",1,{"$f":"一般計算","v":{"$error":"#NAME?"}},{"$f":"ROUND(SUM(D11),0)","v":{"$error":"#VALUE!"}},"樘"]
["5","施工圍籬，折疊式大門，8M，(含地坪混凝土鋪設)",1,{"$f":"一般計算","v":{"$error":"#NAME?"}},{"$error":"#VALUE!"},"樘"]
["6","環境保護，沖洗設備，(臨時洗車台設備及防污設備)",2,{"$f":"一般計算","v":{"$error":"#NAME?"}},{"$error":"#VALUE!"},"處"]
["7","廠區駐地警衛保全及崗亭",2,{"$f":"一般計算","v":{"$error":"#NAME?"}},{"$error":"#VALUE!"},"處"]
["8","工地臨時辦公室(含水電設備及傢俱)",1,{"$f":"一般計算","v":{"$error":"#NAME?"}},{"$error":"#VALUE!"},"式"]
["9","臨時廁所，含化糞池",4,{"$f":"一般計算","v":{"$error":"#NAME?"}},{"$error":"#VALUE!"},"座"]
["10","工地臨時給排水,電，照明，監視設備及臨時水電費",1,{"$f":"一般計算","v":{"$error":"#NAME?"}},{"$error":"#VALUE!"},"式"]
["11","施工中安全防護﹑警示措施及設備費(含各種開口),消防設施",1,{"$f":"一般計算","v":{"$error":"#NAME?"}},{"$error":"#VALUE!"},"式"]
["12","環境保護，灑水設施，各項汙染物防制及設置費",1,{"$f":"一般計算","v":{"$error":"#NAME?"}},{"$error":"#VALUE!"},"式"]
["13","營建工地逕流廢水污染削減計畫書",1,{"$f":"一般計算","v":{"$error":"#NAME?"}},{"$error":"#VALUE!"},"式"]
["14","營建廢棄物及生活垃圾運棄及吊運費",1,{"$f":"一般計算","v":{"$error":"#NAME?"}},{"$error":"#VALUE!"},"式"]
["15","施工之臨時抽排水費",1,{"$f":"一般計算","v":{"$error":"#NAME?"}},{"$error":"#VALUE!"},"式"]
["16","工程告示牌",2,{"$f":"一般計算","v":{"$error":"#NAME?"}},{"$error":"#VALUE!"},"面"]
["17","工程攝錄影，紀錄片後製及報表相片等費用",1,{"$f":"一般計算","v":{"$error":"#NAME?"}},{"$error":"#VALUE!"},"式"]
["18","完工交屋前清潔費",1,{"$f":"一般計算","v":{"$error":"#NAME?"}},{"$error":"#VALUE!"},"式"]
["19","鄰房鑑定費",1,{"$f":"一般計算","v":{"$error":"#NAME?"}},{"$error":"#VALUE!"},"式"]
["20","工程介面整合圖說及施工圖繪製",1,{"$f":"一般計算","v":{"$error":"#NAME?"}},{"$error":"#VALUE!"},"式"]
["21","開工，放樣勘驗，使照請領費用",1,{"$f":"一般計算","v":{"$error":"#NAME?"}},{"$error":"#VALUE!"},"式"]
["22","各項民俗儀式",1,{"$f":"一般計算","v":{"$error":"#NAME?"}},{"$f":"ROUND(SUM(D29),0)","v":{"$error":"#VALUE!"}},"式"]
["23","公共設施復原(施工及申請)",1,{"$f":"一般計算","v":{"$error":"#NAME?"}},{"$error":"#VALUE!"},"式"]
["24","施工電梯"]
["25","施工固定式吊車"]
["26","外部施工鷹架含安全網 含斜籬",null,null,{"$f":"ROUND(SUM(D34:D40),0)","v":{"$error":"#VALUE!"}},"M2"]
[null," 西北向 A梯","(54.05+1.2)*1.9+(57.05+1.2)*(13.3+5.8)",{"$f":"一般計算","v":{"$error":"#NAME?"}}]
[null," 西北向 外牆","(55.25+1.2)*10.3+(58.55+1.2)*(5+30.6)+(55.05+1.2)*7.65",{"$f":"一般計算","v":{"$error":"#NAME?"}}]
[null," 東北向","(55.05+1.2)*1.2+(59.75+1.2)*11.93+(57.05+1.2)*(1.9+31+3.63)",{"$f":"一般計算","v":{"$error":"#NAME?"}}]
[null," 東南向","(59.75+1.2)*11.33+(55.05+1.2)*54",{"$f":"一般計算","v":{"$error":"#NAME?"}}]
[null," 西南向","(58.55+1.2)*13.63+(57.05+1.2)*2.65+(55.05+1.2)*33.9",{"$f":"一般計算","v":{"$error":"#NAME?"}}]
[null," 屋頂內側","(5.5+1.2)*(43.2+27+6)+(9+1.2)*5.9+6.1+21+5.1*1+(5.7+1.2)*10.8",{"$f":"一般計算","v":{"$error":"#NAME?"}}]
[null,null,"(4.5+1.2)*(13.3+8.6)+(3+1.2)*(9.33+17.4)+(7.5+1.2)*12.6+(9+1.2)*(9.3+9.9)",{"$f":"一般計算","v":{"$error":"#NAME?"}}]
[27,"室內高層及挑空區週邊工作架 >4.5M",null,null,{"$f":"ROUND(SUM(D42:D47),0)","v":{"$error":"#VALUE!"}},"M2"]
[null,"1,2F","5.5*((27+38)*2+(36+10.8)*2+(12.4+18)*2+(3.7+10)*2)",{"$f":"一般計算","v":{"$error":"#NAME?"}}]
[null,null,"6.1*((44.07+37.88)*2+(13.11+9.83)+(37.88*2+3.75*2)+(17+6.3)*2)",{"$f":"一般計算","v":{"$error":"#NAME?"}}]
[null,"3~4F","8.5*(43.2+27)*2",{"$f":"一般計算","v":{"$error":"#NAME?"}}]
[null,"5~6F","8.5*(43.2+27)*2",{"$f":"一般計算","v":{"$error":"#NAME?"}}]
[null,"7~8F","8.5*(43.2+27)*2",{"$f":"一般計算","v":{"$error":"#NAME?"}}]
[null,"9~10F","8.5*(43.2+27)*2",{"$f":"一般計算","v":{"$error":"#NAME?"}}]
[28,"高空工作車及移動工作架≦4.5M",1,{"$f":"一般計算","v":{"$error":"#NAME?"}},{"$f":"+D48","v":{"$error":"#VALUE!"}},"式"]
[null,"  計"]
[]
["二","基礎工程"]
["二.1","地下開挖安全措施"]
["二.1.1","擋土型鋼 H300*300*10*15 @50 L=14M","111+57+57",{"$f":"一般計算","v":{"$error":"#NAME?"}},{"$f":"ROUND(SUM(D53),0)","v":{"$error":"#VALUE!"}},"支"]
["二.1.2","擋土型鋼 H300*300*10*15 @50 L=16M","111+47+47",{"$f":"一般計算","v":{"$error":"#NAME?"}},{"$f":"ROUND(SUM(D54),0)","v":{"$error":"#VALUE!"}},"支"]
["二.1.3","H300 中間樁 L=12(含止水板及截樁3.6M)","9*4",{"$f":"一般計算","v":{"$error":"#NAME?"}},{"$f":"ROUND(SUM(D55),0)","v":{"$error":"#VALUE!"}},"支"]
["二.1.4","H300 中間樁 L=14(含止水板及截樁3.6M)","9*4",{"$f":"一般計算","v":{"$error":"#NAME?"}},{"$f":"ROUND(SUM(D56),0)","v":{"$error":"#VALUE!"}},"支"]
["二.1.5","第一層H型鋼橫擋及支撐 H-350*350*12*19 含H350圍令","55.4*52.4",{"$f":"一般計算","v":{"$error":"#NAME?"}},{"$error":"#VALUE!"},"M2"]
["二.1.6","第二層H型鋼橫擋及支撐 H-400*400*13*21 含H400圍令","55.4*52.4",{"$f":"一般計算","v":{"$error":"#NAME?"}},{"$error":"#VALUE!"},"M2"]
["二.1.7","第三層H型鋼橫擋回撐 H-250*250*9*14 含H250圍令","16.15*4.3+7.75*4.3+55.4*18.6",{"$f":"一般計算","v":{"$error":"#NAME?"}},{"$error":"#VALUE!"},"M2"]
["二.1.8","施工輔助，施工構台","20*52.4+10*35.4",{"$f":"一般計算","v":{"$error":"#NAME?"}},{"$error":"#VALUE!"},"M2"]
["二.1.9","構台及四週安全欄杆,安全母索,施工便梯","(56.4+53.4)*2+(55.4*2+52.4*2)",{"$f":"一般計算","v":{"$error":"#NAME?"}},{"$error":"#VALUE!"},"M"]
["二.1.10","挖土方及運棄處理費(含警衛室)",null,null,{"$f":"ROUND(SUM(D63:D66),0)","v":{"$error":"#VALUE!"}},"M3",{"$f":"8.4+10.8*4+1","v":52.6},{"$f":"9*4+7.8+4.9+0.5+0.4","v":49.599999999999994}]
[null,null,"(54.7*52.3-2.13*11.65*0.5)*9.4+(18.75*44.55-2.13*11.65*0.5+10.75*13.95)*1.75",{"$f":"一般計算","v":{"$error":"#NAME?"}}]
[null,null,"0.15*3.5*5.8+0.15*0.15*0.5*(3.5+5.8)*2",{"$f":"一般計算","v":{"$error":"#NAME?"}}]
[null,null,"2.3*2.3*0.5*(44.55+4.8+10.75)",{"$f":"一般計算","v":{"$error":"#NAME?"}}]
[null,null,"0.6*4.5*4+0.6*0.6*(4.5+5.2)*2+0.6*0.6*(4.5+5.2)*2*0.5",{"$f":"一般計算","v":{"$error":"#NAME?"}}]
["二.1.11","廢方運棄及土方處理費(含警衛室)",null,null,{"$f":"ROUND(SUM(D68:D70),0)","v":{"$error":"#VALUE!"}},"M3"]
[null,null,"9.4*(52.6*49.6-2.13*11.65*0.5)+1.75*(43.2*17.4-2.13*11.65*0.5+9.4*12.6)",{"$f":"一般計算","v":{"$error":"#NAME?"}}]
[null,null,"0.15*(3.5*5.8)+2.3*2.3*0.5*(44.55+4.8+10.75)",{"$f":"一般計算","v":{"$error":"#NAME?"}}]
[null,null,"0.6*4.5*4",{"$f":"一般計算","v":{"$error":"#NAME?"}}]
["二.1.12","現地土方回填(含警衛室)",null,null,{"$f":"ROUND(SUM(D72),0)","v":{"$error":"#VALUE!"}},"M2"]
[null,null,{"$f":"E62-E67","v":{"$error":"#VALUE!"}},{"$f":"一般計算","v":{"$error":"#NAME?"}}]
["二.2","安全監測系統"]
["二.2.1","傾斜儀 L=14,16","4+4",{"$f":"一般計算","v":{"$error":"#NAME?"}},{"$f":"ROUND(SUM(D74),0)","v":{"$error":"#VALUE!"}},"處"]
["二.2.2","建物傾斜計",6,{"$f":"一般計算","v":{"$error":"#NAME?"}},{"$error":"#VALUE!"},"處"]
["二.2.3","支撐應變計 (振弦式)",2,{"$f":"一般計算","v":{"$error":"#NAME?"}},{"$error":"#VALUE!"},"組"]
["二.2.4","水位觀測井 12M",2,{"$f":"一般計算","v":{"$error":"#NAME?"}},{"$error":"#VALUE!"},"處"]
["二.2.5","沉陷觀測釘",40,{"$f":"一般計算","v":{"$error":"#NAME?"}},{"$error":"#VALUE!"},"處"]
["二.2.6","中間柱隆起桿",72,{"$f":"一般計算","v":{"$error":"#NAME?"}},{"$error":"#VALUE!"},"處"]
[]
["三","RC結構工程"]
["三.1","施工測量，放樣",null,null,{"$f":"ROUND(SUM(D83),0)","v":{"$error":"#VALUE!"}},"M2"]
[null,null,"2555.83+2289.98+1997.08+1958.56+1955.11+797.14+2008.03+797.14+2008.03+797.14+2008.03+656.89+255.27+92.65",{"$f":"一般計算","v":{"$error":"#NAME?"}}]
["三.2","結構用混凝土 140kgf/cm2",null,null,{"$f":"ROUND(SUM(D85),0)","v":{"$error":"#VALUE!"}},"M3"]
[null,null,"0.1*(52.8*49.8-2.13*11.65*0.5)+0.1*(4.1*4.6)",{"$f":"一般計算","v":{"$error":"#NAME?"}},{"$f":"ROUND(SUM(D85),0)","v":{"$error":"#VALUE!"}}]
["三.3","結構用混凝土 280kgf/cm2",{"$f":"+結構計算!D854","v":{"$error":"#VALUE!"}},{"$f":"一般計算","v":{"$error":"#NAME?"}},{"$error":"#VALUE!"},"M3"]
["三.4","筏基內回填低強度混凝土",null,null,{"$f":"ROUND(SUM(D88:D89),0)","v":{"$error":"#VALUE!"}},"M3"]
[null,null,"1.5*(3.8+3.1+3.1+4.2)*(9.8*3+10.2)-1.5*11.6*2.1*0.5+1.5*3.6*(9.8*3+10.2)",{"$f":"一般計算","v":{"$error":"#NAME?"}},null,null,{"$f":"5.3+2.28+6.8+5.8+3.1+5.8+5.6*6+4.85+5.9+6+3.8+4.3","v":87.529999999999987}]
[null,null,"1.5*(2.7+3.5+4.2)*7.8",{"$f":"一般計算","v":{"$error":"#NAME?"}}]
["三.5","鋼筋，SD420W",{"$f":"+結構計算!L873","v":{"$error":"#VALUE!"}},{"$f":"一般計算","v":{"$error":"#NAME?"}},{"$error":"#VALUE!"},"噸"]
["三.6","鋼絲網10*8/100*100&10*10/100*100",{"$f":"+結構計算!L875","v":{"$error":"#VALUE!"}},{"$f":"一般計算","v":{"$error":"#NAME?"}},{"$error":"#VALUE!"},"T"]
["三.7","普通模板",{"$f":"+結構計算!G854","v":{"$error":"#VALUE!"}},{"$f":"一般計算","v":{"$error":"#NAME?"}},{"$error":"#VALUE!"},"M2"]
["三.8","平頂清水模板",{"$f":"+結構計算!G855","v":{"$error":"#VALUE!"}},{"$f":"一般計算","v":{"$error":"#NAME?"}},{"$error":"#VALUE!"},"M2"]
["三.9","DECK鋼承板 BD65*1.2",{"$f":"+結構計算!G856","v":{"$error":"#VALUE!"}},{"$f":"一般計算","v":{"$error":"#NAME?"}},{"$error":"#VALUE!"},"M2"]
["三.10","#8 鋼筋續接器",{"$f":"+結構計算!C877","v":{"$error":"#VALUE!"}},{"$f":"一般計算","v":{"$error":"#NAME?"}},{"$f":"ROUND(SUM(D95),0)","v":{"$error":"#VALUE!"}},"組"]
["三.11","#10 鋼筋續接器",{"$f":"+結構計算!C878","v":{"$error":"#VALUE!"}},{"$f":"一般計算","v":{"$error":"#NAME?"}},{"$error":"#VALUE!"},"組"]
["三.12","#10接鋼柱  鋼筋續接器",{"$f":"+結構計算!C879","v":{"$error":"#VALUE!"}},{"$f":"一般計算","v":{"$error":"#NAME?"}},{"$error":"#VALUE!"},"組"]
["三.13","#6 T頭 ",{"$f":"+結構計算!C880","v":{"$error":"#VALUE!"}},{"$f":"一般計算","v":{"$error":"#NAME?"}},{"$f":"ROUND(SUM(D98),0)","v":{"$error":"#VALUE!"}},"組"]
["三.14","#8 T頭 ",{"$f":"+結構計算!C881","v":{"$error":"#VALUE!"}},{"$f":"一般計算","v":{"$error":"#NAME?"}},{"$error":"#VALUE!"},"組"]
["三.15","#10 T頭 ",{"$f":"+結構計算!C882","v":{"$error":"#VALUE!"}},{"$f":"一般計算","v":{"$error":"#NAME?"}},{"$error":"#VALUE!"},"組"]
["三.16","接鋼柱剪力釘 19∮*200",{"$f":"+結構計算!C883","v":{"$error":"#VALUE!"}},{"$f":"一般計算","v":{"$error":"#NAME?"}},{"$f":"ROUND(SUM(D101),0)","v":{"$error":"#VALUE!"}},"支"]
["三.17","複合型橡膠鋼板止水帶",null,null,{"$f":"ROUND(SUM(D103),0)","v":{"$error":"#VALUE!"}},"M"]
[null,"筏基","(52.6+49.6)*4",{"$f":"一般計算","v":{"$error":"#NAME?"}},null,"M"]
[]
["四","鋼構工程"]
["四.1","鋼板焊接口型鋼 SN490YC",{"$f":"+鋼構!F1021","v":{"$error":"#VALUE!"}},{"$f":"一般計算","v":{"$error":"#NAME?"}},{"$f":"+D106","v":{"$error":"#VALUE!"}},"T"]
["四.2","鋼板焊接口型鋼 SN490B",{"$f":"+鋼構!F1022","v":{"$error":"#VALUE!"}},{"$f":"一般計算","v":{"$error":"#NAME?"}},{"$f":"+D107","v":{"$error":"#VALUE!"}},"T"]
["四.3","BH及RH型鋼 SN490B",{"$f":"+鋼構!F1023+鋼構!F1024","v":{"$error":"#VALUE!"}},{"$f":"一般計算","v":{"$error":"#NAME?"}},{"$f":"+D108","v":{"$error":"#VALUE!"}},"T"]
["四.4","H型鋼 A572",{"$f":"+鋼構!F1025","v":{"$error":"#VALUE!"}},{"$f":"一般計算","v":{"$error":"#NAME?"}},{"$f":"+D109","v":{"$error":"#VALUE!"}},"T"]
["四.5","H型鋼 A36",{"$f":"+鋼構!F1026","v":{"$error":"#VALUE!"}},{"$f":"一般計算","v":{"$error":"#NAME?"}},{"$f":"+D110","v":{"$error":"#VALUE!"}},"T"]
["四.6","鋼板 SN490B,A572",{"$f":"+鋼構!F1027","v":{"$error":"#VALUE!"}},{"$f":"一般計算","v":{"$error":"#NAME?"}},{"$f":"+D111","v":{"$error":"#VALUE!"}},"T"]
["四.7","鋼板 A36",{"$f":"+鋼構!F1028","v":{"$error":"#VALUE!"}},{"$f":"一般計算","v":{"$error":"#NAME?"}},{"$f":"+D112","v":{"$error":"#VALUE!"}},"T"]
["四.8","預埋螺栓 L=700 M-36A.B",{"$f":"+鋼構!F1030","v":{"$error":"#VALUE!"}},{"$f":"一般計算","v":{"$error":"#NAME?"}},{"$f":"+D113","v":{"$error":"#VALUE!"}},"支"]
["四.9","預埋螺栓 L=600 M24 A.B",{"$f":"+鋼構!F1031","v":{"$error":"#VALUE!"}},{"$f":"一般計算","v":{"$error":"#NAME?"}},{"$f":"+D114","v":{"$error":"#VALUE!"}},"支"]
["四.10","S10T 扭矩控制螺栓",{"$f":"+鋼構!J1037/1000","v":{"$error":"#VALUE!"}},{"$f":"一般計算","v":{"$error":"#NAME?"}},{"$f":"+D115","v":{"$error":"#VALUE!"}},"T"]
["四.11","25∮TIE 拉桿",{"$f":"+鋼構!F1038","v":{"$error":"#VALUE!"}},{"$f":"一般計算","v":{"$error":"#NAME?"}},{"$f":"+D116","v":{"$error":"#VALUE!"}},"支'"]
["四.12","剪力釘 19∮*76",{"$f":"+鋼構!F1036","v":{"$error":"#VALUE!"}},{"$f":"一般計算","v":{"$error":"#NAME?"}},{"$f":"+D117","v":{"$error":"#VALUE!"}},"T"]
["四.13","剪力釘 19∮*100",{"$f":"+鋼構!F1037","v":{"$error":"#VALUE!"}},{"$f":"一般計算","v":{"$error":"#NAME?"}},{"$f":"+D118","v":{"$error":"#VALUE!"}},"組"]
["四.14","柱內灌漿混凝土",{"$f":"+鋼構!F1039","v":{"$error":"#VALUE!"}},{"$f":"一般計算","v":{"$error":"#NAME?"}},{"$f":"ROUND(SUM(D119),0)","v":{"$error":"#VALUE!"}},"M3"]
["四.15","不收縮砂漿",{"$f":"+鋼構!H1040","v":{"$error":"#VALUE!"}},{"$f":"一般計算","v":{"$error":"#NAME?"}},{"$f":"+D120","v":{"$error":"#VALUE!"}},"M3"]
["四.16","結構鋼構吊裝",{"$f":"SUM(E106:E112)","v":{"$error":"#VALUE!"}},{"$f":"一般計算","v":{"$error":"#NAME?"}},{"$f":"ROUND(SUM(D121),0)","v":{"$error":"#VALUE!"}},"T"]
["四.17","鋼料半成品運費及小搬運",{"$f":"+C121","v":{"$error":"#VALUE!"}},{"$f":"一般計算","v":{"$error":"#NAME?"}},{"$f":"+D122","v":{"$error":"#VALUE!"}},"T"]
["四.18","鋼樑工廠開孔補強","29*6+13*4",{"$f":"一般計算","v":{"$error":"#NAME?"}},{"$error":"#VALUE!"},"孔"]
["四.19","鋼樑小樑工廠開孔補強","50*6+14*4",{"$f":"一般計算","v":{"$error":"#NAME?"}},{"$error":"#VALUE!"},"孔"]
["四.20","鋼構一小時防火時效被覆",{"$f":"+鋼構!K1018-D127","v":{"$error":"#VALUE!"}},{"$f":"一般計算","v":{"$error":"#NAME?"}},{"$f":"ROUND(SUM(D125),0)","v":{"$error":"#VALUE!"}},"M2"]
["四.21","鋼構二小時防火時效被覆",{"$f":"+鋼構!K596-D128","v":{"$error":"#VALUE!"}},{"$f":"一般計算","v":{"$error":"#NAME?"}},{"$error":"#VALUE!"},"M2"]
["四.22","鋼柱一小時防火漆","2.8*4.5*4*29",{"$f":"一般計算","v":{"$error":"#NAME?"}},{"$f":"ROUND(SUM(D127),0)","v":{"$error":"#VALUE!"}},"M3"]
["四.23","鋼柱二小時防火漆","2.8*(5+6.6+4.5*4)*29",{"$f":"一般計算","v":{"$error":"#NAME?"}},{"$error":"#VALUE!"},"M4"]
["四.24","室內鋼樓梯 ",{"$f":"+鋼構!F1086+鋼構!F1087","v":{"$error":"#VALUE!"}},{"$f":"一般計算","v":{"$error":"#NAME?"}},{"$f":"ROUND(SUM(D129),0)","v":{"$error":"#VALUE!"}},"T"]
["四.25","樓梯 鋼筋網",{"$f":"+鋼構!F1090","v":{"$error":"#VALUE!"}},{"$f":"一般計算","v":{"$error":"#NAME?"}},{"$f":"ROUND(SUM(D130),0)","v":{"$error":"#VALUE!"}},"M2"]
["四.26","樓梯 面層混凝土 280kg/cm2",{"$f":"+鋼構!F1091","v":{"$error":"#VALUE!"}},{"$f":"一般計算","v":{"$error":"#NAME?"}},{"$error":"#VALUE!"},"M3"]
["四.27","電梯內樑柱",{"$f":"+鋼構!H1095/1000","v":{"$error":"#VALUE!"}},{"$f":"一般計算","v":{"$error":"#NAME?"}},{"$f":"ROUND(SUM(D132),0)","v":{"$error":"#VALUE!"}},"T"]
[]
["五","外牆裝修工程"]
["五.1","外牆造型2.5t佛碳烤漆鋁包板牆 (深灰色)",null,null,{"$f":"ROUND(SUM(D136:D164),0)","v":{"$error":"#VALUE!"}},"M2"]
[null,"西北向A梯外梯形包板 含+5705頂","(1.95+0.45+5.8)*56.1+(0.45+0.75+1.1+1.9)*11+6.2*11.45-2.2*5.5+0.75*(2.2+5.5)*2",{"$f":"一般計算","v":{"$error":"#NAME?"}}]
[null,"入口雨遮","(4+0.45+4)*11.4+1*4*2",{"$f":"一般計算","v":{"$error":"#NAME?"}}]
[null,"一二樓帷幕側框及凸簷含轉西南向","(3.1+0.45+1.5)*12.6+3.1*0.75+(3.1+0.45+1.45)*7.7+(1.35+0.45+1.45)*26+(2.6+0.45+3)*8.9",{"$f":"一般計算","v":{"$error":"#NAME?"}}]
[null,"四樓到頂帷幕CW15,格柵邊框及下框(三樓陽台上方)","(5.3+0.45+2.2)*41.55+(5.8+0.45+2)*28.2",{"$f":"一般計算","v":{"$error":"#NAME?"}}]
[null,"十樓頂帷幕CW15上框 L型含轉西南向","(0.45+1.15+0.89+0.23+1.05)*(26+9.7)",{"$f":"一般計算","v":{"$error":"#NAME?"}}]
[null,"RF上框計至斜邊","(0.45+1.98)*28.64",{"$f":"一般計算","v":{"$error":"#NAME?"}}]
[null,"CW2 C梯側1~2樓","(0.5+0.45+1.45+1.3)*12.6",{"$f":"一般計算","v":{"$error":"#NAME?"}}]
[null,"CW15 C梯側4F~RF","(0.3+0.45+1.98)*40.6",{"$f":"一般計算","v":{"$error":"#NAME?"}}]
[null,"D線 C梯外飾板含轉西南斜面","(6.25+0.45+1.2)*54.3",{"$f":"一般計算","v":{"$error":"#NAME?"}}]
[null,"西北向屋頂格柵內包柱樑-10樓露台","4.05*4.5+(0.45*4*2)*13.5*3+(0.65*2+1)*4.5+(0.65+1+5.65+3.85+0.3)*13.5",{"$f":"一般計算","v":{"$error":"#NAME?"}}]
[null,"西北向屋頂格柵內包柱-屋頂層","(6.15+1.05+9.25)*9+(1.05*4)*9*2+(0.55*4)*9",{"$f":"一般計算","v":{"$error":"#NAME?"}}]
[null,"西北向屋頂格柵內包樑-屋頂層","(0.35+0.65)*2*(10.1*4+4+2.2*3+5)*2+(0.6+1)*2*(10.1*2+4*4+5*2)",{"$f":"一般計算","v":{"$error":"#NAME?"}}]
[null,"西北向屋頂格柵內包樑-屋頂上下及中空","7.1*5.5+5.95*28.65+1.05*5.5+1.05*(28.65+5.5)+25.65*4+5.2*5.5-4.8*6.1*2-1.95*(7.7+9.8+3.1)*2",{"$f":"一般計算","v":{"$error":"#NAME?"}}]
[null,null,"1.05*((4.8+3.1)*2+(1.95+3.1)*2+(9.8+1.95)*2+(7.7+1.95)*2)",{"$f":"一般計算","v":{"$error":"#NAME?"}}]
[null,"屋頂包板轉至東北向","(1.9+0.45)*6.2+(1.1+1.9+0.45+3+0.75)*27.1",{"$f":"一般計算","v":{"$error":"#NAME?"}}]
[null,"東北向R1F 包柱","1*4*6.8",{"$f":"一般計算","v":{"$error":"#NAME?"}}]
[null,"吊裝平台前及底部+車道雨遮頂","(0.55+0.34+1.9+0.75)*18.35+1.9*8.35",{"$f":"一般計算","v":{"$error":"#NAME?"}}]
[null,"吊裝平台側飾板","(0.25+0.2+1.9+0.45+1.9)*50.1",{"$f":"一般計算","v":{"$error":"#NAME?"}}]
[null,"東北向二F雨遮","0.65*1.88*2+1.88*8.5*2",{"$f":"一般計算","v":{"$error":"#NAME?"}}]
[null,"乙梯2線飾板 1F+95~+55.05","(1+0.45+1.2)*54.2",{"$f":"一般計算","v":{"$error":"#NAME?"}}]
[null,"RF+ 55.5包樑柱","(1.08+1.2+0.45+2.1+1.07)*44.8+(1*4)*4.43*3",{"$f":"一般計算","v":{"$error":"#NAME?"}}]
[null,"西南 RF+ 55.6包樑柱","(1.08+1.2+0.45+2.1+1.07)*28.6+(1*4)*4.43*3",{"$f":"一般計算","v":{"$error":"#NAME?"}}]
[null,"D線5,6柱間屋頂包柱","(7.35+1.07+2.4)*4.43",{"$f":"一般計算","v":{"$error":"#NAME?"}}]
[null,"西北向CW9 上下鋁飾板","(0.885*2+0.23)*9.79*7+(0.88+0.44+1.26+0.4)*9.79",{"$f":"一般計算","v":{"$error":"#NAME?"}}]
[null,"西北向CW15 上下鋁飾板","(0.885*2+0.23)*35.2*5",{"$f":"一般計算","v":{"$error":"#NAME?"}}]
[null,"東北向L6,W2,W1上方","(0.6*2+0.15)*11.6*9",{"$f":"一般計算","v":{"$error":"#NAME?"}}]
[null,"東南外外下部","43.2*0.5*4+43.2*11+1*3*2+1*10.6-1.2*1*4-1.2*2.5",{"$f":"一般計算","v":{"$error":"#NAME?"}}]
[null,"西南外外下部","27.1*0.5*4+27.1*11-2.47",{"$f":"一般計算","v":{"$error":"#NAME?"}}]
[null,"警衛室","0.4*(1.62+4)+(1*3.15+1*4.5)*2+0.2*(3.15+5.5+1)",{"$f":"一般計算","v":{"$error":"#NAME?"}}]
["五.2","外牆4t 烤漆鋁複合板包板牆 (淺灰色)",null,null,{"$f":"ROUND(SUM(D166:D176),0)","v":{"$error":"#VALUE!"}},"M2"]
[null,"西北向  A梯R1F 外牆+2~3線牆+3F包柱","8.81*5.7+(0.55*2+1)*2.2+(0.55*2+1.6)*2.2+(0.8+32.7)*9.79-9.79*2*6+(0.6*2+0.855)*3.4*3",{"$f":"一般計算","v":{"$error":"#NAME?"}}]
[null,null,"(2.45+0.6)*3.4",{"$f":"一般計算","v":{"$error":"#NAME?"}}]
[null,"東北向廁所外側牆 D~E線,B~D柱線牆","(0.2+1.88+9.55+1.9)*49.8-0.8*20+17.6*(49.8-0.75)-6.9*4.9-13.2*2-13.4*1-12.5*8-9.8*7-20.7*1",{"$f":"一般計算","v":{"$error":"#NAME?"}}]
[null,null,"17.65*5.5-4.05*2.8-0.9",{"$f":"一般計算","v":{"$error":"#NAME?"}}]
[null,"東北向B梯外側+吊裝平台下包板","9*58.8-0.9+(0.75+0.25*2)*(5.3+1.88)*8+(1.885*5.3+1.885*0.75*2+0.2*5.3)",{"$f":"一般計算","v":{"$error":"#NAME?"}}]
[null,"東南向B梯外牆","8.44*58.8+1.28*4.74-85-0.62*8.44",{"$f":"一般計算","v":{"$error":"#NAME?"}}]
[null,"東南向廠房外牆","43.2*(38.8-0.5*4)",{"$f":"一般計算","v":{"$error":"#NAME?"}}]
[null,"西南向","27.1*(38.8-0.5*4)",{"$f":"一般計算","v":{"$error":"#NAME?"}}]
[null,"西南向 C梯外","5.7*2.42",{"$f":"一般計算","v":{"$error":"#NAME?"}}]
[null,"屋頂電梯機房外","(10.15+9.55)*10.2-1.53*2-4.3+0.45*(10.15+9.5)*2",{"$f":"一般計算","v":{"$error":"#NAME?"}}]
[null,"屋頂水箱外牆","(9.55+13.34)*5.7-3.5*12.8-5.5-2.3",{"$f":"一般計算","v":{"$error":"#NAME?"}}]
["五.3","外牆貼45*45小口磚 淺灰色",null,null,{"$f":"ROUND(SUM(D178:D182),0)","v":{"$error":"#VALUE!"}},"M2"]
[null,"西北A梯外牆下部","0.95*8.8",{"$f":"一般計算","v":{"$error":"#NAME?"}}]
[null,"東北向","0.95*(10.2+4.6+9.2+4.6+0.4*2)+(0.95+0.2+0.2)*(3.3+1.7)+(0.95*2+0.2)*4.41",{"$f":"一般計算","v":{"$error":"#NAME?"}}]
[null,"轚道入口","0.9*(14.3+1.86*2)+(0.95+3.31)/2*19.75*2+8.58*5.1*2",{"$f":"一般計算","v":{"$error":"#NAME?"}}]
[null,"廢氣排放口","1.5*(2.9+1.5)*2+1.5*2.9-2.16",{"$f":"一般計算","v":{"$error":"#NAME?"}}]
[null,"警衛室","3.6*(4.5+4)*2+2.9*0.1*2+0.35*(4.5+4)*2-12.7-0.83",{"$f":"一般計算","v":{"$error":"#NAME?"}}]
["五.4","警衛室窗台板貼花崗石",null,null,{"$f":"ROUND(SUM(D184),1)","v":{"$error":"#VALUE!"}},"M2"]
[null,null,"(0.4*2+0.25)*4.5+0.25*2.4+0.4*0.25",{"$f":"一般計算","v":{"$error":"#NAME?"}}]
["五.5","氟碳烤漆金屬格柵裝飾牆","12.42*(25.5+8.15)+3.31*(8+9.8)",{"$f":"一般計算","v":{"$error":"#NAME?"}},{"$f":"ROUND(SUM(D185),0)","v":{"$error":"#VALUE!"}},"M2"]
["五.6","氣體區氟碳烤漆金屬格柵牆","(4.45+2.8)*3-1.4*2.1",{"$f":"一般計算","v":{"$error":"#NAME?"}},{"$f":"ROUND(SUM(D186),0)","v":{"$error":"#VALUE!"}},"M2"]
["五.7","氣體區氟碳烤漆金屬格柵門 140*210",1,{"$f":"一般計算","v":{"$error":"#NAME?"}},{"$error":"#VALUE!"},"樘"]
[]
["六","室內一般裝修工程"]
["六.1","高層水泥纖維板灌漿隔間12cm",null,null,{"$f":"ROUND(SUM(D191:D193),0)","v":{"$error":"#VALUE!"}},"M2"]
[null,"1F","5.8*(2.3*2+5.4+6.1+0.52+5.1+1.5+3.55+0.6+1.3+1.3*3)",{"$f":"一般計算","v":{"$error":"#NAME?"}}]
[null,null,"5.8*1.3+2.1*1.46+(5.8+2.1)/2*2.7",{"$f":"一般計算","v":{"$error":"#NAME?"}}]
[null,"2F","6.4*(3.7+5.5+2+6.1+1.3+5+1.5+1.3+0.6*2+0.5+1.3)",{"$f":"一般計算","v":{"$error":"#NAME?"}}]
["六.2","一般樓層水泥纖維板灌漿隔間12cm",null,null,{"$f":"ROUND(SUM(D195:D202),0)","v":{"$error":"#VALUE!"}},"M2"]
[null,"3F","4.3*(5.55+2.3+2+0.85+1+0.+1.3+6.1+1.5+2.2+5+1.5+3.6+0.6*2+0.5+1.3*2)",{"$f":"一般計算","v":{"$error":"#NAME?"}}]
[null,"4F","4.3*(5.55+2.3+2+0.85+1+0.+1.3+6.1+1.5+2.2+5+1.5+3.6+0.6*2+0.5+1.3*2)",{"$f":"一般計算","v":{"$error":"#NAME?"}}]
[null,"5F","4.3*(5.55+2.3+2+0.85+1+0.+1.3+6.1+1.5+2.2+5+1.5+3.6+0.6*2+0.5+1.3*2)",{"$f":"一般計算","v":{"$error":"#NAME?"}}]
[null,"6F","4.3*(5.55+2.3+2+0.85+1+0.+1.3+6.1+1.5+2.2+5+1.5+3.6+0.6*2+0.5+1.3*2)",{"$f":"一般計算","v":{"$error":"#NAME?"}}]
[null,"7F","4.3*(5.55+2.3+2+0.85+1+0.+1.3+6.1+1.5+2.2+5+1.5+3.6+0.6*2+0.5+1.3*2)",{"$f":"一般計算","v":{"$error":"#NAME?"}}]
[null,"8F","4.3*(5.55+2.3+2+0.85+1+0.+1.3+6.1+1.5+2.2+5+1.5+3.6+0.6*2+0.5+1.3*2)",{"$f":"一般計算","v":{"$error":"#NAME?"}}]
[null,"9F","4.3*(5.55+2.3+2+0.85+1+0.+1.3+6.1+1.5+2.2+5+1.5+3.6+0.6*2+0.5+1.3*2)",{"$f":"一般計算","v":{"$error":"#NAME?"}}]
[null,"10F","4.3*(5.55+2.3+2+0.85+1+0.+1.3+6.1+1.5+2.2+5+1.5+3.6+0.6*2+0.5+1.3*2)",{"$f":"一般計算","v":{"$error":"#NAME?"}}]
["六.3","水泥纖維板廁所外側單面封板",null,null,{"$f":"ROUND(SUM(D204:D213),0)","v":{"$error":"#VALUE!"}},"M2"]
[null,"1F","5.8*(1.86*2+9.15)",{"$f":"一般計算","v":{"$error":"#NAME?"}}]
[null,"2F","6.4*(1.89*2+9.1)",{"$f":"一般計算","v":{"$error":"#NAME?"}}]
[null,"3F","4.3*(1.8*2+9.5)",{"$f":"一般計算","v":{"$error":"#NAME?"}}]
[null,"4F","4.3*(1.8*2+9.5)",{"$f":"一般計算","v":{"$error":"#NAME?"}}]
[null,"5F","4.3*(1.8*2+9.5)",{"$f":"一般計算","v":{"$error":"#NAME?"}}]
[null,"6F","4.3*(1.8*2+9.5)",{"$f":"一般計算","v":{"$error":"#NAME?"}}]
[null,"7F","4.3*(1.8*2+9.5)",{"$f":"一般計算","v":{"$error":"#NAME?"}}]
[null,"8F","4.3*(1.8*2+9.5)",{"$f":"一般計算","v":{"$error":"#NAME?"}}]
[null,"9F","4.3*(1.8*2+9.5)",{"$f":"一般計算","v":{"$error":"#NAME?"}}]
[null,"10F","4.3*(1.8*2+9.5)",{"$f":"一般計算","v":{"$error":"#NAME?"}}]
["六.4","高層雙面矽酸鈣板防火隔間牆",null,null,{"$f":"ROUND(SUM(D215:D216),0)","v":{"$error":"#VALUE!"}},"M2"]
[null,"1F","5.8*(3.3+3.6+1+6.15+7.62+2.1+18.8+1.5+8.15+9.15+10.1*2+4.4+0.85+2.7+5.2+3.35+1.65+1.15)",{"$f":"一般計算","v":{"$error":"#NAME?"}}]
[null,"2F","6.4*(3.3+3.6+1+27.8+0.9+8.3)+6.4*(2+5.7+18+1+6.1)",{"$f":"一般計算","v":{"$error":"#NAME?"}}]
["六.5","一般樓層雙面矽酸鈣板防火隔間牆",null,null,{"$f":"ROUND(SUM(D218:D228),0)","v":{"$error":"#VALUE!"}},"M2"]
[null,"中控室+梯廳A B2","3.3*(1.5*2+0.7)+3.3*(1.15+0.3)",{"$f":"一般計算","v":{"$error":"#NAME?"}}]
[null,"中控室+梯廳A B1","3.3*(1.5*2+0.7)+3.3*(1.15+0.3)",{"$f":"一般計算","v":{"$error":"#NAME?"}}]
[null,"3F","4.45*(3.3+3.6+1+27.8+0.9+8.3)+6.4*(2+5.7+18+1+6.2)",{"$f":"一般計算","v":{"$error":"#NAME?"}}]
[null,"4F","4.45*(3.3+3.6+1+27.8+0.9+9.3)+4.45*(2+5.7+18+1+6.1)+4.45*(26.9+0.3+0.85+1.1)",{"$f":"一般計算","v":{"$error":"#NAME?"}}]
[null,"5F","4.45*(3.3+3.6+1+27.8+0.9+8.3)+6.4*(2+5.7+18+1+6.2)",{"$f":"一般計算","v":{"$error":"#NAME?"}}]
[null,"6F","4.45*(3.3+3.6+1+27.8+0.9+9.3)+4.45*(2+5.7+18+1+6.1)+4.45*(26.9+0.3+0.85+1.1)",{"$f":"一般計算","v":{"$error":"#NAME?"}}]
[null,"7F","4.45*(3.3+3.6+1+27.8+0.9+8.3)+6.4*(2+5.7+18+1+6.2)",{"$f":"一般計算","v":{"$error":"#NAME?"}}]
[null,"8F","4.45*(3.3+3.6+1+27.8+0.9+9.3)+4.45*(2+5.7+18+1+6.1)+4.45*(26.9+0.3+0.85+1.1)",{"$f":"一般計算","v":{"$error":"#NAME?"}}]
[null,"9F","4.45*(3.3+3.6+1+27.8+0.9+8.3)+6.4*(2+5.7+18+1+6.2)",{"$f":"一般計算","v":{"$error":"#NAME?"}}]
[null,"10F","4.45*(3.3+1+3.6+27.8+8.7)+4.45*(2+8.2+8.25+0.85*2)+4.45*(26.5+0.3+1.1+8.15)",{"$f":"一般計算","v":{"$error":"#NAME?"}}]
[null,"R1F","4.45*(3.3+4.45+2.7+1.7*2+0.7+2.7+0.65+3.2)",{"$f":"一般計算","v":{"$error":"#NAME?"}}]
["六.6","外牆內側金屬庫板隔間牆",null,null,{"$f":"ROUND(SUM(D230:D238),0)","v":{"$error":"#VALUE!"}},"M2"]
[null,"機房 2F","6.6*18.",{"$f":"一般計算","v":{"$error":"#NAME?"}}]
[null,"3F","4.35*18",{"$f":"一般計算","v":{"$error":"#NAME?"}}]
[null,"4F","4.35*18",{"$f":"一般計算","v":{"$error":"#NAME?"}}]
[null,"5F","4.35*18",{"$f":"一般計算","v":{"$error":"#NAME?"}}]
[null,"6F","4.35*18",{"$f":"一般計算","v":{"$error":"#NAME?"}}]
[null,"7F","4.35*18",{"$f":"一般計算","v":{"$error":"#NAME?"}}]
[null,"8F","4.35*18",{"$f":"一般計算","v":{"$error":"#NAME?"}}]
[null,"9F","4.35*18",{"$f":"一般計算","v":{"$error":"#NAME?"}}]
[null,"10F","4.35*18",{"$f":"一般計算","v":{"$error":"#NAME?"}}]
["六.7","一小時防火時效金屬庫板牆(挑空區管道間)",null,null,{"$f":"ROUND(SUM(D240:D249),0)","v":{"$error":"#VALUE!"}},"M2"]
[null,"1F","5.8*6.6",{"$f":"一般計算","v":{"$error":"#NAME?"}}]
[null,"2F","6.4*(6.7+2)",{"$f":"一般計算","v":{"$error":"#NAME?"}}]
[null,"3F","4.45*(6.7+3)",{"$f":"一般計算","v":{"$error":"#NAME?"}}]
[null,"4F","4.5*(6.7+4)",{"$f":"一般計算","v":{"$error":"#NAME?"}}]
[null,"5F","4.45*(6.7+3)",{"$f":"一般計算","v":{"$error":"#NAME?"}}]
[null,"6F","4.5*(6.7+4)",{"$f":"一般計算","v":{"$error":"#NAME?"}}]
[null,"7F","4.45*(6.7+3)",{"$f":"一般計算","v":{"$error":"#NAME?"}}]
[null,"8F","4.5*(6.7+4)",{"$f":"一般計算","v":{"$error":"#NAME?"}}]
[null,"9F","4.45*(6.7+3)",{"$f":"一般計算","v":{"$error":"#NAME?"}}]
[null,"10F","4.5*(6.7+4)",{"$f":"一般計算","v":{"$error":"#NAME?"}}]
["六.8","牆面1:3水泥粉刷",{"$f":"+粉刷表!G534","v":{"$error":"#VALUE!"}},{"$f":"一般計算","v":{"$error":"#NAME?"}},{"$f":"ROUND(SUM(D250),0)","v":{"$error":"#VALUE!"}},"M2"]
["六.9","輕隔間牆面批土整平",{"$f":"+粉刷表!G535","v":{"$error":"#VALUE!"}},{"$f":"一般計算","v":{"$error":"#NAME?"}},{"$error":"#VALUE!"},"M2"]
["六.10","牆面1:3水泥粉刷批土刷水泥漆",{"$f":"+粉刷表!G536","v":{"$error":"#VALUE!"}},{"$f":"一般計算","v":{"$error":"#NAME?"}},{"$error":"#VALUE!"},"M2"]
["六.11","地下室外側牆面1:2防水泥粉刷刷水泥漆",{"$f":"+粉刷表!G537","v":{"$error":"#VALUE!"}},{"$f":"一般計算","v":{"$error":"#NAME?"}},{"$error":"#VALUE!"},"M2"]
["六.12","牆面1:3水泥粉刷貼30*60磁磚",{"$f":"+粉刷表!G538","v":{"$error":"#VALUE!"}},{"$f":"一般計算","v":{"$error":"#NAME?"}},{"$error":"#VALUE!"},"M2"]
["六.13","輕隔間牆面貼30*60磁磚",{"$f":"+粉刷表!G539","v":{"$error":"#VALUE!"}},{"$f":"一般計算","v":{"$error":"#NAME?"}},{"$error":"#VALUE!"},"M2"]
["六.14","輕隔間牆面批土刷水泥漆",{"$f":"+粉刷表!G540","v":{"$error":"#VALUE!"}},{"$f":"一般計算","v":{"$error":"#NAME?"}},{"$error":"#VALUE!"},"M2"]
["六.15","輕隔間立體架乾式吊掛石材",{"$f":"+粉刷表!G541","v":{"$error":"#VALUE!"}},{"$f":"一般計算","v":{"$error":"#NAME?"}},{"$error":"#VALUE!"},"M2"]
["六.16","RC牆面乾掛石材",{"$f":"+粉刷表!G542","v":{"$error":"#VALUE!"}},{"$f":"一般計算","v":{"$error":"#NAME?"}},{"$error":"#VALUE!"},"M2"]
["六.17","室內牆面金屬包板",{"$f":"+粉刷表!G543","v":{"$error":"#VALUE!"}},{"$f":"一般計算","v":{"$error":"#NAME?"}},{"$f":"ROUND(SUM(D259),0)","v":{"$error":"#VALUE!"}},"M2"]
["六.18","廁所牆面1:2水泥砂漿貼30*60磁磚",{"$f":"+粉刷表!G544","v":{"$error":"#VALUE!"}},{"$f":"一般計算","v":{"$error":"#NAME?"}},{"$error":"#VALUE!"},"M2"]
["六.19","廁所輕隔間牆面防水膠塗佈後黏著劑貼30*60磁磚",{"$f":"+粉刷表!G545","v":{"$error":"#VALUE!"}},{"$f":"一般計算","v":{"$error":"#NAME?"}},{"$error":"#VALUE!"},"M2"]
["六.20","牆面防水劑+防水粉刷貼20*20面磚",{"$f":"+粉刷表!G546","v":{"$error":"#VALUE!"}},{"$f":"一般計算","v":{"$error":"#NAME?"}},{"$error":"#VALUE!"},"M2"]
["六.21","90CM台度牆面水泥粉刷警示漆",{"$f":"+粉刷表!G547","v":{"$error":"#VALUE!"}},{"$f":"一般計算","v":{"$error":"#NAME?"}},{"$error":"#VALUE!"},"M2"]
["六.22","地下室外側90CM台度牆面1:2防水泥粉刷刷水泥漆",{"$f":"+粉刷表!G548","v":{"$error":"#VALUE!"}},{"$f":"一般計算","v":{"$error":"#NAME?"}},{"$error":"#VALUE!"},"M2"]
["六.23","地坪乾式打底貼拋光面石材 F1",{"$f":"+粉刷表!D534","v":{"$error":"#VALUE!"}},{"$f":"一般計算","v":{"$error":"#NAME?"}},{"$error":"#VALUE!"},"M2"]
["六.24","整體粉光+除泥地墊",{"$f":"+粉刷表!D535","v":{"$error":"#VALUE!"}},{"$f":"一般計算","v":{"$error":"#NAME?"}},{"$error":"#VALUE!"},"M2"]
["六.25","整體粉光+貼PVC地毯",{"$f":"+粉刷表!D536","v":{"$error":"#VALUE!"}},{"$f":"一般計算","v":{"$error":"#NAME?"}},{"$error":"#VALUE!"},"M2"]
["六.26","地坪整體粉刷後貼60*60抛光石英磚 F4",{"$f":"+粉刷表!D537","v":{"$error":"#VALUE!"}},{"$f":"一般計算","v":{"$error":"#NAME?"}},{"$error":"#VALUE!"},"M2"]
["六.27","平面車道停車位整體粉光+3mm EPOXY+石英砂地坪 F5",{"$f":"+粉刷表!D538","v":{"$error":"#VALUE!"}},{"$f":"一般計算","v":{"$error":"#NAME?"}},{"$error":"#VALUE!"},"M2"]
["六.28","斜車道整體粉光+5mm EPOXY+石英砂地坪 F5A",{"$f":"+粉刷表!D539","v":{"$error":"#VALUE!"}},{"$f":"一般計算","v":{"$error":"#NAME?"}},{"$error":"#VALUE!"},"M2"]
["六.29","地坪拍漿粉光+3mm EPOXY平光面 F6",{"$f":"+粉刷表!D540","v":{"$error":"#VALUE!"}},{"$f":"一般計算","v":{"$error":"#NAME?"}},{"$error":"#VALUE!"},"M2"]
["六.30","樓梯面貼20*20面磚+止滑磚 F7",{"$f":"+粉刷表!D541","v":{"$error":"#VALUE!"}},{"$f":"一般計算","v":{"$error":"#NAME?"}},{"$error":"#VALUE!"},"M2"]
["六.31","廁所地坪防水塗佈後貼30*30止滑石英磚",{"$f":"+粉刷表!D542","v":{"$error":"#VALUE!"}},{"$f":"一般計算","v":{"$error":"#NAME?"}},{"$error":"#VALUE!"},"M2"]
["六.32","陽台地坪防水膠貼10*10窯燒花崗石",{"$f":"+粉刷表!D543","v":{"$error":"#VALUE!"}},{"$f":"一般計算","v":{"$error":"#NAME?"}},{"$error":"#VALUE!"},"M2"]
["六.33","無毒防水劑+1:2防水粉刷貼20*20地磚 F10",{"$f":"+粉刷表!D544","v":{"$error":"#VALUE!"}},{"$f":"一般計算","v":{"$error":"#NAME?"}},{"$error":"#VALUE!"},"M2"]
["六.34","地坪高平整整體粉光 F11",{"$f":"+粉刷表!D545","v":{"$error":"#VALUE!"}},{"$f":"一般計算","v":{"$error":"#NAME?"}},{"$error":"#VALUE!"},"M2"]
["六.35","平頂未施作材料",{"$f":"+粉刷表!D546","v":{"$error":"#VALUE!"}},{"$f":"一般計算","v":{"$error":"#NAME?"}},{"$error":"#VALUE!"},"M2"]
["六.36","平頂清水模面噴水泥漆 C1",{"$f":"+粉刷表!D547","v":{"$error":"#VALUE!"}},{"$f":"一般計算","v":{"$error":"#NAME?"}},{"$error":"#VALUE!"},"M2"]
["六.37","平頂樑底樑側清水模面噴水泥漆 C1A",{"$f":"+粉刷表!D548","v":{"$error":"#VALUE!"}},{"$f":"一般計算","v":{"$error":"#NAME?"}},{"$error":"#VALUE!"},"M2"]
["六.38","平頂水泥粉刷水泥漆(含樑底樑側) C2",{"$f":"+粉刷表!D549","v":{"$error":"#VALUE!"}},{"$f":"一般計算","v":{"$error":"#NAME?"}},{"$f":"ROUND(SUM(D280),0)","v":{"$error":"#VALUE!"}},"M2"]
["六.39","平頂60*60明架矽酸鈣板天花 C3",{"$f":"+粉刷表!D550","v":{"$error":"#VALUE!"}},{"$f":"一般計算","v":{"$error":"#NAME?"}},{"$error":"#VALUE!"},"M2"]
["六.40","平頂60*60明架礦纖天花 C4",{"$f":"+粉刷表!D551","v":{"$error":"#VALUE!"}},{"$f":"一般計算","v":{"$error":"#NAME?"}},{"$error":"#VALUE!"},"M2"]
["六.41","平頂暗架矽酸鈣板天花含燈槽,窗簾盒等收邊 C5",{"$f":"+粉刷表!D552","v":{"$error":"#VALUE!"}},{"$f":"一般計算","v":{"$error":"#NAME?"}},{"$f":"ROUND(SUM(D283),0)","v":{"$error":"#VALUE!"}},"M2"]
["六.42","風除室平頂矽酸鈣板天花含上方吊掛骨料",{"$f":"+粉刷表!D553","v":{"$error":"#VALUE!"}},{"$f":"一般計算","v":{"$error":"#NAME?"}},{"$error":"#VALUE!"},"M2"]
["六.43","鋼承板面噴漆",{"$f":"+粉刷表!D554","v":{"$error":"#VALUE!"}},{"$f":"一般計算","v":{"$error":"#NAME?"}},{"$error":"#VALUE!"},"M2"]
["六.44","鋼樓梯背板噴漆(含側板) C14",{"$f":"+粉刷表!D555","v":{"$error":"#VALUE!"}},{"$f":"一般計算","v":{"$error":"#NAME?"}},{"$error":"#VALUE!"},"M2"]
["六.45","樓板面批土整平 C10",{"$f":"+粉刷表!D556","v":{"$error":"#VALUE!"}},{"$f":"一般計算","v":{"$error":"#NAME?"}},{"$error":"#VALUE!"},"M2"]
["六.46","樓電梯位置磚",null,null,{"$f":"ROUND(SUM(D289),0)","v":{"$error":"#VALUE!"}},"M2"]
[null,null,"0.3*0.6*12+0.3*1.3*9+0.3*1.3*2*7+0.3*1.3",{"$f":"一般計算","v":{"$error":"#NAME?"}}]
["六.47","筏基內廢水池地坪牆面防水粉刷",null,null,{"$f":"ROUND(SUM(D291:D292),0)","v":{"$error":"#VALUE!"}},"M2"]
[null,null,"7.8*2.25+3.55*3.35+7.8*1.4+4.1*9.8*2+3.7*9.8*2+3.35*9.8*2+4.05*9.8*3+3.7*9.8*2",{"$f":"一般計算","v":{"$error":"#NAME?"}}]
[null,null,"3.6*9.8+3.9*10.2+1.5*(20.1+13.8+18.4+27.8*2+27*2+26.3+27.7*3+27*226.8+27.6)",{"$f":"一般計算","v":{"$error":"#NAME?"}}]
["六.48","筏基空調及製程水池地坪牆面防水粉刷",null,null,{"$f":"ROUND(SUM(D294:D295),0)","v":{"$error":"#VALUE!"}},"M2"]
[null,null,"4.1*9.8+4.1*10.2+3.7*9.8+3.7*10.2+3.35*9.8+3.35*10.2+4.05*10.2+3.7*10.2*2",{"$f":"一般計算","v":{"$error":"#NAME?"}}]
[null,null,"1.5*(27.8+28.6+27+27.8+26.3+27.1+28.5+27.8*2)",{"$f":"一般計算","v":{"$error":"#NAME?"}}]
["六.49","消防水池內阼水粉刷",null,null,{"$f":"ROUND(SUM(D297),0)","v":{"$error":"#VALUE!"}},"M2"]
[null,null,"3.35*7.8+1.5*22.3",{"$f":"一般計算","v":{"$error":"#NAME?"}}]
["六.50","筏基內雨水儲水槽地坪牆面防水粉刷",null,null,{"$f":"ROUND(SUM(D299:D300),0)","v":{"$error":"#VALUE!"}},"M2"]
[null,null,"7.8*4.05+7.8*3.7*2",{"$f":"一般計算","v":{"$error":"#NAME?"}}]
[null,null,"1.5*(23.7+23*2)",{"$f":"一般計算","v":{"$error":"#NAME?"}}]
["六.51","筏基內雨水貯集滯洪池地坪牆面防水粉刷",null,null,{"$f":"ROUND(SUM(D302:D303),0)","v":{"$error":"#VALUE!"}},"M2"]
[null,null,"3.7*9.8*4+3.6*9.8*2",{"$f":"一般計算","v":{"$error":"#NAME?"}}]
[null,null,"1.5*(27*4+26.8*2)",{"$f":"一般計算","v":{"$error":"#NAME?"}}]
["六.52","筏基電梯坑地坪牆面防水粉刷",null,null,{"$f":"ROUND(SUM(D305:D307),0)","v":{"$error":"#VALUE!"}},"M2"]
[null,null,"3.55*4.05+1.7*15.2",{"$f":"一般計算","v":{"$error":"#NAME?"}}]
[null,null,"2.2*2.1*2+1.85*(8.6*2)",{"$f":"一般計算","v":{"$error":"#NAME?"}}]
[null,null,"2.6*2.5*2+1.85*(10.2*2)",{"$f":"一般計算","v":{"$error":"#NAME?"}}]
["六.53","屋面及露台防水隔熱層",null,null,{"$f":"ROUND(SUM(D309:D313),0)","v":{"$error":"#VALUE!"}},"M2"]
[null,"R1屋頂平台","9.18*12.6+42.83*27.2+2.05*3.4+3.4*37.95+5.8*31.95",{"$f":"一般計算","v":{"$error":"#NAME?"}}]
[null,null,"1.5*8.8",{"$f":"一般計算","v":{"$error":"#NAME?"}}]
[null,"R2屋頂平台","17.2*9.15",{"$f":"一般計算","v":{"$error":"#NAME?"}}]
[null,"RF屋頂平台","9.1*9.7",{"$f":"一般計算","v":{"$error":"#NAME?"}}]
[null,"10F 露台","25.6*3.6+4.95*3.85",{"$f":"一般計算","v":{"$error":"#NAME?"}}]
["六.54","屋面1/2B汎水壓磚",null,null,{"$f":"ROUND(SUM(D315:D318),0)","v":{"$error":"#VALUE!"}},"M2"]
[null,null,"42.8+27.2+5+3.4+5.5+5.8+31.95+13.9+9.18*2+12.6+9.8",{"$f":"一般計算","v":{"$error":"#NAME?"}}]
[null,null,"(1.5+8.8)*2",{"$f":"一般計算","v":{"$error":"#NAME?"}}]
[null,null,"(17.2+9.15)*2",{"$f":"一般計算","v":{"$error":"#NAME?"}}]
[null,null,"(9.1+9.7)*2",{"$f":"一般計算","v":{"$error":"#NAME?"}}]
["六.55","女兒牆內側防水粉刷(含汎水)",null,null,{"$f":"ROUND(SUM(D320:D323),0)","v":{"$error":"#VALUE!"}},"M2"]
[null,null,"1.2*(42.8+27.2+5+3.4+5.5+5.8+31.95)+0.4*(13.9+9.18)+1.2*12.6+0.4*(9.8+9.8)",{"$f":"一般計算","v":{"$error":"#NAME?"}}]
[null,null,"1.2*((1.5+8.8)*2)",{"$f":"一般計算","v":{"$error":"#NAME?"}}]
[null,null,"1.2*((17.2+9.15)*2)",{"$f":"一般計算","v":{"$error":"#NAME?"}}]
[null,null,"1.2*((9.1+9.7)*2)",{"$f":"一般計算","v":{"$error":"#NAME?"}}]
["六.56","地下室頂板防水層含保護層",null,null,{"$f":"ROUND(SUM(D325:D327),0)","v":{"$error":"#VALUE!"}},"M2"]
[null,"氣槽區","5*2.95",{"$f":"一般計算","v":{"$error":"#NAME?"}}]
[null,"大廳前","7.4*6.8+3*1.65+43.3*11.55+9.6*9.3",{"$f":"一般計算","v":{"$error":"#NAME?"}}]
[null,"卸貨區","4.6*9.7",{"$f":"一般計算","v":{"$error":"#NAME?"}}]
["六.57","筏基及一層外推地坪防潮層",null,null,{"$f":"ROUND(SUM(D329:D330),0)","v":{"$error":"#VALUE!"}},"M2"]
[null,null,"52.6*49.6*1.1",{"$f":"一般計算","v":{"$error":"#NAME?"}}]
[null,"1F","2*9.6+2.1*18+1.4*10.4",{"$f":"一般計算","v":{"$error":"#NAME?"}}]
["六.58","地下室外牆接縫防水打鑿",null,null,{"$f":"ROUND(SUM(D332),0)","v":{"$error":"#VALUE!"}},"M2"]
[null,null,"(52.6+49.6)*2*4",{"$f":"一般計算","v":{"$error":"#NAME?"}}]
[null,"地下室外牆防水層",null,null,{"$f":"ROUND(SUM(D334),0)","v":{"$error":"#VALUE!"}},"M2"]
[null,null,"9.3*(52.6+49.6)*2+1.75*62.6+4.1*1.4*2",{"$f":"一般計算","v":{"$error":"#NAME?"}}]
["六.59","屋面設備基座 15CM高",null,null,{"$f":"ROUND(SUM(D336),0)","v":{"$error":"#VALUE!"}},"M2"]
[null,null,"4*11.5+3*1.5",{"$f":"一般計算","v":{"$error":"#NAME?"}}]
["六.60","設備基座不銹鋼邊框",null,null,{"$f":"ROUND(SUM(D338),0)","v":{"$error":"#VALUE!"}},"M"]
[null,null,"(4+13)*2",{"$f":"一般計算","v":{"$error":"#NAME?"}}]
[]
["七","門窗工程(含玻璃及門窗五金)"]
["七.1","D1 200*235 不銹鋼烤漆安全門 F60A (遮煙)",null,{"$f":"+門窗!Q5","v":1},{"$f":"+D341","v":1},"樘"]
["七.2","D2 120*220 不銹鋼烤漆安全門 F60A (遮煙)",null,{"$f":"+門窗!Q6","v":36},{"$f":"+D342","v":36},"樘"]
["七.3","D3 120*220 不銹鋼烤漆安全門 F60A (遮煙)",null,{"$f":"+門窗!Q7","v":1},1,"樘"]
["七.4","D4 250*250 不銹鋼烤漆防火門 F60A (遮煙)",null,{"$f":"+門窗!Q8","v":1},1,"樘"]
["七.5","D5 240*220 不銹鋼烤漆防火門 F60A (遮煙)",null,{"$f":"+門窗!Q9","v":14},14,"樘"]
["七.6","D6 240*220 不銹鋼烤漆防火門 F60A (遮煙)",null,{"$f":"+門窗!Q10","v":2},2,"樘"]
["七.7","D7 200*235 不銹鋼烤漆防火門 F60A (遮煙)",null,{"$f":"+門窗!Q11","v":1},1,"樘"]
["七.8","D8 200*220 不銹鋼烤漆防火門 F60A (遮煙)",null,{"$f":"+門窗!Q12","v":11},11,"樘"]
["七.9","D9 120*220 不銹鋼烤漆防火門 F60A (遮煙)",null,{"$f":"+門窗!Q13","v":3},3,"樘"]
["七.10","D10 100*220 不銹鋼烤漆防火門 F60A (遮煙)",null,{"$f":"+門窗!Q14","v":12},12,"樘"]
["七.11","D11 160*210 不銹鋼烤漆防火門 F60A (遮煙)",null,{"$f":"+門窗!Q15","v":45},45,"樘"]
["七.12","D12 160*200 不銹鋼烤漆防火門 F60A (遮煙)",null,{"$f":"+門窗!Q16","v":2},2,"樘"]
["七.13","D13 90*210 不銹鋼烤漆防火門 F60A (遮煙)",null,{"$f":"+門窗!Q17","v":16},16,"樘"]
["七.14","D14 300*300 不銹鋼烤漆防火門 F60A",null,{"$f":"+門窗!Q18","v":1},1,"樘"]
["七.15","D15 250*250 不銹鋼烤漆防火門 F60A",null,{"$f":"+門窗!Q19","v":2},2,"樘"]
["七.16","D16 240*220 不銹鋼烤漆防火門 F60A",null,{"$f":"+門窗!Q20","v":1},1,"樘"]
["七.17","D17 200*220 不銹鋼烤漆防火門 F60A",null,{"$f":"+門窗!Q21","v":4},4,"樘"]
["七.18","D18 120*220 不銹鋼烤漆防火門 F60A",null,{"$f":"+門窗!Q22","v":6},6,"樘"]
["七.19","D19 100*220 不銹鋼烤漆防火門 F60A",null,{"$f":"+門窗!Q23","v":2},2,"樘"]
["七.20","D20 200*220 不銹鋼烤漆門 ",null,{"$f":"+門窗!Q24","v":1},1,"樘"]
["七.21","D21 120*220 不銹鋼烤漆門",null,{"$f":"+門窗!Q25","v":1},1,"樘"]
["七.22","D22 120*220 不銹鋼烤漆門",null,{"$f":"+門窗!Q26","v":2},2,"樘"]
["七.23","D23 100*220 鋼製烤漆門 含視窗",null,{"$f":"+門窗!Q27","v":2},2,"樘"]
["七.24","D24 90*220 鋼製烤漆門 含視窗",null,{"$f":"+門窗!Q28","v":27},27,"樘"]
["七.25","D25 80*210 鋼製烤漆門 含百葉",null,{"$f":"+門窗!Q29","v":1},1,"樘"]
["七.26","D26 200*205 不銹鋼烤漆門 台電規格橫拉門 ",null,{"$f":"+門窗!Q30","v":1},1,"樘"]
["七.27","D27 110*210 SMC 無障礙拉門",null,{"$f":"+門窗!Q31","v":4},4,"樘"]
["七.28","D28 120*120 不銹鋼防火維修門 F60B",null,{"$f":"+門窗!Q32","v":13},13,"樘"]
["七.29","D29 80*120 不銹鋼防火維修門 F60B",null,{"$f":"+門窗!Q33","v":13},13,"樘"]
["七.30","SD1  700*322  不銹鋼電動捲門",null,{"$f":"+門窗!Q34","v":1},1,"樘"]
["七.31","SD2  310*445  不銹鋼電動捲門",null,{"$f":"+門窗!Q35","v":2},2,"樘"]
["七.32","SD3  350*400  不銹鋼電動捲門",null,{"$f":"+門窗!Q36","v":1},1,"樘"]
["七.33","SD4  350*375  不銹鋼電動捲門",null,{"$f":"+門窗!Q37","v":8},8,"樘"]
["七.34","SD5  500*280  不銹鋼電動防火捲門 60A",null,{"$f":"+門窗!Q38","v":1},1,"樘"]
["七.35","SD6  181*280  遮煙捲簾",null,{"$f":"+門窗!Q39","v":18},18,"樘"]
["七.36","L1 鍍鋅鋼板防火百葉閘門 65*65",null,{"$f":"+門窗!Q40","v":1},1,"樘"]
["七.37","L1a 鍍鋅鋼板防火百葉閘門 65*65",null,{"$f":"+門窗!Q41","v":1},1,"樘"]
["七.38","L2 284*156 防颱型鋁百葉",null,{"$f":"+門窗!Q42","v":1},1,"樘"]
["七.39","L3 134*156 防颱型鋁百葉",null,{"$f":"+門窗!Q43","v":4},4,"樘"]
["七.40","L4 140*200 防颱型鋁百葉",null,{"$f":"+門窗!Q44","v":1},1,"樘"]
["七.41","L5 250*100 防颱型鋁百葉",null,{"$f":"+門窗!Q45","v":1},1,"樘"]
["七.42","L6 1100*100 防颱型鋁百葉+鋁窗",null,{"$f":"+門窗!Q46","v":3},3,"樘"]
["七.43","L7 85*150 防颱型鋁百葉",null,{"$f":"+門窗!Q47","v":2},2,"樘"]
["七.44","L8 100*100 可關閉防水型鋁百葉",null,{"$f":"+門窗!Q48","v":1},1,"樘"]
["七.45","L8a 100*100 可關閉防水型鋁百葉",null,{"$f":"+門窗!Q49","v":2},2,"樘"]
["七.46","L9 60*60 防颱型鋁百葉",null,{"$f":"+門窗!Q50","v":1},1,"樘"]
["七.47","L9a 60*60 防颱型鋁百葉",null,{"$f":"+門窗!Q51","v":1},1,"樘"]
["七.48","L10 130*55 防颱型鋁百葉",null,{"$f":"+門窗!Q52","v":1},1,"樘"]
["七.49","W1 1100*200 鋁窗 (附摺疊紗窗)",null,{"$f":"+門窗!Q53","v":1},1,"樘"]
["七.50","W2 1100*100 鋁窗 (附摺疊紗窗)",null,{"$f":"+門窗!Q54","v":5},5,"樘"]
["七.51","W3 300*200 鋁窗 (附摺疊紗窗)",null,{"$f":"+門窗!Q55","v":1},1,"樘"]
["七.52","W4 180*100 鋁窗 (附摺疊紗窗)",null,{"$f":"+門窗!Q56","v":1},1,"樘"]
["七.53","W4a 180*100 鋁窗 (附摺疊紗窗)",null,{"$f":"+門窗!Q57","v":1},1,"樘"]
["七.54","W5 180*100 鋁窗+防颱型百葉 (附摺疊紗窗)",null,{"$f":"+門窗!Q58","v":1},1,"樘"]
["七.55","W6 100*100 鋁窗 (附摺疊紗窗)",null,{"$f":"+門窗!Q59","v":2},2,"樘"]
["七.56","W6a 100*100 鋁窗 (附摺疊紗窗)",null,{"$f":"+門窗!Q60","v":18},18,"樘"]
["七.57","W7 100*50 鋁窗 (附摺疊紗窗)",null,{"$f":"+門窗!Q61","v":4},4,"樘"]
["七.58","W8 840*245 鋁窗+鋁門 (附紗窗,紗門)",null,{"$f":"+門窗!Q62","v":1},1,"樘"]
["七.59","W9 100*103 鋁窗 (附紗窗)",null,{"$f":"+門窗!Q63","v":1},1,"樘"]
["七.60","CW1 1214*4845 玻璃帷幕牆 含飾板",null,{"$f":"+門窗!Q64","v":1},1,"樘"]
["七.61","CW2 3980.5*1185 玻璃帷幕牆",null,{"$f":"+門窗!Q65","v":1},1,"樘"]
["七.62","CW3 219.5*500 玻璃帷幕牆",null,{"$f":"+門窗!Q66","v":1},1,"樘"]
["七.63","CW4 219.5*500 玻璃帷幕牆 ",null,{"$f":"+門窗!Q67","v":1},1,"樘"]
["七.64","CW5 1498*400 玻璃帷幕牆 風除室",null,{"$f":"+門窗!Q68","v":1},1,"樘"]
["七.65","CW6 979*370 玻璃帷幕牆",null,{"$f":"+門窗!Q69","v":1},1,"樘"]
["七.66","CW7 994*345 玻璃帷幕牆",null,{"$f":"+門窗!Q70","v":2},{"$f":"+D406","v":2},"樘"]
["七.67","CW8 898*345 玻璃帷幕牆",null,{"$f":"+門窗!Q71","v":1},1,"樘"]
["七.68","CW9 979*200 玻璃帷幕牆",null,{"$f":"+門窗!Q72","v":6},6,"樘"]
["七.69","CW10 968*305 玻璃帷幕牆",null,{"$f":"+門窗!Q73","v":1},1,"樘"]
["七.70","CW11 980*305 玻璃帷幕牆",null,{"$f":"+門窗!Q74","v":1},1,"樘"]
["七.71","CW12 1691*360 玻璃帷幕牆",null,{"$f":"+門窗!Q75","v":1},1,"樘"]
["七.72","CW13 180*5010 玻璃帷幕牆",null,{"$f":"+門窗!Q76","v":1},1,"樘"]
["七.73","CW14 242*4110 玻璃帷幕牆",null,{"$f":"+門窗!Q77","v":1},1,"樘"]
["七.74","CW15 3424*434 玻璃帷幕牆 含鋁飾板",null,{"$f":"+門窗!Q78","v":6},6,"樘"]
[]
["八","雜項工程"]
["八.1","A樓梯立式行動不便不銹鋼杆木扶手(內側) H=90",null,null,{"$f":"ROUND(SUM(D418:D419),0)","v":{"$error":"#VALUE!"}},"M"]
[null,null,"3.12+3.57+0.3+3.33+0.3+3.35+0.3+3.34+0.65+2.7+3.02+3.05+3.02+3.35+3.33+0.6+2.71+3.64+0.87",{"$f":"一般計算","v":{"$error":"#NAME?"}}]
[null,null,"(4.52+0.3+4.3)*8+2.05+0.3*27",{"$f":"一般計算","v":{"$error":"#NAME?"}}]
["八.2","A樓梯立式不銹鋼杆木扶手(外側)",null,null,{"$f":"ROUND(SUM(D421:D424),0)","v":{"$error":"#VALUE!"}},"M"]
[null,null,"0.6+3.12+1.8+3.57+1.2+(0.3+3.33+0.3+1.8+3.35+1.2)+(0.66+3.33+0.3+2.1+2.7+1.8+3.5+1.9+3.3+0.2)",{"$f":"一般計算","v":{"$error":"#NAME?"}}]
[null,null,"0.65+2.7+1.8+3+1.8+3.3+0.4+1+3.04+(1.81*2+3)+0.6+3+0.6+0.4",{"$f":"一般計算","v":{"$error":"#NAME?"}}]
[null,null,"0.8+3.34+1.55*2+3+0.6+3.3+3.1+0.4+0.8+2.7+(1.55*2+3)+3.63+0.8+0.4",{"$f":"一般計算","v":{"$error":"#NAME?"}}]
[null,null,"(0.6+0.3+4.5+1.55*2+3+0.3+4.3+0.4)*8",{"$f":"一般計算","v":{"$error":"#NAME?"}}]
["八.3","B樓梯立式行動不便不銹鋼欄杆扶手(內側) H=110",null,null,{"$f":"ROUND(SUM(D426:D427),0)","v":{"$error":"#VALUE!"}},"M"]
[null,null,"(2.95+0.3+2.87)+(3.22+0.3+2.88)+(0.6+2.55+2.61+2.6+2.3)+(0.63+3.05+2.22+0.45+2.7+2.89+0.63)",{"$f":"一般計算","v":{"$error":"#NAME?"}}]
[null,null,"(3.71+0.3+3.6)+(3.9+0.3+3.6)*7+(3.89+5.3+0.4+1.8)+0.3*29",{"$f":"一般計算","v":{"$error":"#NAME?"}}]
["八.4","B樓梯立式行動不便不銹鋼欄杆扶手(外側) H=110",null,null,{"$f":"ROUND(SUM(D429:D431),0)","v":{"$error":"#VALUE!"}},"M"]
[null,null,"(2.94+1)+(3.22+1)+(2.55+1.5+2.7)+(0.3+1.1+2.6+1.45+2.6)+(0.3+1+3.05+1.45+2.6)",{"$f":"一般計算","v":{"$error":"#NAME?"}}]
[null,null,"(0.7+1+2.7+1.45+2.6)+(0.7+0.3+3.7+1.45+2.6)+(0.7+0.3+3.9+1.45+2.6)*7",{"$f":"一般計算","v":{"$error":"#NAME?"}}]
[null,null,"(0.7+3.9+1.45+2.6)",{"$f":"一般計算","v":{"$error":"#NAME?"}}]
["八.5","C樓梯立式行動不便不銹鋼欄杆扶手(內側) H=90",null,null,{"$f":"ROUND(SUM(D433:D434),0)","v":{"$error":"#VALUE!"}},"M"]
[null,null,"(1.6+1.7+0.6+2.25+0.6+2.27)+(0.6+2.88+2.51+2.86+2.89)+(0.6+3.7+0.3+3.58)",{"$f":"一般計算","v":{"$error":"#NAME?"}}]
[null,null,"(3.95+0.35+3.58)*6+1.45+3.58+0.35+0.3*21",{"$f":"一般計算","v":{"$error":"#NAME?"}}]
["八.6","C樓梯掛式不銹鋼欄杆扶手",null,null,{"$f":"ROUND(SUM(D436),0)","v":{"$error":"#VALUE!"}},"M"]
[null,null,3.8,{"$f":"一般計算","v":{"$error":"#NAME?"}}]
["八.7","B2層A梯廳階梯欄杆扶手",null,null,{"$f":"ROUND(SUM(D438),0)","v":{"$error":"#VALUE!"}},"M"]
[null,null,"3.2+0.7",{"$f":"一般計算","v":{"$error":"#NAME?"}}]
["八.8","裝卸區階梯欄杆扶手",null,null,{"$f":"ROUND(SUM(D440),0)","v":{"$error":"#VALUE!"}},"M"]
[null,null,"3.3+4.5+0.5",{"$f":"一般計算","v":{"$error":"#NAME?"}}]
["八.9","機房階梯欄杆扶手",null,null,{"$f":"ROUND(SUM(D442),0)","v":{"$error":"#VALUE!"}},"M"]
[null,null,"4.5+1",{"$f":"一般計算","v":{"$error":"#NAME?"}}]
["八.10","吊裝平台不銹鋼湩動欄杆",null,null,{"$f":"ROUND(SUM(D444),0)","v":{"$error":"#VALUE!"}},"M"]
[null,null,"2+9.5+(5.2+2)*8",{"$f":"一般計算","v":{"$error":"#NAME?"}}]
["八.11","裝卸區昇降調整板",null,null,{"$f":"ROUND(SUM(D446),0)","v":{"$error":"#VALUE!"}},"組"]
[null,null,2,{"$f":"一般計算","v":{"$error":"#NAME?"}}]
["八.12","筏基水池氣密鑄鐵人孔蓋 80∮",null,null,{"$f":"ROUND(SUM(D448),0)","v":{"$error":"#VALUE!"}},"組"]
[null,null,10,{"$f":"一般計算","v":{"$error":"#NAME?"}}]
["八.13","筏基水箱不銹鋼爬梯 H*1.5",null,null,{"$f":"ROUND(SUM(D450),0)","v":{"$error":"#VALUE!"}},"組"]
[null,null,10,{"$f":"一般計算","v":{"$error":"#NAME?"}}]
["八.14","電梯坑不銹鋼爬梯",null,null,{"$f":"ROUND(SUM(D452),0)","v":{"$error":"#VALUE!"}},"組"]
[null,null,5,{"$f":"一般計算","v":{"$error":"#NAME?"}}]
["八.15","屋面不銹鋼人孔蓋 80*80",null,null,{"$f":"ROUND(SUM(D454),0)","v":{"$error":"#VALUE!"}},"座"]
[null,null,2,{"$f":"一般計算","v":{"$error":"#NAME?"}}]
["八.16","屋面不銹鋼爬梯 H=404",null,null,{"$f":"ROUND(SUM(D456),0)","v":{"$error":"#VALUE!"}},"座"]
[null,null,1,{"$f":"一般計算","v":{"$error":"#NAME?"}}]
["八.17","屋面不銹鋼爬梯 H=354",null,null,{"$f":"ROUND(SUM(D458),0)","v":{"$error":"#VALUE!"}},"座"]
[null,null,1,{"$f":"一般計算","v":{"$error":"#NAME?"}}]
["八.18","廁所熱固性板隔間 含門扇,五金,掛鈎",null,null,{"$f":"ROUND(SUM(D460),0)","v":{"$error":"#VALUE!"}},"間"]
[null,null,"6*10",{"$f":"一般計算","v":{"$error":"#NAME?"}}]
["八.19","小便斗隔板",null,null,{"$f":"ROUND(SUM(D462),0)","v":{"$error":"#VALUE!"}},"片"]
[null,null,"2*10",{"$f":"一般計算","v":{"$error":"#NAME?"}}]
["八.20","單元廁所馬桶背板及上方蓋板",null,null,{"$f":"ROUND(SUM(D464),0)","v":{"$error":"#VALUE!"}},"組"]
[null,null,"4*10",{"$f":"一般計算","v":{"$error":"#NAME?"}}]
["八.21","單元小便斗面板",null,null,{"$f":"ROUND(SUM(D466),0)","v":{"$error":"#VALUE!"}},"組"]
[null,null,"3*10",{"$f":"一般計算","v":{"$error":"#NAME?"}}]
["八.22","小便斗上方人造石蓋板",null,null,{"$f":"ROUND(SUM(D468),0)","v":{"$error":"#VALUE!"}},"M"]
[null,null,"2.8*10",{"$f":"一般計算","v":{"$error":"#NAME?"}}]
["八.23","行動不便小便斗扶手",null,null,{"$f":"ROUND(SUM(D470),0)","v":{"$error":"#VALUE!"}},"組"]
[null,null,"1*10",{"$f":"一般計算","v":{"$error":"#NAME?"}}]
["八.24","行動不便廁所扶手配件",null,null,{"$f":"ROUND(SUM(D472),0)","v":{"$error":"#VALUE!"}},"間"]
[null,"1,4,7,10樓",4,{"$f":"一般計算","v":{"$error":"#NAME?"}}]
["八.25","人造石洗手台面",null,null,{"$f":"ROUND(SUM(D474),0)","v":{"$error":"#VALUE!"}},"M"]
[null,null,"(1.5+1.75)*10",{"$f":"一般計算","v":{"$error":"#NAME?"}}]
["八.26","三重明鏡",null,null,{"$f":"ROUND(SUM(D476),0)","v":{"$error":"#VALUE!"}},"M2"]
[null,null,"(1.5+1.75)*0.8*10",{"$f":"一般計算","v":{"$error":"#NAME?"}}]
["八.27","茶水間不銹鋼流理台含水槽及吊櫃 L=200CM",null,null,{"$f":"ROUND(SUM(D478),0)","v":{"$error":"#VALUE!"}},"座"]
[null,null,10,{"$f":"一般計算","v":{"$error":"#NAME?"}}]
["八.19","汽車停車位劃線",null,null,{"$f":"ROUND(SUM(D480:D481),0)","v":{"$error":"#VALUE!"}},"個"]
[null,"B2",51,{"$f":"一般計算","v":{"$error":"#NAME?"}}]
[null,"B1",33,{"$f":"一般計算","v":{"$error":"#NAME?"}}]
["八.20","行動不便汽車停車位劃線(含標誌,共用走道)",null,null,{"$f":"ROUND(SUM(D483),0)","v":{"$error":"#VALUE!"}},"個"]
[null,null,2,{"$f":"一般計算","v":{"$error":"#NAME?"}}]
["八.21","機車停車位劃線",null,null,{"$f":"ROUND(SUM(D485),0)","v":{"$error":"#VALUE!"}},"個"]
[null,"B1",79,{"$f":"一般計算","v":{"$error":"#NAME?"}}]
["八.22","行動不便機車位(含標誌)",null,null,{"$f":"ROUND(SUM(D487),0)","v":{"$error":"#VALUE!"}},"個"]
[null,"1F",2,{"$f":"一般計算","v":{"$error":"#NAME?"}}]
["八.23","一樓裝卸車位",null,null,{"$f":"ROUND(SUM(D489),0)","v":{"$error":"#VALUE!"}},"個"]
[null,null,2,{"$f":"一般計算","v":{"$error":"#NAME?"}}]
["八.24","車輪檔",null,null,{"$f":"ROUND(SUM(D491),0)","v":{"$error":"#VALUE!"}},"個"]
[null,null,"(84+2)*2",{"$f":"一般計算","v":{"$error":"#NAME?"}}]
["八.25","防撞條",null,null,{"$f":"ROUND(SUM(D493:D494),0)","v":{"$error":"#VALUE!"}},"個"]
[null,"B2","1*10+2*3+4*13",{"$f":"一般計算","v":{"$error":"#NAME?"}}]
[null,"B1","1*11+2*7+3*2+4*10",{"$f":"一般計算","v":{"$error":"#NAME?"}}]
["八.26","反射鏡",null,null,{"$f":"ROUND(SUM(D496),0)","v":{"$error":"#VALUE!"}},"個"]
[null,null,6,{"$f":"一般計算","v":{"$error":"#NAME?"}}]
["八.27","方向箭頭",null,null,{"$f":"ROUND(SUM(D498),0)","v":{"$error":"#VALUE!"}},"個"]
[null,null,6,{"$f":"一般計算","v":{"$error":"#NAME?"}}]
["八.28","車道截水溝",null,null,{"$f":"ROUND(SUM(D500),0)","v":{"$error":"#VALUE!"}},"M"]
[null,null,8,{"$f":"一般計算","v":{"$error":"#NAME?"}}]
["八.29","筏基連通管 6\"",null,null,{"$f":"ROUND(SUM(D502),0)","v":{"$error":"#VALUE!"}},"支"]
[null,null,77,{"$f":"一般計算","v":{"$error":"#NAME?"}}]
["八.30","筏基通氣管 4\"",null,null,{"$f":"ROUND(SUM(D504),0)","v":{"$error":"#VALUE!"}},"支"]
[null,null,77,{"$f":"一般計算","v":{"$error":"#NAME?"}}]
["九","電梯設備工程(含吊掛鋼樑等安裝須求項目)"]
["九.1","乘客兼行動不便電梯 1000KG 90M/Min 12停",1,{"$f":"一般計算","v":{"$error":"#NAME?"}},{"$f":"ROUND(SUM(D506),0)","v":{"$error":"#VALUE!"}},"部"]
["九.2","乘客梯 1000KG 90M/Min 12停",1,{"$f":"一般計算","v":{"$error":"#NAME?"}},{"$f":"ROUND(SUM(D507),0)","v":{"$error":"#VALUE!"}},"部"]
["九.3","載貨電梯 3000KG 60M/Min 13停",1,{"$f":"一般計算","v":{"$error":"#NAME?"}},{"$error":"#VALUE!"},"部"]
["九.4","乘客電梯 雙向門 1000KG 90M/Min 9停",2,{"$f":"一般計算","v":{"$error":"#NAME?"}},{"$error":"#VALUE!"},"部"]
[]
["十","景觀及植栽工程"]
[]
[]
[]
[]
[]
[]
[]
[]
[]
[]
[]
[]
[]
[]
[]
[]
[]
[]
[]
[]
[]
[]
[]
[]
[]
[]
[]
[]
[]
[]
[]
[]
[]
[]
[]
[]
[]
[]
[]
[]
[]
[]
[]
[]
[]
[]
[]
[]
[]
[]
[]
[]
[]
[]
[]
[]
[]
[]
[]
[]
[]
[]
[]
[]
[]
[]
[]
[]
[]
[]
[]
[]
[]
[]
[]
[]
[]
[]
[]
[]
[]
[]
[]
[]
[]
[]
[]
[]
[]
[]
[]
[]
[]
[]
[]
[]
[]
[]
[]
[]
[]
[]
[]
[]
[]
[]
[]
[]
[]
[]
[]
[]
[]
[]
[]
[]
[]
[]
[]
[]
[]
[]
[]
[]
[]
[]
[]
[]
[]
[]
[]
[]
[]
[]
[]
[]
[]
[]
[]
[]
[]
[]
[]
[]
[]
[]
[]
[]
[]
[]
[]
[]
[]
[]
[]
[]
[]
[]
[]
[]
[]
[]
[]
[]
[]
[]
[]
[]
[]
[]
[]
[]
[]
[]
[]
[]
[]
[]
[]
[]
[]
[]
[]
[]
[]
[]
[]
[]
[]
[]
[]
[]
[]
[]
[]
[]
[]
[]
[]
[]
[]
[]
[]
[]
[]
[]
[]
[]
[]
[]
[]
[]
[]
[]
[]
[]
[]
[]
[]
[]
[]
[]
[]
[]
[]
[]
[]
[]
[]
[]
[]
[]
[]
[]
[]
[]
[]
[]
[]
[]
[]
[]
[]
[]
[]
[]
[]
[]
[]
[]
[]
[]
[]
[]
[]
[]
[]
[]
[]
[]
[]
[]
[]
[]
[]
[]
[]
[]
[]
[]
[]
[]
[]
[]
[]
[]
[]
[]
[]
[]
[]
[]
[]
[]
[]
[]
[]
[]
[]
[]
[]
[]
[]
[]
[]
[]
[]
[]
[]
[]
[]
[]
[]
[]
[]
[]
[]
[]
[]
[]
[]
[]
[]
[]
[]
[]
[]
[]
[]
[]
[]
[]
[]
[]
[]
[]
[]
[]
[]
[]
[]
[]
[]
[]
[]
[]
[]
[]
[]
[]
[]
[]
[]
[]
[]
[]
[]
[]
[]
[]
[]
[]
[]
[]
[]
[]
[]
[]
[]
[]
[]
[]
[]
[]
[]
[]
[]
[]
[]
[]
[]
[]
[]
[]
[]
[]
[]
[]
[]
[]
[]
[]
[]
[]
[]
[null,null,null,null,null,null,null,{"$f":"((0.5*2+(0.5-0.025*2))*7.85*25)*1.003","v":285.41618749999992}]
[]
[]
[]
[]
[]
[]
[]
[]
[]
[]
[]
[]
[]
[]
[]
[]
[]
[]
[]
[]
[]
[]
[]
[]
[]
[null,null,null,null,null,null,null,{"$f":"((0.7*2+(0.7-0.04*2))*7.85*40)*1.003","v":636.18283999999994}]
[]
[]
[]
[]
[]
[]
[]
[]
[]
[]
[]
[]
[]
[]
[]
[]
[]
[]
[]
[]
[]
[]
[]
[]
[]
[]
[]
[]
[]
[]
[]
[]
[]
[]
[]
[]
[]
[]
[]
[]
[]
[]
[]
[]
[]
[]
[]
[]
[]
[]
[]
[]
[]
[]
[]
[]
[]
[]
[]
[]
[]
[]
[]
[]
[]
[]
[]
[]
[]
[]
[]
[]
[]
[]
[]
[]
[]
[]
[]
[]
[]
[]
[]
[]
[]
[]
[]
[]
[]
[]
[]
[]
[]
[]
[]
[]
[]
[]
[]
[]
[]
[]
[]
[]
[]
[]
[]
[]
[]
[]
[]
[]
[]
[]
[]
[]
[]
[]
[]
[]
[]
[]
[]
[]
[]
[]
[]
[]
[]
[]
[]
[]
[]
[]
[]
[]
[]
[]
[]
[]
[]
[]
[]
[]
[]
[]
[]
[]
[]
[]
[]
[]
[]
[]
[]
[]
[]
[]
[]
[]
[]
[]
[]
[]
[]
[]
[]
[]
[]
[]
[]
[]
[]
[]
[]
[]
[]
[]
[]
[]
[]
[]
[]
[]
[]
[]
[]
[]
[]
[]
[]
[]
[]
[]
[]
[]
[]
[]
[]
[]
[]
[]
[]
[]
[]
[]
[]
[]
[]
[]
[]
[]
[]
[]
[]
[]
[]
[]
[]
[]
[]
[]
[]
[]
[]
[]
[]
[]
[]
[]
[]
[]
[]
[]
[]
[]
[]
[]
[]
[]
[]
[]
[]
[]
[]
[]
[]
[]
[]
[]
[]
[]
[]
[]
[]
[]
[]
[]
[]
[]
[]
[]
[]
[]
[]
[]
[]
[]
[]
[]
[]
[]
[]
[]
[]
[]
[]
[]
[]
[]
[]
[]
[]
[]
[]
[]
[]
[]
[]
[]
[]
[]
[]
[]
[]
[]
[]
[]
[]
[]
[]
[]
[]
[]
[]
[]
[]
[]
[]
[]
[]
[]
[]
[]
[]
[]
[]
[]
[]
[]
[]
[]
[]
[]
[]
[]
[]
[]
[]
[]
[]
[]
[]
[]
[]
[]
[]
[]
[]
[]
[]
[]
[]
[]
[]
[]
[]
[]
[]
[]
[]
[]
[]
[]
[]
[]
[]
[]
[]
[]
[]
[]
[]
[]
[]
[]
[]
[]
[]
[]
[]
[]
[]
[]
[]
[]
[]
[]
[]
[]
[]
[]
[]
[]
[]
[]
[]
[]
[]
[]
[]
[]
[]
[]
[]
[]
[]
[]
[]
[]
[]
[]
[]
[]
[]
[]
[]
[]
[]
[]
[]
[]
[]
[]
[]
[]
[]
[]
[]
[]
[]
[]
[]
[]
[]
[]
[]
[]
[]
[]
[]
[]
[]
[]
[]
[]
[]
[]
[]
[]
[]
[]
[]
[]
[]
[]
[]
[]
[]
[]
[]
[]
[]
[]
[]
[]
[]
[]
[]
[null,null,null,null,null,null,{"$f":"SUM(E1383:E1387)","v":0}]

{"sheet":"粉刷表","index":3,"n_rows":557,"n_cols":8,"rows_kept":557,"cut":false,"hidden":false,"merged":[[0,0,0,6],[2,0,2,6]]}
[]
[]
["粉刷計算表"]
["業 主: 樂迦再生科技股份有限公司",null,null,null," 日    期:2022-"]
["工程名稱:竹北生醫園區廠房新建工程",null,null,null," 施工地點:"]
["房 間 編 號","地坪,平頂","代號","數量","牆面,踢腳","代號","數量"]
["B201 地下水箱內","5.25*6.1","F10",{"$f":"粉刷表","v":{"$error":"#NAME?"}},"1.6*(5.25+6.1)*2","W10",{"$f":"粉刷表","v":{"$error":"#NAME?"}}]
[null,"5.25*6.1","C10",{"$f":"粉刷表","v":{"$error":"#NAME?"}}]
["水箱上方","5.85*6.7","F11",{"$f":"粉刷表","v":{"$error":"#NAME?"}},"2.2*(5.85+6.7)*2","W1",{"$f":"粉刷表","v":{"$error":"#NAME?"}}]
["水箱機房","8.77*7.7-5.85*6.7","F6",{"$f":"粉刷表","v":{"$error":"#NAME?"}},"3.3*(8.77+8.7)*2-2.35","W1",{"$f":"粉刷表","v":{"$error":"#NAME?"}}]
[null,"8.77*7.7-0.6*0.77-0.4*7.1","C1",{"$f":"粉刷表","v":{"$error":"#NAME?"}}]
[null,"1.8*7.7+1.4*7.1","C1A",{"$f":"粉刷表","v":{"$error":"#NAME?"}}]
["B202 斜車道","6.1*10.5+4.3+1","F5A",{"$f":"粉刷表","v":{"$error":"#NAME?"}},"2.4*(10.5+11.63+0.6*4)","W2",{"$f":"粉刷表","v":{"$error":"#NAME?"}}]
[null,"6.1*10.5+4.3+1","C1",{"$f":"粉刷表","v":{"$error":"#NAME?"}},"0.9*(10.5+11.63+0.6*4)","B2",{"$f":"粉刷表","v":{"$error":"#NAME?"}}]
["B203 平面車道停車位","5.6*7+2.4*17+1.6*4.3+43.8*12.9","F5",{"$f":"粉刷表","v":{"$error":"#NAME?"}},"2.4*(7+17.9+6.8+41.7+0.8*3+1.2*1)","W2A",{"$f":"粉刷表","v":{"$error":"#NAME?"}}]
[null,"30.8*5.66+0.93*6","F5",{"$f":"粉刷表","v":{"$error":"#NAME?"}},"0.9*(7+17.9+6.8+41.7+0.8*3+1.2*2)","B2A",{"$f":"粉刷表","v":{"$error":"#NAME?"}}]
[null,"2.45*4.67+36.4*5.82-4.3+42.9*11.2-1.2*3.9","F5",{"$f":"粉刷表","v":{"$error":"#NAME?"}},"2.4*(5.6+9.9+2.4+4.4+43.8+4.3+1.6)","W2",{"$f":"粉刷表","v":{"$error":"#NAME?"}}]
[null,"42.9*11.2-1.2*3.9-11.65*2.13*0.5","F5",{"$f":"粉刷表","v":{"$error":"#NAME?"}},"2.4*(8.24+1.1+6.65+30.8+0.9*3+4.76)","W2",{"$f":"粉刷表","v":{"$error":"#NAME?"}}]
[null,"5.6*7.2+2.4*16+4.65*40.2+7*8.1+4*(31.3*2)","C1",{"$f":"粉刷表","v":{"$error":"#NAME?"}},"2.4*(7.45+36.4+4.6+4*9)","W2",{"$f":"粉刷表","v":{"$error":"#NAME?"}}]
[null,"4*(28*2)+1.85*4.67+3.4*(40.2*2)+4.5*30","C1",{"$f":"粉刷表","v":{"$error":"#NAME?"}},"2.4*(5.6+2.45+4.75+0.4+2.8+7.77+3.2*3)","W2",{"$f":"粉刷表","v":{"$error":"#NAME?"}}]
[null,"3.7*8.7","C1",{"$f":"粉刷表","v":{"$error":"#NAME?"}},"2.4*(1.2+3.5)-1.37*5-2.87*2-2.02*2","W2",{"$f":"粉刷表","v":{"$error":"#NAME?"}}]
[null,"1.8*(4.9*4+8*4+3.9*3+3.8*3+6.9*3+4.6+4.1*3)","C1A",{"$f":"粉刷表","v":{"$error":"#NAME?"}},"-3.72-9.5","W2",{"$f":"粉刷表","v":{"$error":"#NAME?"}}]
[null,"0.2*(4.9+8+6.9)+1.8*(9.8*12+10*4+2.4)","C1A",{"$f":"粉刷表","v":{"$error":"#NAME?"}},"0.9*(5.6+9.9+2.4+4.4+43.8+4.3+1.6)","B2",{"$f":"粉刷表","v":{"$error":"#NAME?"}}]
[null,"0.2*(10.8*4)+1.4*(2.4+4.65*4+8.4*7+7.2*4)","C1A",{"$f":"粉刷表","v":{"$error":"#NAME?"}},"0.9*(8.24+1.1+6.65+30.8+0.9*3+4.76)","B2",{"$f":"粉刷表","v":{"$error":"#NAME?"}}]
[null,"1.4*(4.4*4+10.2*9+4*2+6)","C1A",{"$f":"粉刷表","v":{"$error":"#NAME?"}},"0.9*(7.45+36.4+4.6+4*9)","B2",{"$f":"粉刷表","v":{"$error":"#NAME?"}}]
[null,null,null,null,"0.9*(5.6+2.45+4.75+0.4+2.8+7.77+3.2*3)","B2",{"$f":"粉刷表","v":{"$error":"#NAME?"}}]
[null,null,null,null,"0.9*(1.2+3.5)-0.99*5-2.07*2-1.05*2","B2",{"$f":"粉刷表","v":{"$error":"#NAME?"}}]
[null,null,null,null,"-2.16-4.5","B2",{"$f":"粉刷表","v":{"$error":"#NAME?"}}]
["B204 消防機房","5.4*9.9","F6",{"$f":"粉刷表","v":{"$error":"#NAME?"}},"3.3*9.9","W2A",{"$f":"粉刷表","v":{"$error":"#NAME?"}}]
[null,"5.4*9.9-0.4*5.4","C1",{"$f":"粉刷表","v":{"$error":"#NAME?"}},"3.3*(5.4*2+9.9)-3.07*2-4.94","W2",{"$f":"粉刷表","v":{"$error":"#NAME?"}}]
[null,"1.4*5.4","C1A",{"$f":"粉刷表","v":{"$error":"#NAME?"}}]
["B205 A電梯廳","5*3.5+2.05*0.7","F4",{"$f":"粉刷表","v":{"$error":"#NAME?"}},"2.6*4.6-1.1*2.1*2","W3",{"$f":"粉刷表","v":{"$error":"#NAME?"}}]
[null,"5*3.5+2.05*0.7","C4",{"$f":"粉刷表","v":{"$error":"#NAME?"}},"2.6*(0.4+3.5+5.65+0.67+1.5)-2.36","W2",{"$f":"粉刷表","v":{"$error":"#NAME?"}}]
["B206 B電梯廳","5.55*3.7","F6",{"$f":"粉刷表","v":{"$error":"#NAME?"}},"3.3*(5.5+3.7)*2-2.36-4.94-3","W2",{"$f":"粉刷表","v":{"$error":"#NAME?"}}]
[null,"5.15*3.7","C1",{"$f":"粉刷表","v":{"$error":"#NAME?"}}]
[null,"1.4*3.7","C1A",{"$f":"粉刷表","v":{"$error":"#NAME?"}}]
["B207 A樓梯","1.5*6.01+3*6.45+0.55*4.55","F7",{"$f":"粉刷表","v":{"$error":"#NAME?"}},"3.5*(5*2+1.5+6+5.2+6.4)-2.3","W2",{"$f":"粉刷表","v":{"$error":"#NAME?"}}]
[null,"1.55*3+1.5*2.62+2*3.4+1.55*1.75+2*1.75","F7",{"$f":"粉刷表","v":{"$error":"#NAME?"}},"3.5*5.2","W2A",{"$f":"粉刷表","v":{"$error":"#NAME?"}}]
[null,"1.55*3.+1.55*2.97+2*3.3+1.8*3.3+0.8*1.5","C2",{"$f":"粉刷表","v":{"$error":"#NAME?"}}]
["B208 B樓梯","2.9*6.85+1.5*2.34*2+1.5*3.5","F7",{"$f":"粉刷表","v":{"$error":"#NAME?"}},"3.5*(6.8+3)","W2A",{"$f":"粉刷表","v":{"$error":"#NAME?"}}]
[null,"1.5*(2.92+2.82)+3.3*1.8+3.3*2.65","C2",{"$f":"粉刷表","v":{"$error":"#NAME?"}},"3.5*(6.8+3)-2.36","W2",{"$f":"粉刷表","v":{"$error":"#NAME?"}}]
["B209梯廳階梯","2.05*2.6+1.8*1.3+2.05*1.75","F7",{"$f":"粉刷表","v":{"$error":"#NAME?"}},"3.5*(4.48*2+2.05)-2.36","W2",{"$f":"粉刷表","v":{"$error":"#NAME?"}}]
[null,"2.05*2.6+1.8*1.3+1.8*1.3","C2",{"$f":"粉刷表","v":{"$error":"#NAME?"}}]
["B210 儲藏室","6.6*3.66+0.65*1.25+5.25*2.82","F6",{"$f":"粉刷表","v":{"$error":"#NAME?"}},"3.3*(6.5+4.3+1.25+0.65+2.5+5.25+2.82)-1.93","W2",{"$f":"粉刷表","v":{"$error":"#NAME?"}}]
[null,"6.6*3.66+0.65*1.25+5.25*2.82-0.4*(4.1+2.8)","C1",{"$f":"粉刷表","v":{"$error":"#NAME?"}},"3.3*(1.5*2+0.7)-0.85","W4",{"$f":"粉刷表","v":{"$error":"#NAME?"}}]
[null,"1.4*(4.1+2.8)","C2",{"$f":"粉刷表","v":{"$error":"#NAME?"}},"3.3*8.85","W2A",{"$f":"粉刷表","v":{"$error":"#NAME?"}}]
["B211 空調機房","19.5*12.95","F6",{"$f":"粉刷表","v":{"$error":"#NAME?"}},"6.8*(19.5+1.2)","W2A",{"$f":"粉刷表","v":{"$error":"#NAME?"}}]
[null,"19.5*12.95-0.6*(18.5+11.8)-0.4*(8.8+18.1)","C1",{"$f":"粉刷表","v":{"$error":"#NAME?"}},"6.8*(19.5+12.95*2+4)-13.45-2.36","W2",{"$f":"粉刷表","v":{"$error":"#NAME?"}}]
[null,"1.8*(18.5+11.8)*2+1.4*(8.8+18.1)","C1A",{"$f":"粉刷表","v":{"$error":"#NAME?"}}]
["B212 高壓變電機房一","12.95*10.65","F6",{"$f":"粉刷表","v":{"$error":"#NAME?"}},"6.8*10.65","W2A",{"$f":"粉刷表","v":{"$error":"#NAME?"}}]
[null,"12.95*10.65-0.6*10.1-0.4*(8.6+9.8)","C1",{"$f":"粉刷表","v":{"$error":"#NAME?"}},"6.8*(12.95*2+10.65+1.7)-5.88","W2",{"$f":"粉刷表","v":{"$error":"#NAME?"}}]
[null,"1.8*10.1+1.4*(8.6+9.8)","C1A",{"$f":"粉刷表","v":{"$error":"#NAME?"}}]
["B213 高壓變電機房二","12.95*11.5","F6",{"$f":"粉刷表","v":{"$error":"#NAME?"}},"6.8*11.5","W2A",{"$f":"粉刷表","v":{"$error":"#NAME?"}}]
[null,"12.95*11.5-0.6*10.1-0.4*(8.6+9.8)","C1",{"$f":"粉刷表","v":{"$error":"#NAME?"}},"6.8*(12.95*2+11.5+1.7*2)-5.88","W2",{"$f":"粉刷表","v":{"$error":"#NAME?"}}]
[null,"1.8*10.1+1.4*(8.6+9.8)","C1A",{"$f":"粉刷表","v":{"$error":"#NAME?"}}]
["B101 斜車道1","7*21.05","F5A",{"$f":"粉刷表","v":{"$error":"#NAME?"}},"2.4*(7.55+0.7+0.4+7)-16","W2",{"$f":"粉刷表","v":{"$error":"#NAME?"}}]
[null,"7*(11.5-0.4*2-0.6)","C1",{"$f":"粉刷表","v":{"$error":"#NAME?"}},"0.9*(7.55+0.7+0.4+7)-6","B2",{"$f":"粉刷表","v":{"$error":"#NAME?"}}]
[null,"1.4*7*2+1.8*7","C1A",{"$f":"粉刷表","v":{"$error":"#NAME?"}}]
["B101 斜車道2","6.15*10.7+4.3+1","F5A",{"$f":"粉刷表","v":{"$error":"#NAME?"}},"(2.4+4.1)/2*(10.5+1.2)","W2A",{"$f":"粉刷表","v":{"$error":"#NAME?"}}]
[null,"6.15*10.5-0.4*6.15","C1",{"$f":"粉刷表","v":{"$error":"#NAME?"}},"0.9*10.7","B2A",{"$f":"粉刷表","v":{"$error":"#NAME?"}}]
[null,"1.4*6.15","C1A",{"$f":"粉刷表","v":{"$error":"#NAME?"}},"0.9*11.8","B2",{"$f":"粉刷表","v":{"$error":"#NAME?"}}]
[null,null,null,null,"(2.4+4.1)/2*11.8","W2",{"$f":"粉刷表","v":{"$error":"#NAME?"}}]
["B101 斜車道3","5.5*10.7+1.5+2.5","F5A",{"$f":"粉刷表","v":{"$error":"#NAME?"}},"0.9*(10.7+11.5)","B2",{"$f":"粉刷表","v":{"$error":"#NAME?"}}]
[null,"5.5+10.2-0.4*(10.2+5.5)-0.6*5.7","C1",{"$f":"粉刷表","v":{"$error":"#NAME?"}},"(2.4+4.1)*(10.7+11.5)","W2",{"$f":"粉刷表","v":{"$error":"#NAME?"}}]
[null,"1.4*(10.2+5.5)+1.8*5.7","C1A",{"$f":"粉刷表","v":{"$error":"#NAME?"}}]
["B102平面車道停車位","30.45*9.6+21.35*5.5+1.6*4.3+35.1*8.75","F5",{"$f":"粉刷表","v":{"$error":"#NAME?"}},"2.4*(9.6+18.55+5.8+10+26.5+0.8*3+1.2)","W2A",{"$f":"粉刷表","v":{"$error":"#NAME?"}}]
[null,"30.7*4.3-3*5.8+7.77*5.7+37.95*11.25-1.26*3.45","F5",{"$f":"粉刷表","v":{"$error":"#NAME?"}},"0.9*(9.6+18.55+5.8+10+26.5+0.8*3+1.2)","B2A",{"$f":"粉刷表","v":{"$error":"#NAME?"}}]
[null,"-11.65*2.13*0.5","F5",{"$f":"粉刷表","v":{"$error":"#NAME?"}},"2.4*(34.05+19.2+4.2+21.35+4.3+4*8)","W2",{"$f":"粉刷表","v":{"$error":"#NAME?"}}]
[null,"8*8.8+(3.75+4.75)*19.8+4.65*19.9","C1",{"$f":"粉刷表","v":{"$error":"#NAME?"}},"2.4*(20.24+4.8+28.2+6)-2.38*4","W2",{"$f":"粉刷表","v":{"$error":"#NAME?"}}]
[null,"8*31.9+8*(9.8+4)+2.5*4.35+1.3*5.8+4*4.85","C1",{"$f":"粉刷表","v":{"$error":"#NAME?"}},"4.15*(28.2+6.8+4*3+2)+2.4*(1.26+3.5)","W2",{"$f":"粉刷表","v":{"$error":"#NAME?"}}]
[null,"5.8*(10.4+4.4)+(3.25+4.4+3.55)*34.95","C1",{"$f":"粉刷表","v":{"$error":"#NAME?"}},"2.4*(7.77+2.2+5.5+5.3+3.2*3)","W2",{"$f":"粉刷表","v":{"$error":"#NAME?"}}]
[null,"10.6*1.75+7.77*5.7-1.4*5.7","C1",{"$f":"粉刷表","v":{"$error":"#NAME?"}},"-16-1.12-1.38*2","W2",{"$f":"粉刷表","v":{"$error":"#NAME?"}}]
[null,"2*(8*2+10.2+8*6+6.9*4+4.1*3)","C1A",{"$f":"粉刷表","v":{"$error":"#NAME?"}},"0.9*(34.05+19.2+4.2+21.35+4.3+4*8)","B2",{"$f":"粉刷表","v":{"$error":"#NAME?"}}]
[null,"2*(10.2*9+5.2)+1.4*(8.4*2+4.65*2)","C1A",{"$f":"粉刷表","v":{"$error":"#NAME?"}},"0.9*(20.24+4.8+28.2+6)-1.71*4","B2",{"$f":"粉刷表","v":{"$error":"#NAME?"}}]
[null,"1.4*(8*4+9.8*3+3.2+8*2+9.8*2+5.8+30.7)","C1A",{"$f":"粉刷表","v":{"$error":"#NAME?"}},"0.9*(28.2+6.8+4*3+2)+2.4*(1.26+3.5)","B2",{"$f":"粉刷表","v":{"$error":"#NAME?"}}]
[null,"1.4*(34.55+11.3*3)","C1A",{"$f":"粉刷表","v":{"$error":"#NAME?"}},"0.9*(7.77+2.2+5.5+5.3+3.2*3)","B2",{"$f":"粉刷表","v":{"$error":"#NAME?"}}]
[null,null,null,null,"-16-0.8-.99*2","B2",{"$f":"粉刷表","v":{"$error":"#NAME?"}}]
["B103 A電梯廳","3.55*5.6","F4",{"$f":"粉刷表","v":{"$error":"#NAME?"}},"2.6*(3.55+5.6)*2-1.89*2-2.1*2","W3",{"$f":"粉刷表","v":{"$error":"#NAME?"}}]
[null,"3.55*5.6","C4",{"$f":"粉刷表","v":{"$error":"#NAME?"}}]
["B104 B電梯廳","3.6*5.6","F6",{"$f":"粉刷表","v":{"$error":"#NAME?"}},"3.3*(3.6+5.6)*2-3-4.08-2.3","W2",{"$f":"粉刷表","v":{"$error":"#NAME?"}}]
[null,"3.6*5.6-0.4*3.6","C1",{"$f":"粉刷表","v":{"$error":"#NAME?"}}]
[null,"1.4*3.6","C1A",{"$f":"粉刷表","v":{"$error":"#NAME?"}}]
["B205 A樓梯","1.5*6+1.8*3.15+1.5*3+1.6*3+1.5*3.12*2","F7",{"$f":"粉刷表","v":{"$error":"#NAME?"}},"3.3*(6+1.5+4.35)+5.25*((6.45*2+3.55)-1.6)","W2",{"$f":"粉刷表","v":{"$error":"#NAME?"}}]
[null,"1.6*3.12+1.5*5.25+0.1*1.75","F7",{"$f":"粉刷表","v":{"$error":"#NAME?"}},-2.2999999999999998,"W2",{"$f":"粉刷表","v":{"$error":"#NAME?"}}]
[null,"1.5*3*2+1.8*3.2+1.5*(3.38*2+0.2*2)","C2",{"$f":"粉刷表","v":{"$error":"#NAME?"}},"3.3*1.5+5.25*3.55","W2A",{"$f":"粉刷表","v":{"$error":"#NAME?"}}]
[null,"1.6*(3.36+0.6)","C2",{"$f":"粉刷表","v":{"$error":"#NAME?"}}]
["B206 B樓梯","2.9*2.65+2.9*1.6+1.3*2.62*2+0.2*2.62","F7",{"$f":"粉刷表","v":{"$error":"#NAME?"}},"3.3*(2.9+6.9)","W2",{"$f":"粉刷表","v":{"$error":"#NAME?"}}]
[null,"1.3*3.5+0.2*1.75","F7",{"$f":"粉刷表","v":{"$error":"#NAME?"}},"3.3*(2.9+6.9)-2.4","W2A",{"$f":"粉刷表","v":{"$error":"#NAME?"}}]
[null,"1.6*2.9+2.9*2.65+1.3*3.2+1.5*2.8","C2",{"$f":"粉刷表","v":{"$error":"#NAME?"}}]
["B207 電信機房","2.45*5.95","F6",{"$f":"粉刷表","v":{"$error":"#NAME?"}},"3.74*2.45","W2A",{"$f":"粉刷表","v":{"$error":"#NAME?"}}]
[null,"2.45*5.95","C1",{"$f":"粉刷表","v":{"$error":"#NAME?"}},"3.75*(5.95*2+2.45)-1.8","W2",{"$f":"粉刷表","v":{"$error":"#NAME?"}}]
["B208 台電配電場所","5.95*5.4","F6",{"$f":"粉刷表","v":{"$error":"#NAME?"}},"3.75*5.4","W2A",{"$f":"粉刷表","v":{"$error":"#NAME?"}}]
[null,"5.95*5.4","C1",{"$f":"粉刷表","v":{"$error":"#NAME?"}},"3.75*(5.95*2+5.4)-3.9","W2",{"$f":"粉刷表","v":{"$error":"#NAME?"}}]
["B209 電錶室","5.15*7.6","F6",{"$f":"粉刷表","v":{"$error":"#NAME?"}},"3.74*(7.6+0.4*2)","W2A",{"$f":"粉刷表","v":{"$error":"#NAME?"}}]
[null,"5.15*7.6-0.6*4.1","C1",{"$f":"粉刷表","v":{"$error":"#NAME?"}},"3.74*(7.6+5.15*2)-0.35*2","W2",{"$f":"粉刷表","v":{"$error":"#NAME?"}}]
[null,"1.8*4.1","C1A",{"$f":"粉刷表","v":{"$error":"#NAME?"}}]
["B210 生活廢棄物室","4*8.6","F6",{"$f":"粉刷表","v":{"$error":"#NAME?"}},"3.3*4","W2A",{"$f":"粉刷表","v":{"$error":"#NAME?"}}]
[null,"4*8.6-0.4*4","C1",{"$f":"粉刷表","v":{"$error":"#NAME?"}},"3.3*(4+8.6*2)-4.09","W2",{"$f":"粉刷表","v":{"$error":"#NAME?"}}]
[null,"1.4*4","C1A",{"$f":"粉刷表","v":{"$error":"#NAME?"}}]
["B211 製程廢棄物","10.5*8.6","F6",{"$f":"粉刷表","v":{"$error":"#NAME?"}},"3.3*(10.51+1.2)","W2A",{"$f":"粉刷表","v":{"$error":"#NAME?"}}]
["B211 製程污水暫存","10.5*8.6-0.6*8-0.4*9.9","C1",{"$f":"粉刷表","v":{"$error":"#NAME?"}},"3.3*(10.5+8.6*2)-4.09","W2",{"$f":"粉刷表","v":{"$error":"#NAME?"}}]
[null,"1.8*8+1.44*9.9","C1A",{"$f":"粉刷表","v":{"$error":"#NAME?"}}]
["B212 緊急發電機室","8.6*7.5","F6",{"$f":"粉刷表","v":{"$error":"#NAME?"}},"3.3*7.5","W2A",{"$f":"粉刷表","v":{"$error":"#NAME?"}}]
[null,"8.6*7.5-0.4*(7.5+8.2)","C1",{"$f":"+A104*D105","v":{"$error":"#VALUE!"}},"3.3*(7.5+8.6*2)-4.09","W2",{"$f":"粉刷表","v":{"$error":"#NAME?"}}]
[null,"1.4*(7.5+8.2)","C1A",{"$f":"粉刷表","v":{"$error":"#NAME?"}}]
["101 大廳","3.02*9.05+9.65*17.58+1.25*10.2+1.25*17.2","F1",{"$f":"粉刷表","v":{"$error":"#NAME?"}},"4*(8.05+19.6+2.7+5.3+1.4*2)-4.9-2.86-1.8*2","W5A",{"$f":"粉刷表","v":{"$error":"#NAME?"}}]
[null,"1.45*1.15+15.2*6.15","F1",{"$f":"粉刷表","v":{"$error":"#NAME?"}},"4*(1+3+1+9.9)-2.3-1.8","W5",{"$f":"粉刷表","v":{"$error":"#NAME?"}}]
[null,"3.02*9.05+9.65*17.58+1.25*10.2+1.25*17.2","C5",{"$f":"粉刷表","v":{"$error":"#NAME?"}},"4*4*3","W5",{"$f":"粉刷表","v":{"$error":"#NAME?"}}]
[null,"1.45*1.15+15.2*6.15","C5",{"$f":"粉刷表","v":{"$error":"#NAME?"}},"4*(0.6+0.6+1.9)","W6",{"$f":"粉刷表","v":{"$error":"#NAME?"}}]
["102風除室","4.9*2.55","F2",{"$f":"粉刷表","v":{"$error":"#NAME?"}}]
[null,"4.9*2.55","C5A",{"$f":"粉刷表","v":{"$error":"#NAME?"}}]
["103 A梯廳","3.2*2.85+6.7*3.55","F1",{"$f":"粉刷表","v":{"$error":"#NAME?"}},"3.3*(3.55+5.25+2.88+1.8+0.5)-1.89-1.8*2","W3",{"$f":"粉刷表","v":{"$error":"#NAME?"}}]
[null,"3.2*2.85+6.7*3.56","C5",{"$f":"粉刷表","v":{"$error":"#NAME?"}},"3.3*(1.5+0.7+3.2)-1.89","W3A",{"$f":"粉刷表","v":{"$error":"#NAME?"}}]
["104 B梯廳","3.6*3.5","F7",{"$f":"粉刷表","v":{"$error":"#NAME?"}},"5.85*3.82-3","W2",{"$f":"粉刷表","v":{"$error":"#NAME?"}}]
[null,"3.6*3.5","C6",{"$f":"粉刷表","v":{"$error":"#NAME?"}},"5.85*(3.6*2+3.82)-4.37-5.85","W4",{"$f":"粉刷表","v":{"$error":"#NAME?"}}]
["105 A樓梯","(2.2*3.4+1.73*3.95)+2*3.25","F7",{"$f":"粉刷表","v":{"$error":"#NAME?"}},"6*(9.2+0.9*2)-2.34","W2",{"$f":"粉刷表","v":{"$error":"#NAME?"}}]
[null,"(3.37*3.95+1.07*3.25)+3.25*1.74","F7",{"$f":"粉刷表","v":{"$error":"#NAME?"}},"6*(3.15+0.55)","W6",{"$f":"粉刷表","v":{"$error":"#NAME?"}}]
[null,"1.6*3.11+1.75*3.11+1.6*2.7+1.75*2.96","F7",{"$f":"粉刷表","v":{"$error":"#NAME?"}}]
[null,"3*1.6+3*1.75","F7",{"$f":"粉刷表","v":{"$error":"#NAME?"}}]
[null,"(2.2*3.4+1.73*3.95)+2*3.25+3.25*1.74","C2",{"$f":"粉刷表","v":{"$error":"#NAME?"}}]
[null,"(3.37*3.95+1.07*3.25)","C7",{"$f":"粉刷表","v":{"$error":"#NAME?"}}]
[null,"1.6*3.11+1.75*3.11+1.6*2.7+1.75*2.96","C7",{"$f":"粉刷表","v":{"$error":"#NAME?"}}]
[null,"3*1.6+3*1.75","C7",{"$f":"粉刷表","v":{"$error":"#NAME?"}}]
[null,"0.6*(3.3*2*2+2.3*2+3*2+3.4*2+3.4*2)","C7",{"$f":"粉刷表","v":{"$error":"#NAME?"}}]
["106 B樓梯","(3.15*2.65)+1.8*1.55*2+(2.26*3.15+2.7*0.9)","F7",{"$f":"粉刷表","v":{"$error":"#NAME?"}},"6*4.65","W2",{"$f":"粉刷表","v":{"$error":"#NAME?"}}]
[null,"1.4*2.63+1.3*2.63+1.4*2.11+1.3*2.11","F7",{"$f":"粉刷表","v":{"$error":"#NAME?"}},"6*(3.15+2.45)-4.37","W4",{"$f":"粉刷表","v":{"$error":"#NAME?"}}]
[null,"1.4*3+1.3*3","F7",{"$f":"粉刷表","v":{"$error":"#NAME?"}},"6*(7.55+2.45)","W6",{"$f":"粉刷表","v":{"$error":"#NAME?"}}]
[null,"(3.12*2.65)+1.8*1.55*2","C7",{"$f":"粉刷表","v":{"$error":"#NAME?"}}]
[null,"1.4*2.63+1.3*2.63+1.4*2.11+1.3*2.11","C7",{"$f":"粉刷表","v":{"$error":"#NAME?"}}]
[null,"1.4*3+1.3*3","C7",{"$f":"粉刷表","v":{"$error":"#NAME?"}}]
[null,"0.6*(1.95*4+2.2*2+2.25*4+3.16*2)","C7",{"$f":"粉刷表","v":{"$error":"#NAME?"}}]
[null,"(2.26*3.15+2.7*0.9)","C2",{"$f":"粉刷表","v":{"$error":"#NAME?"}}]
["107 C樓梯","2.5*2.12+2.5*1.52+2.11*2.5+2.05*2.5","F7",{"$f":"粉刷表","v":{"$error":"#NAME?"}},"6*(2.5+2.12*2)+2.07*2.9*0.5*2","W2",{"$f":"粉刷表","v":{"$error":"#NAME?"}}]
[null,"1.25*(2.9+2.87*2+2.34)+1.25*6","F7",{"$f":"粉刷表","v":{"$error":"#NAME?"}},"3.78*(6.48*2+2.5)-2.36*2","W2",{"$f":"粉刷表","v":{"$error":"#NAME?"}}]
[null,"2.5*2.12+2.5*1.52+2.11*2.5+2.05*2.5","C7",{"$f":"粉刷表","v":{"$error":"#NAME?"}}]
[null,"1.25*(2.87*2+2.34)+1.25*6","C7",{"$f":"粉刷表","v":{"$error":"#NAME?"}}]
[null,"2.9*2*4+2.15*2+1.52*4","C7",{"$f":"粉刷表","v":{"$error":"#NAME?"}}]
["108 機房","3.85*6.87","F6",{"$f":"粉刷表","v":{"$error":"#NAME?"}},"6*0.9*2","W2",{"$f":"粉刷表","v":{"$error":"#NAME?"}}]
[null,"3.85*6.87","C6",{"$f":"粉刷表","v":{"$error":"#NAME?"}},"6*(6.87+3.84+5.97)-1.89","W4",{"$f":"粉刷表","v":{"$error":"#NAME?"}}]
["109 裝卸區","4.6*9.3+7.6*11.7+1.95*8.16","F3",{"$f":"粉刷表","v":{"$error":"#NAME?"}},"5.8*(11.7+4*2+3.7+8.16)-13.2*2-2.36","W2",{"$f":"粉刷表","v":{"$error":"#NAME?"}}]
[null,"4.6*9.3+7.6*11.7+1.95*8.16","C6",{"$f":"粉刷表","v":{"$error":"#NAME?"}},"5.8*(7.6+11.67+1.5+8.16+1.5)-8.5-2.36","W4",{"$f":"粉刷表","v":{"$error":"#NAME?"}}]
["110 廠房(物料,成品)","26.77*39.88+1.5*8.1+0.85*17.2-2*9","F11",{"$f":"粉刷表","v":{"$error":"#NAME?"}},"5.8*(4*6+3*5)","W2",{"$f":"粉刷表","v":{"$error":"#NAME?"}},"廠房外牆內側不另封板"]
[null,"26.77*39.88+1.5*8.1+0.85*17.2-2*10","C6",{"$f":"粉刷表","v":{"$error":"#NAME?"}},"5.8*(9.8+3.4+2.05+12.2)-2.1*2-2.36","W2",{"$f":"粉刷表","v":{"$error":"#NAME?"}}]
[null,null,null,null,"-4-1.8*4","W2",{"$f":"粉刷表","v":{"$error":"#NAME?"}}]
["111 備品室","2.8*3.34","F3",{"$f":"粉刷表","v":{"$error":"#NAME?"}},"3.3*(0.9*2)","W2",{"$f":"粉刷表","v":{"$error":"#NAME?"}}]
[null,"2.8*3.34","C3",{"$f":"粉刷表","v":{"$error":"#NAME?"}},"3.3*((2.8+3.34)*2-0.9*2)-1.89","W4",{"$f":"粉刷表","v":{"$error":"#NAME?"}}]
["112 大廳茶水間","2.17*3.34","F3",{"$f":"粉刷表","v":{"$error":"#NAME?"}},"3.3*2.77","W2",{"$f":"粉刷表","v":{"$error":"#NAME?"}}]
[null,"2.17*3.34","C3",{"$f":"粉刷表","v":{"$error":"#NAME?"}},"3.3*((2.17+3.34)*2-2.77)-1.89","W4",{"$f":"粉刷表","v":{"$error":"#NAME?"}}]
["113 廁所茶水間","3.08*2","F3",{"$f":"粉刷表","v":{"$error":"#NAME?"}},"3.3*((3.08+2)*2-1)","W4",{"$f":"粉刷表","v":{"$error":"#NAME?"}}]
[null,"3.08*2","C3",{"$f":"粉刷表","v":{"$error":"#NAME?"}}]
["114 廁所區走道","1.5*2.35+1.38*4.83","F3",{"$f":"粉刷表","v":{"$error":"#NAME?"}},"3.3*3.36","W2",{"$f":"粉刷表","v":{"$error":"#NAME?"}}]
[null,"1.5*2.35+1.38*4.83","C3",{"$f":"粉刷表","v":{"$error":"#NAME?"}},"3.3*((4.83+3.72)*2-3.36)-2.05-1.72*2-1.93","W4",{"$f":"粉刷表","v":{"$error":"#NAME?"}}]
["115 男廁","1.5*1.7+3.3*3.45-1.2*0.6+0.5*1.7","F8",{"$f":"粉刷表","v":{"$error":"#NAME?"}},"3.3*(1.73+3.2+0.5)","W7",{"$f":"粉刷表","v":{"$error":"#NAME?"}}]
[null,"1.5*1.7+3.3*3.45-1.2*0.6+0.5*1.7","C3",{"$f":"粉刷表","v":{"$error":"#NAME?"}},"3.3*(1.34*2+1.75+3.85+4.95+1.6)-1.93-0.81","W7A",{"$f":"粉刷表","v":{"$error":"#NAME?"}}]
["116 女廁","2.03*1.82+3.45*3.21","F8",{"$f":"粉刷表","v":{"$error":"#NAME?"}},"3.3*0.8","W7",{"$f":"粉刷表","v":{"$error":"#NAME?"}}]
[null,"2.03*1.82+3.45*3.22","C3",{"$f":"粉刷表","v":{"$error":"#NAME?"}},"3.3*((5.04+3.45)*2-0.8)-1.93-0.81","W7A",{"$f":"粉刷表","v":{"$error":"#NAME?"}}]
["117 行動不便廁所","2*2.56","F8",{"$f":"粉刷表","v":{"$error":"#NAME?"}},"3.3*1.4","W7",{"$f":"粉刷表","v":{"$error":"#NAME?"}}]
[null,"2*2.56","C3",{"$f":"粉刷表","v":{"$error":"#NAME?"}},"3.3*((2+2.56)*2)-1.4-2.1","W7A",{"$f":"粉刷表","v":{"$error":"#NAME?"}}]
["118 警衛室","1.25*1.55+1.95*3.8","F8",{"$f":"粉刷表","v":{"$error":"#NAME?"}},"2.9*(3.2+3.8)*2-13.36-1.9","W2",{"$f":"粉刷表","v":{"$error":"#NAME?"}}]
[null,"1.25*1.55+1.95*3.8","C2",{"$f":"粉刷表","v":{"$error":"#NAME?"}}]
["119 警衛室廁所","2.35*1.4","F8",{"$f":"粉刷表","v":{"$error":"#NAME?"}},"2.9*(2.35+1.4)*2-1.9-0.83","W7",{"$f":"粉刷表","v":{"$error":"#NAME?"}}]
[null,"2.35*1.4","C2",{"$f":"粉刷表","v":{"$error":"#NAME?"}}]
["120 氣槽區","5*3","F3",{"$f":"粉刷表","v":{"$error":"#NAME?"}}]
["201 廠房","43.9*27.4-2*6.7+7.13*9.85+25.85*9.9","F11",{"$f":"粉刷表","v":{"$error":"#NAME?"}},"6.4*(13+2.78+12.2)-2.36","W1",{"$f":"粉刷表","v":{"$error":"#NAME?"}}]
[null,"43.9*27.4-2*6.7+7.13*9.85+25.85*9.10","C0",{"$f":"粉刷表","v":{"$error":"#NAME?"}},"6.4*(27.7+9.9)-4.94*2","W1A",{"$f":"粉刷表","v":{"$error":"#NAME?"}}]
["202 梯廳 A","3.55*6.7","F1",{"$f":"粉刷表","v":{"$error":"#NAME?"}},"3.3*5.2-2*2","W3",{"$f":"粉刷表","v":{"$error":"#NAME?"}}]
[null,"3.55*6.7","C5",{"$f":"粉刷表","v":{"$error":"#NAME?"}},"3.3*1.5-1.83","W3A",{"$f":"粉刷表","v":{"$error":"#NAME?"}}]
[null,null,null,null,"3.3*(1.5+1.3+6.7)-1.9-4.94","W4",{"$f":"粉刷表","v":{"$error":"#NAME?"}}]
[null,null,null,null,"3.3*3.55-2.36","W2",{"$f":"粉刷表","v":{"$error":"#NAME?"}}]
["203 梯廳B及走道","1.3*2.85+2*19+3.6*5.55","F11",{"$f":"粉刷表","v":{"$error":"#NAME?"}},"6.4*(0.85+25.85+3.6+1.85+1.6+20.3)","W4",{"$f":"粉刷表","v":{"$error":"#NAME?"}}]
[null,"1.3*2.85+2*19+3.6*5.55","C0",{"$f":"粉刷表","v":{"$error":"#NAME?"}},"-4.94-4.08-2.36","W4",{"$f":"粉刷表","v":{"$error":"#NAME?"}}]
[null,null,null,null,"6.4*3.7-3","W2",{"$f":"粉刷表","v":{"$error":"#NAME?"}}]
["204 機房","6.1*16.85","F6",{"$f":"粉刷表","v":{"$error":"#NAME?"}},"6.4*(6.1+16.85)*2-4.08-3.07*4-13.4-9.8","W4",{"$f":"粉刷表","v":{"$error":"#NAME?"}}]
[null,"6.1*16.85","C0",{"$f":"粉刷表","v":{"$error":"#NAME?"}}]
["205 A樓梯","3.95*3.42+0.77*2.8+3.95*3.52+0.67*2.8","F7",{"$f":"粉刷表","v":{"$error":"#NAME?"}},"6.4*7.7","W2",{"$f":"粉刷表","v":{"$error":"#NAME?"}}]
[null,"1.75*3.25*2+1.5*3.12*2+1.5*2.86*2","F7",{"$f":"粉刷表","v":{"$error":"#NAME?"}},"6.4*(3.2+0.6)","W6",{"$f":"粉刷表","v":{"$error":"#NAME?"}}]
[null,"1.5*6.4","F7",{"$f":"粉刷表","v":{"$error":"#NAME?"}}]
[null,"3.95*3.52+0.67*2.8","C2",{"$f":"粉刷表","v":{"$error":"#NAME?"}}]
[null,"3.95*3.42+0.77*2.8","C7",{"$f":"粉刷表","v":{"$error":"#NAME?"}}]
[null,"1.75*3.25*2+1.5*3.12*2+1.5*2.86*2","C7",{"$f":"粉刷表","v":{"$error":"#NAME?"}}]
[null,"1.5*6.4+0.3*2*((3.3+3.4)*2+1.5*2*2+4.19*2)","C7",{"$f":"粉刷表","v":{"$error":"#NAME?"}}]
["206 B樓梯","2.3*3.15+2.6*0.65+1.55*2.6+3.15*2.08+2.6*1.18","F7",{"$f":"粉刷表","v":{"$error":"#NAME?"}},"6.6*4.65","W2",{"$f":"粉刷表","v":{"$error":"#NAME?"}}]
[null,"1.4*2.34+1.4*2.04+1.3*(2.08+2.85)+1.3*3.3","F7",{"$f":"粉刷表","v":{"$error":"#NAME?"}},"6.6*(3.15+2.45)-4.37","W4",{"$f":"粉刷表","v":{"$error":"#NAME?"}}]
[null,"1.4*3.3","F7",{"$f":"粉刷表","v":{"$error":"#NAME?"}},"6.6*(7.55+2.45)","W6",{"$f":"粉刷表","v":{"$error":"#NAME?"}}]
[null,"2.3*3.15+2.6*0.65+1.55*2.6","C7",{"$f":"粉刷表","v":{"$error":"#NAME?"}}]
[null,"1.4*2.34+1.4*2.04+1.3*(2.08+2.85)+1.3*3.3","C7",{"$f":"粉刷表","v":{"$error":"#NAME?"}}]
[null,"1.4*3.3+0.3*2*((2.7*2*2+2.6*2*2)+1.5*2+3.15*2)","C7",{"$f":"粉刷表","v":{"$error":"#NAME?"}}]
[null,"3.15*2.08+2.6*1.18","C2",{"$f":"粉刷表","v":{"$error":"#NAME?"}}]
["207 C樓梯","2.5*2.12+2.5*2.89+2.5*1.51+2.5*1.25","F7",{"$f":"粉刷表","v":{"$error":"#NAME?"}},"6.6*(6.5*2+2.5)-2.36","W2",{"$f":"粉刷表","v":{"$error":"#NAME?"}}]
[null,"1.25*(2.34*2+2.08*2)+1.25*6.6","F7",{"$f":"粉刷表","v":{"$error":"#NAME?"}}]
[null,"2.89*2.5","C2",{"$f":"粉刷表","v":{"$error":"#NAME?"}}]
[null,"2.5*2.12+2.5*1.51+2.5*1.25","C7",{"$f":"粉刷表","v":{"$error":"#NAME?"}}]
[null,"1.25*(2.34*2+2.08*2)+1.25*6.6","C7",{"$f":"粉刷表","v":{"$error":"#NAME?"}}]
[null,"0.3*2*(2.4*2*2+2.3*2*2+2.7*2*2*2)","C7",{"$f":"粉刷表","v":{"$error":"#NAME?"}}]
[null,"0.3*2*(1.25*2+2.9*2)","C7",{"$f":"粉刷表","v":{"$error":"#NAME?"}}]
["208 廁所茶水間","3.6*2","F3",{"$f":"粉刷表","v":{"$error":"#NAME?"}},"3.3*((3.6+2)*2-1)-1.8","W4",{"$f":"粉刷表","v":{"$error":"#NAME?"}}]
[null,"3.6*2","C3",{"$f":"粉刷表","v":{"$error":"#NAME?"}}]
["209 儲藏室","2*2.05","F3",{"$f":"粉刷表","v":{"$error":"#NAME?"}},"3.3*(2.05+2)*2-1.8","W4",{"$f":"粉刷表","v":{"$error":"#NAME?"}}]
[null,"2*2.05","C3",{"$f":"粉刷表","v":{"$error":"#NAME?"}}]
["210 廁所區走道","1.5*2.35+1.38*4.83","F3",{"$f":"粉刷表","v":{"$error":"#NAME?"}},"3.3*3.36","W2",{"$f":"粉刷表","v":{"$error":"#NAME?"}}]
[null,"1.5*2.35+1.38*4.83","C3",{"$f":"粉刷表","v":{"$error":"#NAME?"}},"3.3*((4.83+3.72)*2-3.36)-2.05-1.72*2-1.93","W4",{"$f":"粉刷表","v":{"$error":"#NAME?"}}]
["211 男廁","1.5*1.7+3.3*3.45-1.2*0.6+0.5*1.7","F8",{"$f":"粉刷表","v":{"$error":"#NAME?"}},"3.3*(1.73+3.2+0.5)","W7",{"$f":"粉刷表","v":{"$error":"#NAME?"}}]
[null,"1.5*1.7+3.3*3.45-1.2*0.6+0.5*1.7","C3",{"$f":"粉刷表","v":{"$error":"#NAME?"}},"3.3*(1.34*2+1.75+3.85+4.95+1.6)-1.93-0.81","W7A",{"$f":"粉刷表","v":{"$error":"#NAME?"}}]
["212 女廁","2.03*1.82+3.45*3.21","F8",{"$f":"粉刷表","v":{"$error":"#NAME?"}},"3.3*0.8","W7",{"$f":"粉刷表","v":{"$error":"#NAME?"}}]
[null,"2.03*1.82+3.45*3.22","C3",{"$f":"粉刷表","v":{"$error":"#NAME?"}},"3.3*((5.04+3.45)*2-0.8)-1.93-0.81","W7A",{"$f":"粉刷表","v":{"$error":"#NAME?"}}]
["213 吊裝平台","1.88*9.5","F6",{"$f":"粉刷表","v":{"$error":"#NAME?"}},"計入外牆"]
[null,"1.88*9.8","C6",{"$f":"粉刷表","v":{"$error":"#NAME?"}}]
["301 廠房","43.9*27.8+25.85*8.3+5.5*9.95-8.7*2","F11",{"$f":"粉刷表","v":{"$error":"#NAME?"}},"4.35*(13.07+0.85*2+2.8+9.95)-2.36-2.2*2","W1",{"$f":"粉刷表","v":{"$error":"#NAME?"}}]
[null,"43.9*27.8+25.85*8.3+5.5*9.95-43.9*27.1","C0",{"$f":"粉刷表","v":{"$error":"#NAME?"}},"4.35*(1.1+0.35+27.8+8.3)-4.94*2","W1A",{"$f":"粉刷表","v":{"$error":"#NAME?"}}]
[]
["302 梯廳 A","3.55*6.7","F1",{"$f":"粉刷表","v":{"$error":"#NAME?"}},"3.3*5.2-2*2","W3",{"$f":"粉刷表","v":{"$error":"#NAME?"}}]
[null,"3.55*6.7","C5",{"$f":"粉刷表","v":{"$error":"#NAME?"}},"3.3*1.5-1.83","W3A",{"$f":"粉刷表","v":{"$error":"#NAME?"}}]
[null,null,null,null,"3.3*(1.5+1.3+6.7)-1.9-4.94","W4",{"$f":"粉刷表","v":{"$error":"#NAME?"}}]
[null,null,null,null,"3.3*3.55-2.36","W2",{"$f":"粉刷表","v":{"$error":"#NAME?"}}]
["303 梯廳B及走道","1.3*2.85+2*19+3.6*5.55","F11",{"$f":"粉刷表","v":{"$error":"#NAME?"}},"4.3*(0.85+25.85+3.6+1.85+1.6+20.3)","W4",{"$f":"粉刷表","v":{"$error":"#NAME?"}}]
[null,"1.3*2.85+2*19+3.6*5.55","C0",{"$f":"粉刷表","v":{"$error":"#NAME?"}},"-4.94-4.08-2.36","W4",{"$f":"粉刷表","v":{"$error":"#NAME?"}}]
[null,null,null,null,"4.35*3.7-3","W2",{"$f":"粉刷表","v":{"$error":"#NAME?"}}]
["304 機房","6.1*16.85","F6",{"$f":"粉刷表","v":{"$error":"#NAME?"}},"4.35*(6.1+16.85)*2-4.08-3.07*4-13.4-9.8","W4",{"$f":"粉刷表","v":{"$error":"#NAME?"}}]
[null,"6.1*16.85","C0",{"$f":"粉刷表","v":{"$error":"#NAME?"}}]
["305 A樓梯","3.03*3.95+3*1.55+1.5*3.9*2+1.5*4.5","F7",{"$f":"粉刷表","v":{"$error":"#NAME?"}},"4.5*7.7-2.36","W2",{"$f":"粉刷表","v":{"$error":"#NAME?"}}]
[null,"2.77*3.95","C6",{"$f":"粉刷表","v":{"$error":"#NAME?"}},"4.5*(3.25+0.5)","W6",{"$f":"粉刷表","v":{"$error":"#NAME?"}}]
[null,"3*1.55+1.5*3.9*2+1.5*4.5","C7",{"$f":"粉刷表","v":{"$error":"#NAME?"}}]
[null,"0.3*2*((3.9+0.4+4+0.8)*2+1.55*2)","C7",{"$f":"粉刷表","v":{"$error":"#NAME?"}}]
["306 B樓梯","2.15*3.15+1.3*(0.42+0.94)+1.45*2.6","F7",{"$f":"粉刷表","v":{"$error":"#NAME?"}},"4.5*4.65","W2",{"$f":"粉刷表","v":{"$error":"#NAME?"}}]
[null,"1.3*3.12*2+1.3*4.5","F7",{"$f":"粉刷表","v":{"$error":"#NAME?"}},"4.5*(3.15+2.45)-4.37","W4",{"$f":"粉刷表","v":{"$error":"#NAME?"}}]
[null,"2.15*3.15","C6",{"$f":"粉刷表","v":{"$error":"#NAME?"}},"4.5*(7.55+2.45)","W6",{"$f":"粉刷表","v":{"$error":"#NAME?"}}]
[null,"1.45*2.6+1.3*3.12*2+1.3*4.5","C7",{"$f":"粉刷表","v":{"$error":"#NAME?"}}]
[null,"0.3*2*((3.45+3.35)*2+1.1*2+1.55*2)","C7",{"$f":"粉刷表","v":{"$error":"#NAME?"}}]
["307 C樓梯","0.75*1.2+2.4*2.65+1.25*2.5+1.25*3.12*2","F7",{"$f":"粉刷表","v":{"$error":"#NAME?"}},"4.5*(6.5*2+2.5+0.75*2)-2.36","W2",{"$f":"粉刷表","v":{"$error":"#NAME?"}}]
[null,"1.25*4.5","F7",{"$f":"粉刷表","v":{"$error":"#NAME?"}}]
[null,"0.75*1.2+2.4*2.65","C6",{"$f":"粉刷表","v":{"$error":"#NAME?"}}]
[null,"1.25*2.5+1.25*3.12*2+1.25*4.5","C7",{"$f":"粉刷表","v":{"$error":"#NAME?"}}]
["308 廁所茶水間","3.6*2","F3",{"$f":"粉刷表","v":{"$error":"#NAME?"}},"3.3*((3.6+2)*2-1)-1.8","W4",{"$f":"粉刷表","v":{"$error":"#NAME?"}}]
[null,"3.6*2","C3",{"$f":"粉刷表","v":{"$error":"#NAME?"}}]
["309 儲藏室","2*2.05","F3",{"$f":"粉刷表","v":{"$error":"#NAME?"}},"3.3*(2.05+2)*2-1.8","W4",{"$f":"粉刷表","v":{"$error":"#NAME?"}}]
[null,"2*2.05","C3",{"$f":"粉刷表","v":{"$error":"#NAME?"}}]
["310 廁所區走道","1.5*2.35+1.38*4.83","F3",{"$f":"粉刷表","v":{"$error":"#NAME?"}},"3.3*3.36","W2",{"$f":"粉刷表","v":{"$error":"#NAME?"}}]
[null,"1.5*2.35+1.38*4.83","C3",{"$f":"粉刷表","v":{"$error":"#NAME?"}},"3.3*((4.83+3.72)*2-3.36)-2.05-1.72*2-1.93","W4",{"$f":"粉刷表","v":{"$error":"#NAME?"}}]
["311 男廁","1.5*1.7+3.3*3.45-1.2*0.6+0.5*1.7","F8",{"$f":"粉刷表","v":{"$error":"#NAME?"}},"3.3*(1.73+3.2+0.5)","W7",{"$f":"粉刷表","v":{"$error":"#NAME?"}}]
[null,"1.5*1.7+3.3*3.45-1.2*0.6+0.5*1.7","C3",{"$f":"粉刷表","v":{"$error":"#NAME?"}},"3.3*(1.34*2+1.75+3.85+4.95+1.6)-1.93-0.81","W7A",{"$f":"粉刷表","v":{"$error":"#NAME?"}}]
["312 女廁","2.03*1.82+3.45*3.21","F8",{"$f":"粉刷表","v":{"$error":"#NAME?"}},"3.3*0.8","W7",{"$f":"粉刷表","v":{"$error":"#NAME?"}}]
[null,"2.03*1.82+3.45*3.22","C3",{"$f":"粉刷表","v":{"$error":"#NAME?"}},"3.3*((5.04+3.45)*2-0.8)-1.93-0.81","W7A",{"$f":"粉刷表","v":{"$error":"#NAME?"}}]
["313 陽台","25.9*1.9","F9",{"$f":"粉刷表","v":{"$error":"#NAME?"}}]
[null,"平頂計入外牆鋁包板"]
["314 吊裝平台","1.88*5.28","F6",{"$f":"粉刷表","v":{"$error":"#NAME?"}},"計入外牆"]
[null,"1.88*5.28","C6",{"$f":"粉刷表","v":{"$error":"#NAME?"}}]
["401 廠房挑空區","43.9*27.8-8.7*2","C0",{"$f":"粉刷表","v":{"$error":"#NAME?"}},"4.5*(27.8+26.9+0.85)","W1A",{"$f":"粉刷表","v":{"$error":"#NAME?"}}]
[null,null,null,null,"4.5*(13.07+0.85*2)","W1",{"$f":"粉刷表","v":{"$error":"#NAME?"}}]
["402 梯廳 A","3.55*6.7","F1",{"$f":"粉刷表","v":{"$error":"#NAME?"}},"3.3*5.2-2*2","W3",{"$f":"粉刷表","v":{"$error":"#NAME?"}}]
[null,"3.55*6.7","C5",{"$f":"粉刷表","v":{"$error":"#NAME?"}},"3.3*1.5-1.83","W3A",{"$f":"粉刷表","v":{"$error":"#NAME?"}}]
[null,null,null,null,"3.3*(1.5+1.3+6.7)-1.9-4.94","W4",{"$f":"粉刷表","v":{"$error":"#NAME?"}}]
[null,null,null,null,"3.3*3.55-2.36","W2",{"$f":"粉刷表","v":{"$error":"#NAME?"}}]
["403 梯廳 B及走道","1.3*2.85+2*19+3.6*5.55","F11",{"$f":"粉刷表","v":{"$error":"#NAME?"}},"4.3*(0.85+25.85+3.6+1.85+1.6+20.3)","W4",{"$f":"粉刷表","v":{"$error":"#NAME?"}}]
[null,"1.3*2.85+2*19+3.6*5.55","C0",{"$f":"粉刷表","v":{"$error":"#NAME?"}},"-4.94-4.08-2.36","W4",{"$f":"粉刷表","v":{"$error":"#NAME?"}}]
[null,null,null,null,"4.35*3.7-3","W2",{"$f":"粉刷表","v":{"$error":"#NAME?"}}]
["404 機房","6.1*16.85","F6",{"$f":"粉刷表","v":{"$error":"#NAME?"}},"4.35*(6.1+16.85)*2-4.08-3.07*4-13.4-9.8","W4",{"$f":"粉刷表","v":{"$error":"#NAME?"}}]
[null,"6.1*16.85","C0",{"$f":"粉刷表","v":{"$error":"#NAME?"}}]
["405 A樓梯","3.03*3.95+3*1.55+1.5*3.9*2+1.5*4.5","F7",{"$f":"粉刷表","v":{"$error":"#NAME?"}},"4.5*7.7-2.36","W2",{"$f":"粉刷表","v":{"$error":"#NAME?"}}]
[null,"2.77*3.95","C6",{"$f":"粉刷表","v":{"$error":"#NAME?"}},"4.5*(3.25+0.5)","W6",{"$f":"粉刷表","v":{"$error":"#NAME?"}}]
[null,"3*1.55+1.5*3.9*2+1.5*4.5","C7",{"$f":"粉刷表","v":{"$error":"#NAME?"}}]
[null,"0.3*2*((3.9+0.4+4+0.8)*2+1.55*2)","C7",{"$f":"粉刷表","v":{"$error":"#NAME?"}}]
["406 B樓梯","2.15*3.15+1.3*(0.42+0.94)+1.45*2.6","F7",{"$f":"粉刷表","v":{"$error":"#NAME?"}},"4.5*4.65","W2",{"$f":"粉刷表","v":{"$error":"#NAME?"}}]
[null,"1.3*3.12*2+1.3*4.5","F7",{"$f":"粉刷表","v":{"$error":"#NAME?"}},"4.5*(3.15+2.45)-4.37","W4",{"$f":"粉刷表","v":{"$error":"#NAME?"}}]
[null,"2.15*3.15","C6",{"$f":"粉刷表","v":{"$error":"#NAME?"}},"4.5*(7.55+2.45)","W6",{"$f":"粉刷表","v":{"$error":"#NAME?"}}]
[null,"1.45*2.6+1.3*3.12*2+1.3*4.5","C7",{"$f":"粉刷表","v":{"$error":"#NAME?"}}]
[null,"0.3*2*((3.45+3.35)*2+1.1*2+1.55*2)","C7",{"$f":"粉刷表","v":{"$error":"#NAME?"}}]
["407 C樓梯","2.4*2.65+1.25*2.5+1.25*3.12*2","F7",{"$f":"粉刷表","v":{"$error":"#NAME?"}},"4.5*(6.5*2+2.5)-2.36","W2",{"$f":"粉刷表","v":{"$error":"#NAME?"}}]
[null,"1.25*4.5","F7",{"$f":"粉刷表","v":{"$error":"#NAME?"}}]
[null,"2.4*2.65","C6",{"$f":"粉刷表","v":{"$error":"#NAME?"}}]
[null,"1.25*2.5+1.25*3.12*2+1.25*4.5","C7",{"$f":"粉刷表","v":{"$error":"#NAME?"}}]
["408 廁所茶水間","3.08*2","F3",{"$f":"粉刷表","v":{"$error":"#NAME?"}},"3.3*((3.08+2)*2-1)","W4",{"$f":"粉刷表","v":{"$error":"#NAME?"}}]
[null,"3.08*2","C3",{"$f":"粉刷表","v":{"$error":"#NAME?"}}]
["409 行動不便廁所","2*2.56","F8",{"$f":"粉刷表","v":{"$error":"#NAME?"}},"3.3*1.4","W7",{"$f":"粉刷表","v":{"$error":"#NAME?"}}]
[null,"2*2.56","C3",{"$f":"粉刷表","v":{"$error":"#NAME?"}},"3.3*((2+2.56)*2)-1.4-2.1","W7A",{"$f":"粉刷表","v":{"$error":"#NAME?"}}]
["410 廁所區走道","1.5*2.35+1.38*4.83","F3",{"$f":"粉刷表","v":{"$error":"#NAME?"}},"3.3*3.36","W2",{"$f":"粉刷表","v":{"$error":"#NAME?"}}]
[null,"1.5*2.35+1.38*4.83","C3",{"$f":"粉刷表","v":{"$error":"#NAME?"}},"3.3*((4.83+3.72)*2-3.36)-2.05-1.72*2-1.93","W4",{"$f":"粉刷表","v":{"$error":"#NAME?"}}]
["411 男廁","1.5*1.7+3.3*3.45-1.2*0.6+0.5*1.7","F8",{"$f":"粉刷表","v":{"$error":"#NAME?"}},"3.3*(1.73+3.2+0.5)","W7",{"$f":"粉刷表","v":{"$error":"#NAME?"}}]
[null,"1.5*1.7+3.3*3.45-1.2*0.6+0.5*1.7","C3",{"$f":"粉刷表","v":{"$error":"#NAME?"}},"3.3*(1.34*2+1.75+3.85+4.95+1.6)-1.93-0.81","W7A",{"$f":"粉刷表","v":{"$error":"#NAME?"}}]
["412 女廁","2.03*1.82+3.45*3.21","F8",{"$f":"粉刷表","v":{"$error":"#NAME?"}},"3.3*0.8","W7",{"$f":"粉刷表","v":{"$error":"#NAME?"}}]
[null,"2.03*1.82+3.45*3.22","C3",{"$f":"粉刷表","v":{"$error":"#NAME?"}},"3.3*((5.04+3.45)*2-0.8)-1.93-0.81","W7A",{"$f":"粉刷表","v":{"$error":"#NAME?"}}]
["413 辦公室","10.55*9.3+12.75*15.8+10*9.4","F3",{"$f":"粉刷表","v":{"$error":"#NAME?"}},"3.3*(2.8+10.55)-2.2*2-2.36","W2",{"$f":"粉刷表","v":{"$error":"#NAME?"}}]
[null,"10.55*9.3+12.75*15.8+10*9.4","C4",{"$f":"粉刷表","v":{"$error":"#NAME?"}},"3.3*(26.9+0.85+9.4)-4.94","W4",{"$f":"粉刷表","v":{"$error":"#NAME?"}}]
["414 吊裝平台","1.88*5.28","F6",{"$f":"粉刷表","v":{"$error":"#NAME?"}},"計入外牆"]
[null,"1.88*5.28","C6",{"$f":"粉刷表","v":{"$error":"#NAME?"}}]
["501 生產製程區","43.9*27.8+10*8.3+15.8*12.1+10.55*9.3-8.7*2","F11",{"$f":"粉刷表","v":{"$error":"#NAME?"}},"4.35*(13.07+0.85*2+2.8+10.55)-2.36-2.2*2","W1",{"$f":"粉刷表","v":{"$error":"#NAME?"}}]
[null,"43.9*27.8+10*8.3+15.8*12.1+10.55*9.3-43.9*27.1","C0",{"$f":"粉刷表","v":{"$error":"#NAME?"}},"4.35*(1.1+0.35+27.8+8.3)-4.94*2","W1A",{"$f":"粉刷表","v":{"$error":"#NAME?"}}]
["502 梯廳 A","3.55*6.7","F1",{"$f":"粉刷表","v":{"$error":"#NAME?"}},"3.3*5.2-2*2","W3",{"$f":"粉刷表","v":{"$error":"#NAME?"}}]
[null,"3.55*6.7","C5",{"$f":"粉刷表","v":{"$error":"#NAME?"}},"3.3*1.5-1.83","W3A",{"$f":"粉刷表","v":{"$error":"#NAME?"}}]
[null,null,null,null,"3.3*(1.5+1.3+6.7)-1.9-4.94","W4",{"$f":"粉刷表","v":{"$error":"#NAME?"}}]
[null,null,null,null,"3.3*3.55-2.36","W2",{"$f":"粉刷表","v":{"$error":"#NAME?"}}]
["503 梯廳 B及走道","1.3*2.85+2*19+3.6*5.55","F11",{"$f":"粉刷表","v":{"$error":"#NAME?"}},"4.3*(0.85+25.85+3.6+1.85+1.6+20.3)","W4",{"$f":"粉刷表","v":{"$error":"#NAME?"}}]
[null,"1.3*2.85+2*19+3.6*5.55","C0",{"$f":"粉刷表","v":{"$error":"#NAME?"}},"-4.94-4.08-2.36","W4",{"$f":"粉刷表","v":{"$error":"#NAME?"}}]
[null,null,null,null,"4.35*3.7-3","W2",{"$f":"粉刷表","v":{"$error":"#NAME?"}}]
["504 機房","6.1*16.85","F6",{"$f":"粉刷表","v":{"$error":"#NAME?"}},"4.35*(6.1+16.85)*2-4.08-3.07*4-13.4-9.8","W4",{"$f":"粉刷表","v":{"$error":"#NAME?"}}]
[null,"6.1*16.85","C0",{"$f":"粉刷表","v":{"$error":"#NAME?"}}]
["505 A樓梯","3.03*3.95+3*1.55+1.5*3.9*2+1.5*4.5","F7",{"$f":"粉刷表","v":{"$error":"#NAME?"}},"4.5*7.7-2.36","W2",{"$f":"粉刷表","v":{"$error":"#NAME?"}}]
[null,"2.77*3.95","C6",{"$f":"粉刷表","v":{"$error":"#NAME?"}},"4.5*(3.25+0.5)","W6",{"$f":"粉刷表","v":{"$error":"#NAME?"}}]
[null,"3*1.55+1.5*3.9*2+1.5*4.5","C7",{"$f":"粉刷表","v":{"$error":"#NAME?"}}]
[null,"0.3*2*((3.9+0.4+4+0.8)*2+1.55*2)","C7",{"$f":"粉刷表","v":{"$error":"#NAME?"}}]
["506 B樓梯","2.15*3.15+1.3*(0.42+0.94)+1.45*2.6","F7",{"$f":"粉刷表","v":{"$error":"#NAME?"}},"4.5*4.65","W2",{"$f":"粉刷表","v":{"$error":"#NAME?"}}]
[null,"1.3*3.12*2+1.3*4.5","F7",{"$f":"粉刷表","v":{"$error":"#NAME?"}},"4.5*(3.15+2.45)-4.37","W4",{"$f":"粉刷表","v":{"$error":"#NAME?"}}]
[null,"2.15*3.15","C6",{"$f":"粉刷表","v":{"$error":"#NAME?"}},"4.5*(7.55+2.45)","W6",{"$f":"粉刷表","v":{"$error":"#NAME?"}}]
[null,"1.45*2.6+1.3*3.12*2+1.3*4.5","C7",{"$f":"粉刷表","v":{"$error":"#NAME?"}}]
[null,"0.3*2*((3.45+3.35)*2+1.1*2+1.55*2)","C7",{"$f":"粉刷表","v":{"$error":"#NAME?"}}]
["507 C樓梯","0.75*1.2+2.4*2.65+1.25*2.5+1.25*3.12*2","F7",{"$f":"粉刷表","v":{"$error":"#NAME?"}},"4.5*(6.5*2+2.5+0.75*2)-2.36","W2",{"$f":"粉刷表","v":{"$error":"#NAME?"}}]
[null,"1.25*4.5","F7",{"$f":"粉刷表","v":{"$error":"#NAME?"}}]
[null,"0.75*1.2+2.4*2.65","C6",{"$f":"粉刷表","v":{"$error":"#NAME?"}}]
[null,"1.25*2.5+1.25*3.12*2+1.25*4.5","C7",{"$f":"粉刷表","v":{"$error":"#NAME?"}}]
["508 廁所茶水間","3.6*2","F3",{"$f":"粉刷表","v":{"$error":"#NAME?"}},"3.3*((3.6+2)*2-1)-1.8","W4",{"$f":"粉刷表","v":{"$error":"#NAME?"}}]
[null,"3.6*2","C3",{"$f":"粉刷表","v":{"$error":"#NAME?"}}]
["509 儲藏室","2*2.05","F3",{"$f":"粉刷表","v":{"$error":"#NAME?"}},"3.3*(2.05+2)*2-1.8","W4",{"$f":"粉刷表","v":{"$error":"#NAME?"}}]
[null,"2*2.05","C3",{"$f":"粉刷表","v":{"$error":"#NAME?"}}]
["510 廁所區走道","1.5*2.35+1.38*4.83","F3",{"$f":"粉刷表","v":{"$error":"#NAME?"}},"3.3*3.36","W2",{"$f":"粉刷表","v":{"$error":"#NAME?"}}]
[null,"1.5*2.35+1.38*4.83","C3",{"$f":"粉刷表","v":{"$error":"#NAME?"}},"3.3*((4.83+3.72)*2-3.36)-2.05-1.72*2-1.93","W4",{"$f":"粉刷表","v":{"$error":"#NAME?"}}]
["511 男廁","1.5*1.7+3.3*3.45-1.2*0.6+0.5*1.7","F8",{"$f":"粉刷表","v":{"$error":"#NAME?"}},"3.3*(1.73+3.2+0.5)","W7",{"$f":"粉刷表","v":{"$error":"#NAME?"}}]
[null,"1.5*1.7+3.3*3.45-1.2*0.6+0.5*1.7","C3",{"$f":"粉刷表","v":{"$error":"#NAME?"}},"3.3*(1.34*2+1.75+3.85+4.95+1.6)-1.93-0.81","W7A",{"$f":"粉刷表","v":{"$error":"#NAME?"}}]
["512 女廁","2.03*1.82+3.45*3.21","F8",{"$f":"粉刷表","v":{"$error":"#NAME?"}},"3.3*0.8","W7",{"$f":"粉刷表","v":{"$error":"#NAME?"}}]
[null,"2.03*1.82+3.45*3.22","C3",{"$f":"粉刷表","v":{"$error":"#NAME?"}},"3.3*((5.04+3.45)*2-0.8)-1.93-0.81","W7A",{"$f":"粉刷表","v":{"$error":"#NAME?"}}]
["513 吊裝平台","1.88*5.28","F6",{"$f":"粉刷表","v":{"$error":"#NAME?"}},"計入外牆"]
[null,"1.88*5.28","C6",{"$f":"粉刷表","v":{"$error":"#NAME?"}}]
["601 廠房挑空區","43.9*27.8-8.7*2","C0",{"$f":"粉刷表","v":{"$error":"#NAME?"}},"4.5*(27.8+26.9+0.85)","W1A",{"$f":"粉刷表","v":{"$error":"#NAME?"}}]
[null,null,null,null,"4.5*(13.07+0.85*2)","W1",{"$f":"粉刷表","v":{"$error":"#NAME?"}}]
["602 梯廳 A","3.55*6.7","F1",{"$f":"粉刷表","v":{"$error":"#NAME?"}},"3.3*5.2-2*2","W3",{"$f":"粉刷表","v":{"$error":"#NAME?"}}]
[null,"3.55*6.7","C5",{"$f":"粉刷表","v":{"$error":"#NAME?"}},"3.3*1.5-1.83","W3A",{"$f":"粉刷表","v":{"$error":"#NAME?"}}]
[null,null,null,null,"3.3*(1.5+1.3+6.7)-1.9-4.94","W4",{"$f":"粉刷表","v":{"$error":"#NAME?"}}]
[null,null,null,null,"3.3*3.55-2.36","W2",{"$f":"粉刷表","v":{"$error":"#NAME?"}}]
["603 梯廳 B及走道","1.3*2.85+2*19+3.6*5.55","F11",{"$f":"粉刷表","v":{"$error":"#NAME?"}},"4.3*(0.85+25.85+3.6+1.85+1.6+20.3)","W4",{"$f":"粉刷表","v":{"$error":"#NAME?"}}]
[null,"1.3*2.85+2*19+3.6*5.55","C0",{"$f":"粉刷表","v":{"$error":"#NAME?"}},"-4.94-4.08-2.36","W4",{"$f":"粉刷表","v":{"$error":"#NAME?"}}]
[null,null,null,null,"4.35*3.7-3","W2",{"$f":"粉刷表","v":{"$error":"#NAME?"}}]
["604 機房","6.1*16.85","F6",{"$f":"粉刷表","v":{"$error":"#NAME?"}},"4.35*(6.1+16.85)*2-4.08-3.07*4-13.4-9.8","W4",{"$f":"粉刷表","v":{"$error":"#NAME?"}}]
[null,"6.1*16.85","C0",{"$f":"粉刷表","v":{"$error":"#NAME?"}}]
["605 A樓梯","3.03*3.95+3*1.55+1.5*3.9*2+1.5*4.5","F7",{"$f":"粉刷表","v":{"$error":"#NAME?"}},"4.5*7.7-2.36","W2",{"$f":"粉刷表","v":{"$error":"#NAME?"}}]
[null,"2.77*3.95","C6",{"$f":"粉刷表","v":{"$error":"#NAME?"}},"4.5*(3.25+0.5)","W6",{"$f":"粉刷表","v":{"$error":"#NAME?"}}]
[null,"3*1.55+1.5*3.9*2+1.5*4.5","C7",{"$f":"粉刷表","v":{"$error":"#NAME?"}}]
[null,"0.3*2*((3.9+0.4+4+0.8)*2+1.55*2)","C7",{"$f":"粉刷表","v":{"$error":"#NAME?"}}]
["606 B樓梯","2.15*3.15+1.3*(0.42+0.94)+1.45*2.6","F7",{"$f":"粉刷表","v":{"$error":"#NAME?"}},"4.5*4.65","W2",{"$f":"粉刷表","v":{"$error":"#NAME?"}}]
[null,"1.3*3.12*2+1.3*4.5","F7",{"$f":"粉刷表","v":{"$error":"#NAME?"}},"4.5*(3.15+2.45)-4.37","W4",{"$f":"粉刷表","v":{"$error":"#NAME?"}}]
[null,"2.15*3.15","C6",{"$f":"粉刷表","v":{"$error":"#NAME?"}},"4.5*(7.55+2.45)","W6",{"$f":"粉刷表","v":{"$error":"#NAME?"}}]
[null,"1.45*2.6+1.3*3.12*2+1.3*4.5","C7",{"$f":"粉刷表","v":{"$error":"#NAME?"}}]
[null,"0.3*2*((3.45+3.35)*2+1.1*2+1.55*2)","C7",{"$f":"粉刷表","v":{"$error":"#NAME?"}}]
["607 C樓梯","2.4*2.65+1.25*2.5+1.25*3.12*2","F7",{"$f":"粉刷表","v":{"$error":"#NAME?"}},"4.5*(6.5*2+2.5)-2.36","W2",{"$f":"粉刷表","v":{"$error":"#NAME?"}}]
[null,"1.25*4.5","F7",{"$f":"粉刷表","v":{"$error":"#NAME?"}}]
[null,"2.4*2.65","C6",{"$f":"粉刷表","v":{"$error":"#NAME?"}}]
[null,"1.25*2.5+1.25*3.12*2+1.25*4.5","C7",{"$f":"粉刷表","v":{"$error":"#NAME?"}}]
["608 廁所茶水間","3.6*2","F3",{"$f":"粉刷表","v":{"$error":"#NAME?"}},"3.3*((3.6+2)*2-1)-1.8","W4",{"$f":"粉刷表","v":{"$error":"#NAME?"}}]
[null,"3.6*2","C3",{"$f":"粉刷表","v":{"$error":"#NAME?"}}]
["609 儲藏室","2*2.05","F3",{"$f":"粉刷表","v":{"$error":"#NAME?"}},"3.3*(2.05+2)*2-1.8","W4",{"$f":"粉刷表","v":{"$error":"#NAME?"}}]
[null,"2*2.05","C3",{"$f":"粉刷表","v":{"$error":"#NAME?"}}]
["610 廁所區走道","1.5*2.35+1.38*4.83","F3",{"$f":"粉刷表","v":{"$error":"#NAME?"}},"3.3*3.36","W2",{"$f":"粉刷表","v":{"$error":"#NAME?"}}]
[null,"1.5*2.35+1.38*4.83","C3",{"$f":"粉刷表","v":{"$error":"#NAME?"}},"3.3*((4.83+3.72)*2-3.36)-2.05-1.72*2-1.93","W4",{"$f":"粉刷表","v":{"$error":"#NAME?"}}]
["611 男廁","1.5*1.7+3.3*3.45-1.2*0.6+0.5*1.7","F8",{"$f":"粉刷表","v":{"$error":"#NAME?"}},"3.3*(1.73+3.2+0.5)","W7",{"$f":"粉刷表","v":{"$error":"#NAME?"}}]
[null,"1.5*1.7+3.3*3.45-1.2*0.6+0.5*1.7","C3",{"$f":"粉刷表","v":{"$error":"#NAME?"}},"3.3*(1.34*2+1.75+3.85+4.95+1.6)-1.93-0.81","W7A",{"$f":"粉刷表","v":{"$error":"#NAME?"}}]
["612 女廁","2.03*1.82+3.45*3.21","F8",{"$f":"粉刷表","v":{"$error":"#NAME?"}},"3.3*0.8","W7",{"$f":"粉刷表","v":{"$error":"#NAME?"}}]
[null,"2.03*1.82+3.45*3.22","C3",{"$f":"粉刷表","v":{"$error":"#NAME?"}},"3.3*((5.04+3.45)*2-0.8)-1.93-0.81","W7A",{"$f":"粉刷表","v":{"$error":"#NAME?"}}]
["613 辦公室","10.55*9.3+12.75*15.8+10*9.4","F3",{"$f":"粉刷表","v":{"$error":"#NAME?"}},"3.3*(2.8+10.55)-2.2*2-2.36","W2",{"$f":"粉刷表","v":{"$error":"#NAME?"}}]
[null,"10.55*9.3+12.75*15.8+10*9.4","C4",{"$f":"粉刷表","v":{"$error":"#NAME?"}},"3.3*(26.9+0.85+9.4)-4.94","W4",{"$f":"粉刷表","v":{"$error":"#NAME?"}}]
["614 吊裝平台","1.88*5.28","F6",{"$f":"粉刷表","v":{"$error":"#NAME?"}},"計入外牆"]
[null,"1.88*5.28","C6",{"$f":"粉刷表","v":{"$error":"#NAME?"}}]
["701 生產製程區","43.9*27.8+10*8.3+15.8*12.1+10.55*9.3-8.7*2","F11",{"$f":"粉刷表","v":{"$error":"#NAME?"}},"4.35*(13.07+0.85*2+2.8+10.55)-2.36-2.2*2","W1",{"$f":"粉刷表","v":{"$error":"#NAME?"}}]
[null,"43.9*27.8+10*8.3+15.8*12.1+10.55*9.3-43.9*27.1","C0",{"$f":"粉刷表","v":{"$error":"#NAME?"}},"4.35*(1.1+0.35+27.8+8.3)-4.94*2","W1A",{"$f":"粉刷表","v":{"$error":"#NAME?"}}]
["702 梯廳 A","3.55*6.7","F1",{"$f":"粉刷表","v":{"$error":"#NAME?"}},"3.3*5.2-2*2","W3",{"$f":"粉刷表","v":{"$error":"#NAME?"}}]
[null,"3.55*6.7","C5",{"$f":"粉刷表","v":{"$error":"#NAME?"}},"3.3*1.5-1.83","W3A",{"$f":"粉刷表","v":{"$error":"#NAME?"}}]
[null,null,null,null,"3.3*(1.5+1.3+6.7)-1.9-4.94","W4",{"$f":"粉刷表","v":{"$error":"#NAME?"}}]
[null,null,null,null,"3.3*3.55-2.36","W2",{"$f":"粉刷表","v":{"$error":"#NAME?"}}]
["703 梯廳 B及走道","1.3*2.85+2*19+3.6*5.55","F11",{"$f":"粉刷表","v":{"$error":"#NAME?"}},"4.3*(0.85+25.85+3.6+1.85+1.6+20.3)","W4",{"$f":"粉刷表","v":{"$error":"#NAME?"}}]
[null,"1.3*2.85+2*19+3.6*5.55","C0",{"$f":"粉刷表","v":{"$error":"#NAME?"}},"-4.94-4.08-2.36","W4",{"$f":"粉刷表","v":{"$error":"#NAME?"}}]
[null,null,null,null,"4.35*3.7-3","W2",{"$f":"粉刷表","v":{"$error":"#NAME?"}}]
["704 機房","6.1*16.85","F6",{"$f":"粉刷表","v":{"$error":"#NAME?"}},"4.35*(6.1+16.85)*2-4.08-3.07*4-13.4-9.8","W4",{"$f":"粉刷表","v":{"$error":"#NAME?"}}]
[null,"6.1*16.85","C0",{"$f":"粉刷表","v":{"$error":"#NAME?"}}]
["705 A樓梯","3.03*3.95+3*1.55+1.5*3.9*2+1.5*4.5","F7",{"$f":"粉刷表","v":{"$error":"#NAME?"}},"4.5*7.7-2.36","W2",{"$f":"粉刷表","v":{"$error":"#NAME?"}}]
[null,"2.77*3.95","C6",{"$f":"粉刷表","v":{"$error":"#NAME?"}},"4.5*(3.25+0.5)","W6",{"$f":"粉刷表","v":{"$error":"#NAME?"}}]
[null,"3*1.55+1.5*3.9*2+1.5*4.5","C7",{"$f":"粉刷表","v":{"$error":"#NAME?"}}]
[null,"0.3*2*((3.9+0.4+4+0.8)*2+1.55*2)","C7",{"$f":"粉刷表","v":{"$error":"#NAME?"}}]
["706 B樓梯","2.15*3.15+1.3*(0.42+0.94)+1.45*2.6","F7",{"$f":"粉刷表","v":{"$error":"#NAME?"}},"4.5*4.65","W2",{"$f":"粉刷表","v":{"$error":"#NAME?"}}]
[null,"1.3*3.12*2+1.3*4.5","F7",{"$f":"粉刷表","v":{"$error":"#NAME?"}},"4.5*(3.15+2.45)-4.37","W4",{"$f":"粉刷表","v":{"$error":"#NAME?"}}]
[null,"2.15*3.15","C6",{"$f":"粉刷表","v":{"$error":"#NAME?"}},"4.5*(7.55+2.45)","W6",{"$f":"粉刷表","v":{"$error":"#NAME?"}}]
[null,"1.45*2.6+1.3*3.12*2+1.3*4.5","C7",{"$f":"粉刷表","v":{"$error":"#NAME?"}}]
[null,"0.3*2*((3.45+3.35)*2+1.1*2+1.55*2)","C7",{"$f":"粉刷表","v":{"$error":"#NAME?"}}]
["707 C樓梯","0.75*1.2+2.4*2.65+1.25*2.5+1.25*3.12*2","F7",{"$f":"粉刷表","v":{"$error":"#NAME?"}},"4.5*(6.5*2+2.5+0.75*2)-2.36","W2",{"$f":"粉刷表","v":{"$error":"#NAME?"}}]
[null,"1.25*4.5","F7",{"$f":"粉刷表","v":{"$error":"#NAME?"}}]
[null,"0.75*1.2+2.4*2.65","C6",{"$f":"粉刷表","v":{"$error":"#NAME?"}}]
[null,"1.25*2.5+1.25*3.12*2+1.25*4.5","C7",{"$f":"粉刷表","v":{"$error":"#NAME?"}}]
["708 廁所茶水間","3.08*2","F3",{"$f":"粉刷表","v":{"$error":"#NAME?"}},"3.3*((3.08+2)*2-1)","W4",{"$f":"粉刷表","v":{"$error":"#NAME?"}}]
[null,"3.08*2","C3",{"$f":"粉刷表","v":{"$error":"#NAME?"}}]
["709 行動不便廁所","2*2.56","F8",{"$f":"粉刷表","v":{"$error":"#NAME?"}},"3.3*1.4","W7",{"$f":"粉刷表","v":{"$error":"#NAME?"}}]
[null,"2*2.56","C3",{"$f":"粉刷表","v":{"$error":"#NAME?"}},"3.3*((2+2.56)*2)-1.4-2.1","W7A",{"$f":"粉刷表","v":{"$error":"#NAME?"}}]
["710 廁所區走道","1.5*2.35+1.38*4.83","F3",{"$f":"粉刷表","v":{"$error":"#NAME?"}},"3.3*3.36","W2",{"$f":"粉刷表","v":{"$error":"#NAME?"}}]
[null,"1.5*2.35+1.38*4.83","C3",{"$f":"粉刷表","v":{"$error":"#NAME?"}},"3.3*((4.83+3.72)*2-3.36)-2.05-1.72*2-1.93","W4",{"$f":"粉刷表","v":{"$error":"#NAME?"}}]
["711 男廁","1.5*1.7+3.3*3.45-1.2*0.6+0.5*1.7","F8",{"$f":"粉刷表","v":{"$error":"#NAME?"}},"3.3*(1.73+3.2+0.5)","W7",{"$f":"粉刷表","v":{"$error":"#NAME?"}}]
[null,"1.5*1.7+3.3*3.45-1.2*0.6+0.5*1.7","C3",{"$f":"粉刷表","v":{"$error":"#NAME?"}},"3.3*(1.34*2+1.75+3.85+4.95+1.6)-1.93-0.81","W7A",{"$f":"粉刷表","v":{"$error":"#NAME?"}}]
["712 女廁","2.03*1.82+3.45*3.21","F8",{"$f":"粉刷表","v":{"$error":"#NAME?"}},"3.3*0.8","W7",{"$f":"粉刷表","v":{"$error":"#NAME?"}}]
[null,"2.03*1.82+3.45*3.22","C3",{"$f":"粉刷表","v":{"$error":"#NAME?"}},"3.3*((5.04+3.45)*2-0.8)-1.93-0.81","W7A",{"$f":"粉刷表","v":{"$error":"#NAME?"}}]
["713 吊裝平台","1.88*5.28","F6",{"$f":"粉刷表","v":{"$error":"#NAME?"}},"計入外牆"]
[null,"1.88*5.28","C6",{"$f":"粉刷表","v":{"$error":"#NAME?"}}]
["801 廠房挑空區","43.9*27.8-8.7*2","C0",{"$f":"粉刷表","v":{"$error":"#NAME?"}},"4.5*(27.8+26.9+0.85)","W1A",{"$f":"粉刷表","v":{"$error":"#NAME?"}}]
[null,null,null,null,"4.5*(13.07+0.85*2)","W1",{"$f":"粉刷表","v":{"$error":"#NAME?"}}]
["802 梯廳 A","3.55*6.7","F1",{"$f":"粉刷表","v":{"$error":"#NAME?"}},"3.3*5.2-2*2","W3",{"$f":"粉刷表","v":{"$error":"#NAME?"}}]
[null,"3.55*6.7","C5",{"$f":"粉刷表","v":{"$error":"#NAME?"}},"3.3*1.5-1.83","W3A",{"$f":"粉刷表","v":{"$error":"#NAME?"}}]
[null,null,null,null,"3.3*(1.5+1.3+6.7)-1.9-4.94","W4",{"$f":"粉刷表","v":{"$error":"#NAME?"}}]
[null,null,null,null,"3.3*3.55-2.36","W2",{"$f":"粉刷表","v":{"$error":"#NAME?"}}]
["803 梯廳 B及走道","1.3*2.85+2*19+3.6*5.55","F11",{"$f":"粉刷表","v":{"$error":"#NAME?"}},"4.3*(0.85+25.85+3.6+1.85+1.6+20.3)","W4",{"$f":"粉刷表","v":{"$error":"#NAME?"}}]
[null,"1.3*2.85+2*19+3.6*5.55","C0",{"$f":"粉刷表","v":{"$error":"#NAME?"}},"-4.94-4.08-2.36","W4",{"$f":"粉刷表","v":{"$error":"#NAME?"}}]
[null,null,null,null,"4.35*3.7-3","W2",{"$f":"粉刷表","v":{"$error":"#NAME?"}}]
["804 機房","6.1*16.85","F6",{"$f":"粉刷表","v":{"$error":"#NAME?"}},"4.35*(6.1+16.85)*2-4.08-3.07*4-13.4-9.8","W4",{"$f":"粉刷表","v":{"$error":"#NAME?"}}]
[null,"6.1*16.85","C0",{"$f":"粉刷表","v":{"$error":"#NAME?"}}]
["805 A樓梯","3.03*3.95+3*1.55+1.5*3.9*2+1.5*4.5","F7",{"$f":"粉刷表","v":{"$error":"#NAME?"}},"4.5*7.7-2.36","W2",{"$f":"粉刷表","v":{"$error":"#NAME?"}}]
[null,"2.77*3.95","C6",{"$f":"粉刷表","v":{"$error":"#NAME?"}},"4.5*(3.25+0.5)","W6",{"$f":"粉刷表","v":{"$error":"#NAME?"}}]
[null,"3*1.55+1.5*3.9*2+1.5*4.5","C7",{"$f":"粉刷表","v":{"$error":"#NAME?"}}]
[null,"0.3*2*((3.9+0.4+4+0.8)*2+1.55*2)","C7",{"$f":"粉刷表","v":{"$error":"#NAME?"}}]
["806 B樓梯","2.15*3.15+1.3*(0.42+0.94)+1.45*2.6","F7",{"$f":"粉刷表","v":{"$error":"#NAME?"}},"4.5*4.65","W2",{"$f":"粉刷表","v":{"$error":"#NAME?"}}]
[null,"1.3*3.12*2+1.3*4.5","F7",{"$f":"粉刷表","v":{"$error":"#NAME?"}},"4.5*(3.15+2.45)-4.37","W4",{"$f":"粉刷表","v":{"$error":"#NAME?"}}]
[null,"2.15*3.15","C6",{"$f":"粉刷表","v":{"$error":"#NAME?"}},"4.5*(7.55+2.45)","W6",{"$f":"粉刷表","v":{"$error":"#NAME?"}}]
[null,"1.45*2.6+1.3*3.12*2+1.3*4.5","C7",{"$f":"粉刷表","v":{"$error":"#NAME?"}}]
[null,"0.3*2*((3.45+3.35)*2+1.1*2+1.55*2)","C7",{"$f":"粉刷表","v":{"$error":"#NAME?"}}]
["807 C樓梯","2.4*2.65+1.25*2.5+1.25*3.12*2","F7",{"$f":"粉刷表","v":{"$error":"#NAME?"}},"4.5*(6.5*2+2.5)-2.36","W2",{"$f":"粉刷表","v":{"$error":"#NAME?"}}]
[null,"1.25*4.5","F7",{"$f":"粉刷表","v":{"$error":"#NAME?"}}]
[null,"2.4*2.65","C6",{"$f":"粉刷表","v":{"$error":"#NAME?"}}]
[null,"1.25*2.5+1.25*3.12*2+1.25*4.5","C7",{"$f":"粉刷表","v":{"$error":"#NAME?"}}]
["808 廁所茶水間","3.6*2","F3",{"$f":"粉刷表","v":{"$error":"#NAME?"}},"3.3*((3.6+2)*2-1)-1.8","W4",{"$f":"粉刷表","v":{"$error":"#NAME?"}}]
[null,"3.6*2","C3",{"$f":"粉刷表","v":{"$error":"#NAME?"}}]
["809 儲藏室","2*2.05","F3",{"$f":"粉刷表","v":{"$error":"#NAME?"}},"3.3*(2.05+2)*2-1.8","W4",{"$f":"粉刷表","v":{"$error":"#NAME?"}}]
[null,"2*2.05","C3",{"$f":"粉刷表","v":{"$error":"#NAME?"}}]
["810 廁所區走道","1.5*2.35+1.38*4.83","F3",{"$f":"粉刷表","v":{"$error":"#NAME?"}},"3.3*3.36","W2",{"$f":"粉刷表","v":{"$error":"#NAME?"}}]
[null,"1.5*2.35+1.38*4.83","C3",{"$f":"粉刷表","v":{"$error":"#NAME?"}},"3.3*((4.83+3.72)*2-3.36)-2.05-1.72*2-1.93","W4",{"$f":"粉刷表","v":{"$error":"#NAME?"}}]
["811 男廁","1.5*1.7+3.3*3.45-1.2*0.6+0.5*1.7","F8",{"$f":"粉刷表","v":{"$error":"#NAME?"}},"3.3*(1.73+3.2+0.5)","W7",{"$f":"粉刷表","v":{"$error":"#NAME?"}}]
[null,"1.5*1.7+3.3*3.45-1.2*0.6+0.5*1.7","C3",{"$f":"粉刷表","v":{"$error":"#NAME?"}},"3.3*(1.34*2+1.75+3.85+4.95+1.6)-1.93-0.81","W7A",{"$f":"粉刷表","v":{"$error":"#NAME?"}}]
["812 女廁","2.03*1.82+3.45*3.21","F8",{"$f":"粉刷表","v":{"$error":"#NAME?"}},"3.3*0.8","W7",{"$f":"粉刷表","v":{"$error":"#NAME?"}}]
[null,"2.03*1.82+3.45*3.22","C3",{"$f":"粉刷表","v":{"$error":"#NAME?"}},"3.3*((5.04+3.45)*2-0.8)-1.93-0.81","W7A",{"$f":"粉刷表","v":{"$error":"#NAME?"}}]
["813 辦公室","10.55*9.3+12.75*15.8+10*9.4","F3",{"$f":"粉刷表","v":{"$error":"#NAME?"}},"3.3*(2.8+10.55)-2.2*2-2.36","W2",{"$f":"粉刷表","v":{"$error":"#NAME?"}}]
[null,"10.55*9.3+12.75*15.8+10*9.4","C4",{"$f":"粉刷表","v":{"$error":"#NAME?"}},"3.3*(26.9+0.85+9.4)-4.94","W4",{"$f":"粉刷表","v":{"$error":"#NAME?"}}]
["814 吊裝平台","1.88*5.28","F6",{"$f":"粉刷表","v":{"$error":"#NAME?"}},"計入外牆"]
[null,"1.88*5.28","C6",{"$f":"粉刷表","v":{"$error":"#NAME?"}}]
["901 生產製程區","43.9*27.8+10*8.3+15.8*12.1+10.55*9.3-8.7*2","F11",{"$f":"粉刷表","v":{"$error":"#NAME?"}},"4.35*(13.07+0.85*2+2.8+10.55)-2.36-2.2*2","W1",{"$f":"粉刷表","v":{"$error":"#NAME?"}}]
[null,"43.9*27.8+10*8.3+15.8*12.1+10.55*9.3-43.9*27.1","C0",{"$f":"粉刷表","v":{"$error":"#NAME?"}},"4.35*(1.1+0.35+27.8+8.3)-4.94*2","W1A",{"$f":"粉刷表","v":{"$error":"#NAME?"}}]
["902 梯廳 A","3.55*6.7","F1",{"$f":"粉刷表","v":{"$error":"#NAME?"}},"3.3*5.2-2*2","W3",{"$f":"粉刷表","v":{"$error":"#NAME?"}}]
[null,"3.55*6.7","C5",{"$f":"粉刷表","v":{"$error":"#NAME?"}},"3.3*1.5-1.83","W3A",{"$f":"粉刷表","v":{"$error":"#NAME?"}}]
[null,null,null,null,"3.3*(1.5+1.3+6.7)-1.9-4.94","W4",{"$f":"粉刷表","v":{"$error":"#NAME?"}}]
[null,null,null,null,"3.3*3.55-2.36","W2",{"$f":"粉刷表","v":{"$error":"#NAME?"}}]
["903 梯廳 B及走道","1.3*2.85+2*19+3.6*5.55","F11",{"$f":"粉刷表","v":{"$error":"#NAME?"}},"4.3*(0.85+25.85+3.6+1.85+1.6+20.3)","W4",{"$f":"粉刷表","v":{"$error":"#NAME?"}}]
[null,"1.3*2.85+2*19+3.6*5.55","C0",{"$f":"粉刷表","v":{"$error":"#NAME?"}},"-4.94-4.08-2.36","W4",{"$f":"粉刷表","v":{"$error":"#NAME?"}}]
[null,null,null,null,"4.35*3.7-3","W2",{"$f":"粉刷表","v":{"$error":"#NAME?"}}]
["904 機房","6.1*16.85","F6",{"$f":"粉刷表","v":{"$error":"#NAME?"}},"4.35*(6.1+16.85)*2-4.08-3.07*4-13.4-9.8","W4",{"$f":"粉刷表","v":{"$error":"#NAME?"}}]
[null,"6.1*16.85","C0",{"$f":"粉刷表","v":{"$error":"#NAME?"}}]
["905 A樓梯","3.03*3.95+3*1.55+1.5*3.9*2+1.5*4.5","F7",{"$f":"粉刷表","v":{"$error":"#NAME?"}},"4.5*7.7-2.36","W2",{"$f":"粉刷表","v":{"$error":"#NAME?"}}]
[null,"2.77*3.95","C6",{"$f":"粉刷表","v":{"$error":"#NAME?"}},"4.5*(3.25+0.5)","W6",{"$f":"粉刷表","v":{"$error":"#NAME?"}}]
[null,"3*1.55+1.5*3.9*2+1.5*4.5","C7",{"$f":"粉刷表","v":{"$error":"#NAME?"}}]
[null,"0.3*2*((3.9+0.4+4+0.8)*2+1.55*2)","C7",{"$f":"粉刷表","v":{"$error":"#NAME?"}}]
["906 B樓梯","2.15*3.15+1.3*(0.42+0.94)+1.45*2.6","F7",{"$f":"粉刷表","v":{"$error":"#NAME?"}},"4.5*4.65","W2",{"$f":"粉刷表","v":{"$error":"#NAME?"}}]
[null,"1.3*3.12*2+1.3*4.5","F7",{"$f":"粉刷表","v":{"$error":"#NAME?"}},"4.5*(3.15+2.45)-4.37","W4",{"$f":"粉刷表","v":{"$error":"#NAME?"}}]
[null,"2.15*3.15","C6",{"$f":"粉刷表","v":{"$error":"#NAME?"}},"4.5*(7.55+2.45)","W6",{"$f":"粉刷表","v":{"$error":"#NAME?"}}]
[null,"1.45*2.6+1.3*3.12*2+1.3*4.5","C7",{"$f":"粉刷表","v":{"$error":"#NAME?"}}]
[null,"0.3*2*((3.45+3.35)*2+1.1*2+1.55*2)","C7",{"$f":"粉刷表","v":{"$error":"#NAME?"}}]
["907 C樓梯","0.75*1.2+2.4*2.65+1.25*2.5+1.25*3.12*2","F7",{"$f":"粉刷表","v":{"$error":"#NAME?"}},"4.5*(6.5*2+2.5+0.75*2)-2.36","W2",{"$f":"粉刷表","v":{"$error":"#NAME?"}}]
[null,"1.25*4.5","F7",{"$f":"粉刷表","v":{"$error":"#NAME?"}}]
[null,"0.75*1.2+2.4*2.65","C6",{"$f":"粉刷表","v":{"$error":"#NAME?"}}]
[null,"1.25*2.5+1.25*3.12*2+1.25*4.5","C7",{"$f":"粉刷表","v":{"$error":"#NAME?"}}]
["908 廁所茶水間","3.6*2","F3",{"$f":"粉刷表","v":{"$error":"#NAME?"}},"3.3*((3.6+2)*2-1)-1.8","W4",{"$f":"粉刷表","v":{"$error":"#NAME?"}}]
[null,"3.6*2","C3",{"$f":"粉刷表","v":{"$error":"#NAME?"}}]
["909 儲藏室","2*2.05","F3",{"$f":"粉刷表","v":{"$error":"#NAME?"}},"3.3*(2.05+2)*2-1.8","W4",{"$f":"粉刷表","v":{"$error":"#NAME?"}}]
[null,"2*2.05","C3",{"$f":"粉刷表","v":{"$error":"#NAME?"}}]
["910 廁所區走道","1.5*2.35+1.38*4.83","F3",{"$f":"粉刷表","v":{"$error":"#NAME?"}},"3.3*3.36","W2",{"$f":"粉刷表","v":{"$error":"#NAME?"}}]
[null,"1.5*2.35+1.38*4.83","C3",{"$f":"粉刷表","v":{"$error":"#NAME?"}},"3.3*((4.83+3.72)*2-3.36)-2.05-1.72*2-1.93","W4",{"$f":"粉刷表","v":{"$error":"#NAME?"}}]
["911 男廁","1.5*1.7+3.3*3.45-1.2*0.6+0.5*1.7","F8",{"$f":"粉刷表","v":{"$error":"#NAME?"}},"3.3*(1.73+3.2+0.5)","W7",{"$f":"粉刷表","v":{"$error":"#NAME?"}}]
[null,"1.5*1.7+3.3*3.45-1.2*0.6+0.5*1.7","C3",{"$f":"粉刷表","v":{"$error":"#NAME?"}},"3.3*(1.34*2+1.75+3.85+4.95+1.6)-1.93-0.81","W7A",{"$f":"粉刷表","v":{"$error":"#NAME?"}}]
["912 女廁","2.03*1.82+3.45*3.21","F8",{"$f":"粉刷表","v":{"$error":"#NAME?"}},"3.3*0.8","W7",{"$f":"粉刷表","v":{"$error":"#NAME?"}}]
[null,"2.03*1.82+3.45*3.22","C3",{"$f":"粉刷表","v":{"$error":"#NAME?"}},"3.3*((5.04+3.45)*2-0.8)-1.93-0.81","W7A",{"$f":"粉刷表","v":{"$error":"#NAME?"}}]
["913 吊裝平台","1.88*5.28","F6",{"$f":"粉刷表","v":{"$error":"#NAME?"}},"計入外牆"]
[null,"1.88*5.28","C6",{"$f":"粉刷表","v":{"$error":"#NAME?"}}]
["1001 廠房挑空區","43.9*27.8-8.7*2","C0",{"$f":"粉刷表","v":{"$error":"#NAME?"}},"4.5*(27.8+26.9+0.85)","W1A",{"$f":"粉刷表","v":{"$error":"#NAME?"}}]
[null,null,null,null,"4.5*(13.07+0.85*2)","W1",{"$f":"粉刷表","v":{"$error":"#NAME?"}}]
["1002 梯廳 A","3.55*6.7+1.3*2.85+2*1.95","F1",{"$f":"粉刷表","v":{"$error":"#NAME?"}},"3.3*5.2-2*2","W3",{"$f":"粉刷表","v":{"$error":"#NAME?"}}]
[null,"3.55*6.7+1.3*2.85+2*1.95","C5",{"$f":"粉刷表","v":{"$error":"#NAME?"}},"3.3*1.5-1.83","W3A",{"$f":"粉刷表","v":{"$error":"#NAME?"}}]
[null,null,null,null,"3.3*(0.7+3.3+2+2.8+8.1)-1.9-4.94-4.08","W4",{"$f":"粉刷表","v":{"$error":"#NAME?"}}]
[null,null,null,null,"3.3*3.55-2.36","W2",{"$f":"粉刷表","v":{"$error":"#NAME?"}}]
["1003 梯廳 B","3.6*5.55","F11",{"$f":"粉刷表","v":{"$error":"#NAME?"}},"4.3*(3.6*2+5.55)-4.08-2.36","W4",{"$f":"粉刷表","v":{"$error":"#NAME?"}}]
[null,"3.6*5.55","C0",{"$f":"粉刷表","v":{"$error":"#NAME?"}},"4.35*3.7-3","W2",{"$f":"粉刷表","v":{"$error":"#NAME?"}}]
["1004 餐廳","8.3*16.85","F6",{"$f":"粉刷表","v":{"$error":"#NAME?"}},"4.35*(8.3*2+16.85)-4.08*2-3.07*4","W4",{"$f":"粉刷表","v":{"$error":"#NAME?"}}]
[null,"8.3*16.85","C0",{"$f":"粉刷表","v":{"$error":"#NAME?"}}]
["1005 A樓梯","3.03*3.95+3*1.55+1.5*3.9*2+1.5*4.5","F7",{"$f":"粉刷表","v":{"$error":"#NAME?"}},"4.5*7.7-2.36","W2",{"$f":"粉刷表","v":{"$error":"#NAME?"}}]
[null,"2.77*3.95","C6",{"$f":"粉刷表","v":{"$error":"#NAME?"}},"4.5*(3.25+0.5)","W6",{"$f":"粉刷表","v":{"$error":"#NAME?"}}]
[null,"3*1.55+1.5*3.9*2+1.5*4.5","C7",{"$f":"粉刷表","v":{"$error":"#NAME?"}}]
[null,"0.3*2*((3.9+0.4+4+0.8)*2+1.55*2)","C7",{"$f":"粉刷表","v":{"$error":"#NAME?"}}]
["1006 B樓梯","2.15*3.15+1.3*(0.42+0.94)+1.45*2.6","F7",{"$f":"粉刷表","v":{"$error":"#NAME?"}},"4.5*4.65","W2",{"$f":"粉刷表","v":{"$error":"#NAME?"}}]
[null,"1.3*3.12*2+1.3*4.5","F7",{"$f":"粉刷表","v":{"$error":"#NAME?"}},"4.5*(3.15+2.45)-4.37","W4",{"$f":"粉刷表","v":{"$error":"#NAME?"}}]
[null,"2.15*3.15","C6",{"$f":"粉刷表","v":{"$error":"#NAME?"}},"4.5*(7.55+2.45)","W6",{"$f":"粉刷表","v":{"$error":"#NAME?"}}]
[null,"1.45*2.6+1.3*3.12*2+1.3*4.5","C7",{"$f":"粉刷表","v":{"$error":"#NAME?"}}]
[null,"0.3*2*((3.45+3.35)*2+1.1*2+1.55*2)","C7",{"$f":"粉刷表","v":{"$error":"#NAME?"}}]
["1007 C樓梯","1.34*3.05+0.55*2.65","F7",{"$f":"粉刷表","v":{"$error":"#NAME?"}},"4.5*(5.71+3.05)","W2",{"$f":"粉刷表","v":{"$error":"#NAME?"}}]
[null,"2.5*5.71","C6",{"$f":"粉刷表","v":{"$error":"#NAME?"}},"4.5*(5.71+0.55+2.5)","W6",{"$f":"粉刷表","v":{"$error":"#NAME?"}}]
["1008 廁所茶水間","3.08*2","F3",{"$f":"粉刷表","v":{"$error":"#NAME?"}},"3.3*((3.08+2)*2-1)","W4",{"$f":"粉刷表","v":{"$error":"#NAME?"}}]
[null,"3.08*2","C3",{"$f":"粉刷表","v":{"$error":"#NAME?"}}]
["1009 行動不便廁所","2*2.56","F8",{"$f":"粉刷表","v":{"$error":"#NAME?"}},"3.3*1.4","W7",{"$f":"粉刷表","v":{"$error":"#NAME?"}}]
[null,"2*2.56","C3",{"$f":"粉刷表","v":{"$error":"#NAME?"}},"3.3*((2+2.56)*2)-1.4-2.1","W7A",{"$f":"粉刷表","v":{"$error":"#NAME?"}}]
["1010 廁所區走道","1.5*2.35+1.38*4.83","F3",{"$f":"粉刷表","v":{"$error":"#NAME?"}},"3.3*3.36","W2",{"$f":"粉刷表","v":{"$error":"#NAME?"}}]
[null,"1.5*2.35+1.38*4.83","C3",{"$f":"粉刷表","v":{"$error":"#NAME?"}},"3.3*((4.83+3.72)*2-3.36)-2.05-1.72*2-1.93","W4",{"$f":"粉刷表","v":{"$error":"#NAME?"}}]
["1011 男廁","1.5*1.7+3.3*3.45-1.2*0.6+0.5*1.7","F8",{"$f":"粉刷表","v":{"$error":"#NAME?"}},"3.3*(1.73+3.2+0.5)","W7",{"$f":"粉刷表","v":{"$error":"#NAME?"}}]
[null,"1.5*1.7+3.3*3.45-1.2*0.6+0.5*1.7","C3",{"$f":"粉刷表","v":{"$error":"#NAME?"}},"3.3*(1.34*2+1.75+3.85+4.95+1.6)-1.93-0.81","W7A",{"$f":"粉刷表","v":{"$error":"#NAME?"}}]
["1012 女廁","2.03*1.82+3.45*3.21","F8",{"$f":"粉刷表","v":{"$error":"#NAME?"}},"3.3*0.8","W7",{"$f":"粉刷表","v":{"$error":"#NAME?"}}]
[null,"2.03*1.82+3.45*3.22","C3",{"$f":"粉刷表","v":{"$error":"#NAME?"}},"3.3*((5.04+3.45)*2-0.8)-1.93-0.81","W7A",{"$f":"粉刷表","v":{"$error":"#NAME?"}}]
["1013 員工福利設施","10*8.9+8.3*10.8","F3",{"$f":"粉刷表","v":{"$error":"#NAME?"}},"3.4*(8.9+20.8+8.15)-4.98*2.36","W4",{"$f":"粉刷表","v":{"$error":"#NAME?"}}]
[null,"10*8.9+8.3*10.8","C4",{"$f":"粉刷表","v":{"$error":"#NAME?"}},"3.4*(10.+085*2)","W6",{"$f":"粉刷表","v":{"$error":"#NAME?"}}]
["1014 吊裝平台","1.88*5.28","F6",{"$f":"粉刷表","v":{"$error":"#NAME?"}},"計入外牆"]
[null,"1.88*5.28","C6",{"$f":"粉刷表","v":{"$error":"#NAME?"}}]
["1015 機房","4.75*4.25+11.4*3.9","F6",{"$f":"粉刷表","v":{"$error":"#NAME?"}},"4.35*(4.25+6.65+1.4)-2.36","W2",{"$f":"粉刷表","v":{"$error":"#NAME?"}}]
[null,"1.2*1","F6",{"$f":"粉刷表","v":{"$error":"#NAME?"}},"4.35*(4.75+8.15)-2.36","W4",{"$f":"粉刷表","v":{"$error":"#NAME?"}}]
[null,"4.75*4.25+11.4*3.9","C0",{"$f":"粉刷表","v":{"$error":"#NAME?"}},"4.35*5.05","W6",{"$f":"粉刷表","v":{"$error":"#NAME?"}}]
["1016 電梯機房","4.1*6.55+1.4*1.35","F6",{"$f":"粉刷表","v":{"$error":"#NAME?"}},"3.35*(4.1+1.4+6.55)*2-2.36","W2",{"$f":"粉刷表","v":{"$error":"#NAME?"}}]
[null,"4.1*6.55+1.4*1.35","C0",{"$f":"粉刷表","v":{"$error":"#NAME?"}}]
["1017 露台","25.6*3.5+3.85*4.96","F9",{"$f":"粉刷表","v":{"$error":"#NAME?"}}]
["R1 01 梯廳 A","3.2*4.4","F6",{"$f":"粉刷表","v":{"$error":"#NAME?"}},"4.35*(3.2+4.4)-2.36-4.08","W3",{"$f":"粉刷表","v":{"$error":"#NAME?"}}]
[null,"3.2*4.4","C6",{"$f":"粉刷表","v":{"$error":"#NAME?"}},"4.35*4.4-2.36","W6",{"$f":"粉刷表","v":{"$error":"#NAME?"}}]
["R1 02 梯廳 B","4.45*6.4+0.3*1.85","F6",{"$f":"粉刷表","v":{"$error":"#NAME?"}},"4.35*(4.45+0.3+2.7)-4.08-2.36","W4",{"$f":"粉刷表","v":{"$error":"#NAME?"}}]
[null,"4.45*6.4+0.3*1.85","C6",{"$f":"粉刷表","v":{"$error":"#NAME?"}},"4.35*6.4-3.07-3","W2",{"$f":"粉刷表","v":{"$error":"#NAME?"}}]
["R1 03 A樓梯","2.8*3.95+0.5*1.55","F7",{"$f":"粉刷表","v":{"$error":"#NAME?"}},"4.5*7.7-2.36","W2",{"$f":"粉刷表","v":{"$error":"#NAME?"}}]
[null,"2.77*3.95","C2",{"$f":"粉刷表","v":{"$error":"#NAME?"}},"4.5*(9.1+3.25*2)","W6",{"$f":"粉刷表","v":{"$error":"#NAME?"}}]
[null,"3.95*9.1","C6",{"$f":"粉刷表","v":{"$error":"#NAME?"}}]
["R1 04 B樓梯","2.12*3.15+1.35*3.12+1.4*3.12+1.3*4.16","F7",{"$f":"粉刷表","v":{"$error":"#NAME?"}},"4.5*4.65","W2",{"$f":"粉刷表","v":{"$error":"#NAME?"}}]
[null,"1.4*2.26+1.3*3.19","F7",{"$f":"粉刷表","v":{"$error":"#NAME?"}},"4.5*(3.15+2.45)-2.36","W4",{"$f":"粉刷表","v":{"$error":"#NAME?"}}]
[null,"2.15*3.15","C6",{"$f":"粉刷表","v":{"$error":"#NAME?"}},"4.5*(7.55+2.45)","W6",{"$f":"粉刷表","v":{"$error":"#NAME?"}}]
[null,"1.4*3.12+1.3*4.16+1.4*2.26+1.3*3.19","C7",{"$f":"粉刷表","v":{"$error":"#NAME?"}}]
[null,"0.3*2*(3.7*2+5.3*2+1.45*2)","C7",{"$f":"粉刷表","v":{"$error":"#NAME?"}}]
["R1 05 機房","9.07*7.9+3.2*0.65","F6",{"$f":"粉刷表","v":{"$error":"#NAME?"}},"4.5*3.15-2.36","W2",{"$f":"粉刷表","v":{"$error":"#NAME?"}}]
[null,"9.07*7.9+3.2*0.65","C6",{"$f":"粉刷表","v":{"$error":"#NAME?"}},"4.5*(5.92+0.65)-4.08-1.26","W4",{"$f":"粉刷表","v":{"$error":"#NAME?"}}]
[null,null,null,null,"4.5*(4.1+5.5)-2.36-5.51","W6",{"$f":"粉刷表","v":{"$error":"#NAME?"}}]
["R1 06 電梯機房","5.8*4.4+0.65*3","F6",{"$f":"粉刷表","v":{"$error":"#NAME?"}},"4.05*(5.8*2+5.05)-2.36-.49","W2",{"$f":"粉刷表","v":{"$error":"#NAME?"}}]
[null,"5.8*4.4+0.65*3","C6",{"$f":"粉刷表","v":{"$error":"#NAME?"}},"4.05*(1.7*2+0.7)-0.8","W4",{"$f":"粉刷表","v":{"$error":"#NAME?"}}]
["R2 01 B樓梯","3.15*5.81+1.3*0.3","F7",{"$f":"粉刷表","v":{"$error":"#NAME?"}},"5.3*9.1-2.36","W2",{"$f":"粉刷表","v":{"$error":"#NAME?"}}]
[null,"3.15*9.08","C6",{"$f":"粉刷表","v":{"$error":"#NAME?"}},"5.3*(3.15*2+9.1)","W6",{"$f":"粉刷表","v":{"$error":"#NAME?"}}]
["R2 02 機房","9.1*6.4","F6",{"$f":"粉刷表","v":{"$error":"#NAME?"}},"5.3*9.1-2.36","W2",{"$f":"粉刷表","v":{"$error":"#NAME?"}}]
[null,"9.1*6.4","C6",{"$f":"粉刷表","v":{"$error":"#NAME?"}},"5.3*(6.4*2+9.1)","W6",{"$f":"粉刷表","v":{"$error":"#NAME?"}}]
[]
[null,null,null,{"$f":"SUM(D6:D531)","v":{"$error":"#VALUE!"}},null,null,{"$f":"SUM(G6:G531)","v":{"$error":"#VALUE!"}}]
["房 間 編 號","地坪,平頂","代號","數量","牆面,踢腳","代號","數量"]
[null,"地坪乾式打底貼拋光面石材 F1","F1",{"$f":"SUMIF(C$6:C$531,C534,D$6:D$531)","v":{"$error":"#VALUE!"}},"牆面1:3水泥粉刷","W1",{"$f":"SUMIF(F$6:F$531,F534,G$6:G$531)","v":{"$error":"#VALUE!"}}]
[null,"整體粉光+除泥地墊","F2",{"$error":"#VALUE!"},"輕隔間牆面批土整平","W1A",{"$error":"#VALUE!"}]
[null,"整體粉光+貼PVC地毯","F3",{"$error":"#VALUE!"},"牆面1:3水泥粉刷批土刷水泥漆","W2",{"$error":"#VALUE!"}]
[null,"地坪整體粉刷後貼60*60抛光石英磚 F4","F4",{"$error":"#VALUE!"},"地下室外側牆面1:2防水泥粉刷刷水泥漆","W2A",{"$error":"#VALUE!"}]
[null,"平面車道停車位整體粉光+3mm EPOXY+石英砂地坪 F5","F5",{"$error":"#VALUE!"},"牆面1:3水泥粉刷貼30*60磁磚","W3",{"$error":"#VALUE!"}]
[null,"斜車道整體粉光+5mm EPOXY+石英砂地坪 F5A","F5A",{"$error":"#VALUE!"},"輕隔間牆面貼30*60磁磚","W3A",{"$error":"#VALUE!"}]
[null,"地坪拍漿粉光+3mm EPOXY平光面 F6","F6",{"$error":"#VALUE!"},"輕隔間牆面批土刷水泥漆","W4",{"$error":"#VALUE!"}]
[null,"樓梯面貼20*20面磚+止滑磚 F7","F7",{"$error":"#VALUE!"},"輕隔間立體架乾式吊掛石材","W5A",{"$error":"#VALUE!"}]
[null,"廁所地坪防水塗佈後貼30*30止滑石英磚","F8",{"$error":"#VALUE!"},"RC牆面乾掛石材","W5",{"$error":"#VALUE!"}]
[null,"陽台地坪防水膠貼10*10窯燒花崗石","F9",{"$error":"#VALUE!"},"室內牆面金屬包板","W6",{"$error":"#VALUE!"}]
[null,"無毒防水劑+1:2防水粉刷貼20*20地磚 F10","F10",{"$error":"#VALUE!"},"廁所牆面1:2水泥砂漿貼30*60磁磚","W7",{"$error":"#VALUE!"}]
[null,"地坪高平整整體粉光 F11","F11",{"$error":"#VALUE!"},"廁所輕隔間牆面;方水後黏著劑貼30*60磁磚","W7A",{"$error":"#VALUE!"}]
[null,"平頂未施作材料","C0",{"$error":"#VALUE!"},"牆面防水劑+防水粉刷貼20*20面磚","W10",{"$error":"#VALUE!"}]
[null,"平頂清水模面噴水泥漆 C1","C1",{"$error":"#VALUE!"},"90CM台度牆面水泥粉刷警示漆","B2",{"$error":"#VALUE!"}]
[null,"平頂樑底樑側清水模面噴水泥漆 C1A","C1A",{"$error":"#VALUE!"},"地下室外側90CM台度牆面1:2防水泥粉刷刷水泥漆","B2A",{"$error":"#VALUE!"}]
[null,"平頂水泥粉刷水泥漆(含樑底樑側) C2","C2",{"$error":"#VALUE!"}]
[null,"平頂60*60明架矽酸鈣板天花 C3","C3",{"$error":"#VALUE!"}]
[null,"平頂60*60明架礦纖天花 C4","C4",{"$error":"#VALUE!"}]
[null,"平頂暗架矽酸鈣板天花含燈槽,窗簾盒等收邊 C5","C5",{"$error":"#VALUE!"}]
[null,"風除室平頂矽酸鈣板天花含上方吊掛骨料","C5A",{"$error":"#VALUE!"}]
[null,"鋼承板面噴漆","C6",{"$error":"#VALUE!"}]
[null,"鋼樓梯背板噴漆(含側板) C14","C7",{"$error":"#VALUE!"}]
[null,"樓板面批土整平 C10","C10",{"$error":"#VALUE!"}]
[null,null,null,{"$f":"SUM(D534:D556)","v":{"$error":"#VALUE!"}},null,null,{"$f":"SUM(G534:G556)","v":{"$error":"#VALUE!"}}]

{"sheet":"結構計算","index":4,"n_rows":883,"n_cols":17,"rows_kept":883,"cut":false,"hidden":false,"merged":[[0,0,0,12],[2,0,2,12]]}
[]
[]
["鋼筋混凝土計算表"]
["業 主: 樂迦再生科技股份有限公司",null,null,null,null,null,null,null," 日    期:"]
["工程名稱:竹北生醫園區廠房新建工程",null,null,null,null,null,null,null," 施工地點:"]
["編  號","型式","混   凝   土","RC","型式","模        板","FW","鋼筋","數 量 計 算","ST1","鋼筋","數 量 計 算","ST2"]
["標準圖 S0-2結構體混凝土 fc'=280kg/cm2 ,乙級搭接  SD420W鋼筋",null,null,null,null,null,0.89,null,"柱續接同",0.89]
["附件一",null,"鋼筋彎鉤 #3=15",null,null,"上層續接 #3=70",{"$f":"0.7*0.89","v":0.623},null,"一般續接 #3=54",{"$f":"54*0.89","v":48.06}]
[null,null,"鋼筋彎鉤 #4=20",null,null,"上層續接 #4=93",{"$f":"0.93*0.89","v":0.8277000000000001},null,"一般續接 #4=71",{"$f":"71*0.89","v":63.19}]
[null,null,"鋼筋彎鉤 #5=25",null,null,"上層續接 #5=116",{"$f":"116*0.89","v":103.24},null,"一般續接 #5=89",{"$f":"89*0.89","v":79.210000000000008}]
[null,null,"鋼筋彎鉤 #6=31",null,null,"上層續接 #6=140",{"$f":"140*0.89","v":124.60000000000001},null,"一般續接 #6=108",{"$f":"108*0.89","v":96.12}]
[null,null,"鋼筋彎鉤 #7=36",null,null,"上層續接 #7=198",{"$f":"198*0.89","v":176.22},null,"一般續接 #7=152",{"$f":"152*0.89","v":135.28}]
[null,null,"鋼筋彎鉤 #8=41",null,null,"上層續接 #8=226",{"$f":"226*0.89","v":201.14000000000001},null,"一般續接 #8=174",{"$f":"174*0.89","v":154.86000000000001}]
[null,null,"鋼筋彎鉤 #10=55",null,null,"上層續接 #10=287",{"$f":"287*0.89","v":255.43},null,"一般續接 #10=221",{"$f":"221*0.89","v":196.69}]
[null,null,"鋼筋彎鉤 #11=61",null,null,"上層續接 #11=319",{"$f":"319*0.89","v":283.91000000000003},null,"一般續接 #11=295",{"$f":"298*0.89","v":265.22000000000003}]
["FS1 ",280,"0.6*1886.42",{"$f":"結構計算","v":{"$error":"#NAME?"}},"F","\\=",null,"#6","25.42*1886.42",{"$f":"結構計算","v":{"$error":"#NAME?"}},null,null,null,{"$f":"(9.8*3+10.2)*(4.1+3.7+3.35+4.05+3.7*2+3.6+3.8+3.1+3.1+4.2)-11.65*3.13*0.5+7.8*2.25+3.55*4.05+3.55*3.55+7.8*(1.4+3.35+4.05+3.7*2+2.7+3.5+4.2)+8*(2.15+2.2+2.25)","v":1886.4177500000003},{"$f":"(44.5+1.08*4)*(21+19+17+21)+(44.5+1.4*4)+(21+19+17+21)+(18.5+0.3+1.08*2)*(66*3+69)+(18.5+0.3+1.4*2)*(66*3+69)","v":15299.580000000002},{"$f":"+O16/601.92","v":25.417962519936207}]
[null,null,null,null,null,"施工鋼筋",null,"#6","3*472",{"$error":"#NAME?"}]
["A FWB1~FWB1",280,"0.6*2.3*46.6",{"$f":"結構計算","v":{"$error":"#NAME?"}},"F","(2.3+1.5)*46.6",{"$f":"結構計算","v":{"$error":"#NAME?"}},"#5","6*(50+66*4)",{"$error":"#NAME?"},"#10","(52.5+0.55*2+2.87*5)*4",{"$f":"結構計算","v":{"$error":"#NAME?"}}]
[{"$f":"7.4+9.8*4","v":46.6},null,null,null,null,null,null,"#5","(52.5+0.89*5)*10",{"$error":"#NAME?"},"#10","(52.5+0.55*2+2.21*5)*4",{"$error":"#NAME?"}]
[{"$f":"46.6+1*6","v":52.6},null,null,null,null,null,null,null,"施工筋",null,"#10","6.4*5",{"$error":"#NAME?"}]
["G FWB1~FWB1",280,"0.6*2.3*48.2",{"$f":"結構計算","v":{"$error":"#NAME?"}},"F","(2.3+1.5)*48.2",{"$error":"#NAME?"},"#5","6*(52+67*3+71)",{"$error":"#NAME?"},"#10","(52.7+0.55*2+2.87*5)*4",{"$error":"#NAME?"}]
[{"$f":"7.7+10*3+10.5","v":48.2},null,null,null,null,null,null,"#5","(52.7+0.89*5)*10",{"$error":"#NAME?"},"#10","(52.7+0.55*2+2.21*5)*4",{"$error":"#NAME?"}]
[{"$f":"48.2+0.8*5+0.6","v":52.800000000000004},null,null,null,null,null,null,null,"施工筋",null,"#10","6.4*5",{"$error":"#NAME?"}]
["1 FWB1~FWB1",280,"0.6*2.3*43",{"$f":"結構計算","v":{"$error":"#NAME?"}},"F","(2.3+1.5)*43+0.2*3.5",{"$error":"#NAME?"},"#5","6*(54*4+47+28)",{"$error":"#NAME?"},"#10","(49.5+0.55*2+2.87*5)*4+8.4",{"$error":"#NAME?"},{"$f":"(0.55+1.55)*4","v":8.4}]
[{"$f":"8*4+6.9+4.1","v":43},null,null,null,null,null,null,"#5","(49.5+0.89*5)*10",{"$error":"#NAME?"},"#10","(49.5+0.55*2+2.21*5)*4+8.4",{"$error":"#NAME?"},"高低差斷筋錨定"]
[{"$f":"43+1*5+0.8*2","v":49.6},null,null,null,null,null,null,null,"施工筋",null,"#10","6.4*5",{"$error":"#NAME?"}]
["6 FWB1~FWB1",280,"0.6*2.3*41.05",{"$f":"結構計算","v":{"$error":"#NAME?"}},"F","(2.3+1.5)*41.05",{"$error":"#NAME?"},"#5","6*(54*4+47+15)",{"$error":"#NAME?"},"#10","(47.3+0.55*2+2.87*5)*4+8.4",{"$error":"#NAME?"}]
[{"$f":"8*4+6.9+2.15","v":41.05},null,null,null,null,null,null,"#5","(47.35+0.89*5)*10",{"$error":"#NAME?"},"#10","(47.35+0.55*2+2.21*5)*4+8.4",{"$error":"#NAME?"}]
[{"$f":"41.05+1*5+0.8+0.6","v":47.449999999999996},null,null,null,null,null,null,null,"地樑施工支拌撐筋",null,"#10","6.4*5",{"$error":"#NAME?"}]
["F FG1a~FG1e",280,"1*2.3*47.8",{"$f":"結構計算","v":{"$error":"#NAME?"}},"F","1.5*2*47.8",{"$error":"#NAME?"},"#5","6.8*(46+59+59*2+60)",{"$error":"#NAME?"},"#10","(52.5+0.55*2+2.87*5)*6",{"$error":"#NAME?"},{"$f":"5.7+7.1*2+7.2*2*2+7.3*2","v":63.300000000000004}]
[{"$f":"7.8+9.9+10+10+10.1","v":47.800000000000004},null,null,null,null,null,null,"#5","(52.5+0.89*5)*10",{"$error":"#NAME?"},"#10","(52.5+0.55*2+2.21*5)*6",{"$error":"#NAME?"},{"$f":"3.6*1+6.1*2+6.8*2*3+4.3*2","v":65.199999999999989}]
[{"$f":"47.8+0.8*6","v":52.599999999999994},null,null,null,null,null,null,null,"地樑施工支拌撐筋6.8m",null,"#10","63.3+65.2+6.8*5",{"$error":"#NAME?"}]
["E FG2a~FG2e",280,"1*2.3*46.6+0.15*1*3.4",{"$f":"結構計算","v":{"$error":"#NAME?"}},"F","1.5*2*46.6+0.2*2.25",{"$error":"#NAME?"},"#5","6.8*(44+58*4)",{"$error":"#NAME?"},"#10","(52.5+0.55*2+2.87*5)*6",{"$error":"#NAME?"},{"$f":"5.3*1+7.1*2*4","v":62.099999999999994}]
[{"$f":"7.4+9.8*4","v":46.6},null,null,null,"F","0.15*2*3.4",{"$error":"#NAME?"},"#5","(52.5+0.89*5)*10",{"$error":"#NAME?"},"#10","(52.5+0.55*2+2.21*5)*6",{"$error":"#NAME?"},{"$f":"3.75+6.2*2+6.9*2*3+4.45*2","v":66.45}]
[{"$f":"46.6+1*6","v":52.6},null,null,null,null,null,null,null,"地樑施工支拌撐筋6.8m",null,"#10","62.1+66.45+6.8*5",{"$error":"#NAME?"}]
["D FG3a~FG3e",280,"1*4.05*27",{"$f":"結構計算","v":{"$error":"#NAME?"}},"F","3.25*2*27",{"$error":"#NAME?"},"#5","10.3*(62+58+58)",{"$error":"#NAME?"},"#10","(52.5+0.55*2+2.21*5)*6",{"$error":"#NAME?"},{"$f":"5.3*1+7.1+7.1*2+7.1*2+7.1*1","v":47.9}]
[{"$f":"7.4+9.8*4","v":46.6},280,"1*2.3*19.6",{"$f":"結構計算","v":{"$error":"#NAME?"}},"F","1.5*2*19.6",{"$error":"#NAME?"},"#5","6.8*(58+58)",{"$error":"#NAME?"},"#10","(20.2+0.55+4.7+2.87*2)*6",{"$error":"#NAME?"},{"$f":"3.75*1+6.2*1+8.65*1","v":18.600000000000001}]
[{"$f":"46.6+1*6","v":52.6},280,"1*1.75*1.75*0.5*2",{"$f":"結構計算","v":{"$error":"#NAME?"}},"F","1.75*1.75*2*2",{"$error":"#NAME?"},"#5","(52.5+0.89*5)*10",{"$error":"#NAME?"},"#10","(22.5+0.55*2+2.87*2)*6",{"$error":"#NAME?"},{"$f":"4.5*2+6.9*2+4.5*2","v":31.8}]
[null,null,null,null,null,null,null,"#5","(20.1+0.89*2)*14",{"$error":"#NAME?"},"#10","(16+0.55+2.87)*6",{"$error":"#NAME?"},{"$f":"8.65*1+4.5*1","v":13.15}]
[null,null,null,null,null,null,null,"#5","(10.7+0.89)*14",{"$error":"#NAME?"},"#10","47.9+18.6+31.8+13.15",{"$error":"#NAME?"}]
[null,null,null,null,null,null,null,null,"地樑施工支拌撐筋6.8m,10.2m",null,"#10","10.2*3+6.8*2",{"$error":"#NAME?"}]
["C FG4a~FG4e",280,"1*2.3*46.6",{"$f":"結構計算","v":{"$error":"#NAME?"}},"F","1.5*2*46.6",{"$f":"結構計算","v":{"$error":"#NAME?"}},"#5","6.8*(44+58*4)",{"$error":"#NAME?"},"#10","(52.5+0.55*2+2.87*5)*6",{"$error":"#NAME?"},{"$f":"5.3*1+7.1*2*4","v":62.099999999999994}]
[{"$f":"7.4+9.8*4","v":46.6},null,null,null,null,null,null,"#5","(52.5+0.89*5)*10",{"$error":"#NAME?"},"#10","(52.5+0.55*2+2.21*5)*6",{"$error":"#NAME?"},{"$f":"3.75+6.2*2+6.9*2*3+4.45*2","v":66.45}]
[{"$f":"46.6+1*6","v":52.6},null,null,null,null,null,null,null,"地樑施工支拌撐筋6.8m",null,"#10","62.1+66.45+6.8*5",{"$error":"#NAME?"}]
["B FG5a~FG5e",280,"1*2.3*46.6",{"$f":"結構計算","v":{"$error":"#NAME?"}},"F","1.5*2*46.6",{"$error":"#NAME?"},"#5","6.8*(44+58*4)",{"$error":"#NAME?"},"#10","(52.5+0.55*2+2.87*5)*6",{"$error":"#NAME?"},{"$f":"5.3*1+7.1*2*4","v":62.099999999999994}]
[{"$f":"7.4+9.8*4","v":46.6},null,null,null,null,null,null,"#5","(52.5+0.89*5)*10",{"$error":"#NAME?"},"#10","(52.5+0.55*2+2.21*5)*6",{"$error":"#NAME?"},{"$f":"3.75+6.2*2+6.9*2*3+4.45*2","v":66.45}]
[{"$f":"46.6+1*6","v":52.6},null,null,null,null,null,null,null,"地樑施工支拌撐筋6.8m",null,"#10","62.1+66.45+6.8*5",{"$error":"#NAME?"}]
["2 FB1a~FB1c",280,"1*2.3*19",{"$f":"結構計算","v":{"$error":"#NAME?"}},"F","1.5*2*19",{"$f":"結構計算","v":{"$error":"#NAME?"}},"#5","6.8*(2*29+2*58+2*67)",{"$error":"#NAME?"},"#10","(22.5+0.55*2+2.21*2)*6",{"$error":"#NAME?"},{"$f":"(18.95+2.21)*2+5.8*3","v":59.72}]
[{"$f":"4.1+6.9+8","v":19},null,null,null,null,null,null,"#5","(22.5+0.89*2)*10",{"$error":"#NAME?"},"#10","(22.5+0.55*2+2.87*2)*6",{"$error":"#NAME?"},{"$f":"(16.5+2.87)*2+5.5*3+3.9*5","v":74.740000000000009}]
[{"$f":"19+0.8+0.8+1+1","v":22.6},null,null,null,null,null,null,null,"地樑施工支拌撐筋6.8m",null,"#10","59.72+74.74+6.8*2",{"$error":"#NAME?"}]
["2 FB1d~FB1f",280,"1*2.3*24",{"$f":"結構計算","v":{"$error":"#NAME?"}},"F","1.5*2*24",{"$error":"#NAME?"},"#5","6.8*(47*3)",{"$error":"#NAME?"},"#10","(27.9+0.55*2+2.21*3)*6",{"$error":"#NAME?"},{"$f":"5.8*1+5.8*2+5.8*2","v":29}]
[{"$f":"8*3","v":24},null,null,null,null,null,null,"#5","(27.9+0.89*2)*10",{"$error":"#NAME?"},"#10","(27.9+0.55*2+2.87*3)*6",{"$error":"#NAME?"},{"$f":"3.9*1+5.8*2*2+3.9*1","v":30.999999999999996}]
[{"$f":"24+4","v":28},null,null,null,null,null,null,null,"地樑施工支拌撐筋6.8m",null,"#10","29+31+6.8*3",{"$error":"#NAME?"}]
["3 FB2a~FB2c",280,"1*2.3*17.4",{"$f":"結構計算","v":{"$error":"#NAME?"}},"F","1.5*2*17.4",{"$f":"結構計算","v":{"$error":"#NAME?"}},"#5","6.8*(2*29+2*58+2*33)",{"$error":"#NAME?"},"#10","(17.3+0.55*2+2.21)*6",{"$error":"#NAME?"},{"$f":"(17.65+2.21)*2+3.8*4","v":54.92}]
[{"$f":"4.1+6.9+3.8","v":14.8},null,null,null,null,null,null,"#5","(17.3+0.89)*10",{"$error":"#NAME?"},"#10","(17.3+0.55*2+2.87)*6",{"$error":"#NAME?"},{"$f":"(14.65+2.87)*2+4.65*3+3.05*2","v":55.09}]
[{"$f":"14.8+0.8+0.8+1","v":17.400000000000002},null,null,null,null,null,null,null,"地樑施工支拌撐筋6.8m",null,"#10","54.92+55.09+6.8*1",{"$error":"#NAME?"}]
["3 FB2c~FB2f",280,"1*2.3*28.2",{"$f":"結構計算","v":{"$error":"#NAME?"}},"F","1.5*2*28.2",{"$error":"#NAME?"},"#5","6.8*(2*35+47*3)",{"$error":"#NAME?"},"#10","(32.1+0.55*2+2.21*3)*6",{"$error":"#NAME?"},{"$f":"(12.65+2.21)*1+5.8+5.8*2*2","v":43.86}]
[{"$f":"4.2+8*3","v":28.2},null,null,null,null,null,null,"#5","(32.1+0.89*3)*10",{"$error":"#NAME?"},"#10","(32.1+0.55*2+2.87*3)*6",{"$error":"#NAME?"},{"$f":"4.95*4+5.8*2+5.8*2+3.9*2","v":50.8}]
[{"$f":"28.2+4","v":32.200000000000003},null,null,null,null,null,null,null,"地樑施工支拌撐筋6.8m",null,"#10","43.86+50.8+6.8*3",{"$error":"#NAME?"}]
["4 FB3a~FB3c",280,"1*2.3*17.4",{"$f":"結構計算","v":{"$error":"#NAME?"}},"F","1.5*2*17.4",{"$f":"結構計算","v":{"$error":"#NAME?"}},"#5","6.8*(2*29+2*58+2*33)",{"$error":"#NAME?"},"#10","(17.3+0.55*2+2.21)*6",{"$error":"#NAME?"},{"$f":"(17.65+2.21)*4","v":79.44}]
[{"$f":"4.1+6.9+3.8","v":14.8},null,null,null,null,null,null,"#5","(17.3+0.89)*10",{"$error":"#NAME?"},"#10","(17.3+0.55*2+2.87)*8",{"$error":"#NAME?"},{"$f":"4.65*3","v":13.950000000000001}]
[{"$f":"14.8+0.8+0.8+1","v":17.400000000000002},null,null,null,null,null,null,null,"地樑施工支拌撐筋6.8m",null,"#10","79.44+13.95+6.8*1",{"$error":"#NAME?"}]
["4 FB3c~FB3f",280,"1*2.3*28.2",{"$f":"結構計算","v":{"$error":"#NAME?"}},"F","1.5*2*28.2",{"$f":"結構計算","v":{"$error":"#NAME?"}},"#5","6.8*(2*35+80+47+47)",{"$error":"#NAME?"},"#10","(32.1+0.55*2+2.21*3)*6",{"$error":"#NAME?"},{"$f":"5.8*2*3","v":34.799999999999997}]
[{"$f":"4.2+8*3","v":28.2},null,null,null,null,null,null,"#5","(32.1+0.89*3)*10",{"$error":"#NAME?"},"#10","(32.1+0.55*2+2.87*3)*6",{"$error":"#NAME?"},{"$f":"4.95*4+5.8*2+5.8*2+3.9*2","v":50.8}]
[{"$f":"28.2+4","v":32.200000000000003},null,null,null,null,null,null,null,"地樑施工支拌撐筋6.8m",null,"#10","34.8+50.8+6.8*3",{"$error":"#NAME?"}]
["5 FB4a~FB4c",280,"1*2.3*17.4",{"$f":"結構計算","v":{"$error":"#NAME?"}},"F","1.5*2*17.4",{"$f":"結構計算","v":{"$error":"#NAME?"}},"#5","6.8*(2*29+2*58+2*33)",{"$error":"#NAME?"},"#10","(17.3+0.55*2+2.21)*6",{"$error":"#NAME?"},{"$f":"(16.55+2.21)*4+4.75*2","v":84.54}]
[{"$f":"4.1+6.9+3.8","v":14.8},null,null,null,null,null,null,"#5","(17.3+0.89)*10",{"$error":"#NAME?"},"#10","(17.3+0.55*2+2.87)*6",{"$error":"#NAME?"},{"$f":"(15.65+2.87)*2+4.65*3+3*2","v":56.99}]
[{"$f":"14.8+0.8+0.8+1","v":17.400000000000002},null,null,null,null,null,null,null,"地樑施工支拌撐筋6.8m",null,"#10","84.54+56.99+6.8*1",{"$f":"結構計算","v":{"$error":"#NAME?"}}]
["5 FB4c~FB4f",280,"1*2.3*28.2",{"$f":"結構計算","v":{"$error":"#NAME?"}},"F","1.5*2*28.2",{"$f":"結構計算","v":{"$error":"#NAME?"}},"#5","6.8*(2*35+47*3)",{"$error":"#NAME?"},"#10","(32.1+0.55*2+2.21*3)*6",{"$error":"#NAME?"},{"$f":"5.8*2*3","v":34.799999999999997}]
[{"$f":"4.2+8*3","v":28.2},null,null,null,null,null,null,"#5","(32.1+0.89*3)*10",{"$error":"#NAME?"},"#10","(32.1+0.55*2+2.87*3)*6",{"$error":"#NAME?"},{"$f":"8.1*2+4.95*2+5.8*2+5.8*2+3.9*2","v":57.1}]
[{"$f":"28.2+4","v":32.200000000000003},null,null,null,null,null,null,null,"地樑施工支拌撐筋6.8m",null,"#10","34.8+57.1+6.8*3",{"$error":"#NAME?"}]
["EF FJ1a~FJ1e",280,"0.6*2.3*47.4",{"$f":"結構計算","v":{"$error":"#NAME?"}},"F","1.5*2*47.4",{"$error":"#NAME?"},"#5","6*(47+58+58+58+61)",{"$error":"#NAME?"},"#10","(52.5+0.55*2+2.21*5)*4",{"$error":"#NAME?"},{"$f":"(41.8+0.5*2+2.21*4)*2+5.5*2+6.9*2*3+7.3*2","v":170.28}]
[{"$f":"7.8+9.8+9.8+9.8+10.2","v":47.400000000000006},null,null,null,null,null,null,"#5","(52.5+0.89*5)*10",{"$error":"#NAME?"},"#10","(52.5+0.55*2+2.87*5)*4",{"$error":"#NAME?"},{"$f":"3.95*2+(45.35+2.87*4)*2+6.55*2+7.2*2*2+7.25*2+4.65*2","v":187.26000000000002}]
[{"$f":"47.4+0.6+1*4+0.6","v":52.6},null,null,null,null,null,null,null,"地樑施工支拌撐筋6.4m",null,"#10","170.28+187.26+6.4*5",{"$error":"#NAME?"}]
["DE FJ2b~FJ2e",280,"0.6*2.3*(9.8+10.2)",{"$f":"結構計算","v":{"$error":"#NAME?"}},"F","1.5*2*20",{"$f":"結構計算","v":{"$error":"#NAME?"}},"#5","6*(60+61)",{"$error":"#NAME?"},"#10","(44.1+0.55*2+2.21*4)*4",{"$error":"#NAME?"},{"$f":"6.9*2*3+7.3*2","v":56.000000000000007}]
[null,280,"0.6*4.05*19.6",{"$f":"結構計算","v":{"$error":"#NAME?"}},"F","3.25*2*19.6",{"$error":"#NAME?"},"#5","9.5*(60*2)",{"$error":"#NAME?"},"#10","(11.7+0.55*2+2.87)*4",{"$error":"#NAME?"},{"$f":"4.65*2*2","v":18.600000000000001}]
[null,280,"0.6*1.75*1.75*0.5*2",{"$f":"結構計算","v":{"$error":"#NAME?"}},"F","1.75*1.75*2*2",{"$error":"#NAME?"},"#5","(44.1+0.89*4)*10",{"$error":"#NAME?"},"#10","(22.5+0.5*2+2.87*2)*4",{"$error":"#NAME?"},{"$f":"8.8*2*2+7.2*2","v":49.6}]
[null,null,null,null,null,null,null,"#5","(22.5+0.89*2)*12",{"$error":"#NAME?"},"#10","(11.7+0.55*2+2.87)*4",{"$error":"#NAME?"},{"$f":"4.65*2*2","v":18.600000000000001}]
[null,null,null,null,null,null,null,null,"地樑施工支拌撐筋6.4m,9.9",null,"#10","56+18.5+40.5+18.5+6.4*2+9.9*2",{"$error":"#NAME?"}]
["EF FJ3a~FJ3e",280,"0.6*2.3*47.4",{"$f":"結構計算","v":{"$error":"#NAME?"}},"F","1.5*2*47.4",{"$f":"結構計算","v":{"$error":"#NAME?"}},"#5","6*(47+58*3+61)",{"$error":"#NAME?"},"#10","(52.5+0.55*2+2.21*5)*4",{"$error":"#NAME?"},{"$f":"5.5*2+6.9*2*3+7.3*2","v":67}]
[{"$f":"7.8+9.8+9.8+9.8+10.2","v":47.400000000000006},null,null,null,null,null,null,"#5","(52.5+0.89*5)*10",{"$f":"結構計算","v":{"$error":"#NAME?"}},"#10","(52.5+0.55*2+2.87*5)*4",{"$error":"#NAME?"},{"$f":"3.5*2+6.55*2+7.2*2*3+4.25*2","v":71.800000000000011}]
[{"$f":"47.4+0.6+1*4+0.6","v":52.6},null,null,null,null,null,null,null,"地樑施工支拌撐筋6.4m",null,"#10","67+71.8+6.4*5",{"$error":"#NAME?"}]
["EF FJ4a~FJ4e",280,"0.6*2.3*47.4",{"$f":"結構計算","v":{"$error":"#NAME?"}},"F","1.5*2*47.4",{"$error":"#NAME?"},"#5","6*(47+58*3+61)",{"$f":"結構計算","v":{"$error":"#NAME?"}},"#10","(52.5+0.55*2+2.21*5)*4",{"$error":"#NAME?"},{"$f":"5.5*2+6.9*2*3+7.3*2","v":67}]
[{"$f":"7.8+9.8+9.8+9.8+10.2","v":47.400000000000006},null,null,null,null,null,null,"#5","(52.5+0.89*5)*10",{"$error":"#NAME?"},"#10","(52.5+0.55*2+2.87*5)*4",{"$error":"#NAME?"},{"$f":"3.5*2+6.55*2+7.2*2*3+4.25*2","v":71.800000000000011}]
[{"$f":"47.4+0.6+1*4+0.6","v":52.6},null,null,null,null,null,null,null,"地樑施工支拌撐筋6.4m",null,"#10","67+71.8+6.4*5",{"$error":"#NAME?"}]
["EF FJ5b~FJ5e",280,"0.6*2.3*39.6",{"$f":"結構計算","v":{"$error":"#NAME?"}},"F","1.5*2*39.6",{"$f":"結構計算","v":{"$error":"#NAME?"}},"#5","6*(59+58*2+61)",{"$f":"結構計算","v":{"$error":"#NAME?"}},"#10","(44.1+0.55*2+2.21*4)*4",{"$error":"#NAME?"},{"$f":"6.9*2*3+7.3*2","v":56.000000000000007}]
[{"$f":"9.8+9.8+9.8+10.2","v":39.6},null,null,null,null,null,null,"#5","(44.1+0.89*4)*10",{"$error":"#NAME?"},"#10","(44.1+0.55*2+2.87*4)*4",{"$error":"#NAME?"},{"$f":"4.65*2+7.25*2+7.2*2+7.25*2+4.25*2","v":61.2}]
[{"$f":"39.6+1*4+0.6","v":44.2},null,null,null,null,null,null,null,"地樑施工支拌撐筋6.4m",null,"#10","56+61.2+6.4*4",{"$error":"#NAME?"}]
["A,B FJ6a",280,"0.6*2.3*7.8",{"$f":"結構計算","v":{"$error":"#NAME?"}},"F","1.5*2*7.8+0.2*4.05",{"$error":"#NAME?"},"#5","6*47",{"$error":"#NAME?"},"#10","(9.3+0.55*2+2.21)*4",{"$error":"#NAME?"},{"$f":"5.5*2","v":11}]
[null,null,null,null,null,null,null,"#5","9.3*10",{"$error":"#NAME?"},"#10","(9.3+0.55*2+2.87)*4",{"$error":"#NAME?"}]
[null,null,null,null,null,null,null,null,"地樑施工支拌撐筋6.4m",null,"#10","11+6.4*1",{"$error":"#NAME?"}]
["A,B FJ6b",280,"0.6*2.3*7.8",{"$f":"結構計算","v":{"$error":"#NAME?"}},"F","1.5*2*7.8+0.2*4.05",{"$f":"結構計算","v":{"$error":"#NAME?"}},"#5","6*47",{"$error":"#NAME?"},"#10","(9.3+0.55*2+2.21)*4",{"$error":"#NAME?"},{"$f":"5.5*2","v":11}]
[null,null,null,null,null,null,null,"#5","9.3*10",{"$error":"#NAME?"},"#10","(9.3+0.55*2+2.87)*4",{"$error":"#NAME?"}]
[null,null,null,null,null,null,null,null,"地樑施工支拌撐筋6.4m",null,"#10","11+6.4*1",{"$error":"#NAME?"}]
["D,E FJ7",280,"0.6*2.3*8*2+0.15*0.6*4.4*2",{"$f":"結構計算","v":{"$error":"#NAME?"}},"F","(1.5*2*8+0.2*4.4)*2",{"$error":"#NAME?"},"#5","6*48*2",{"$error":"#NAME?"},"#10","(9.9+0.55*2+2.21)*4",{"$error":"#NAME?"},{"$f":"5.5*2","v":11}]
[null,null,null,null,"F","0.15*4.4*4",{"$error":"#NAME?"},"#5","9.9*10",{"$error":"#NAME?"},"#10","(9.9+0.55*2+2.87)*4",{"$error":"#NAME?"},{"$f":"4.2*2*2","v":16.8}]
[null,null,null,null,null,null,null,null,"地樑施工支拌撐筋6.4m",null,"#10","11+16.8+6.4*1",{"$error":"#NAME?"}]
["FJ 0",280,"0.4*2.3*3.55",{"$f":"結構計算","v":{"$error":"#NAME?"}},"F","(1.5+1.7)*3.55",{"$f":"結構計算","v":{"$error":"#NAME?"}},"#5","5.6*24",{"$error":"#NAME?"},"#10","(4.65+0.55*2)*4",{"$error":"#NAME?"},{"$f":"5.5*2","v":11}]
[null,null,null,null,null,null,null,"#5","4.65*10",{"$error":"#NAME?"},"#10","(4.65+0.55*2)*4",{"$error":"#NAME?"},{"$f":"4.2*2*2","v":16.8}]
["FJ 0",280,"0.4*2.45*2.2",{"$f":"結構計算","v":{"$error":"#NAME?"}},"F","(1.65+1.85)*2.2",{"$error":"#NAME?"},"#5","5.9*15",{"$error":"#NAME?"},"#10","(3.3+0.55*2)*4",{"$error":"#NAME?"},{"$f":"5.5*2","v":11}]
[null,null,null,null,null,null,null,"#5","3.3*10",{"$error":"#NAME?"},"#10","(3.3+0.55*2)*4",{"$error":"#NAME?"},{"$f":"4.2*2*2","v":16.8}]
["B2 S1",280,"0.2*1360.2",{"$f":"結構計算","v":{"$error":"#NAME?"}},"A","1360.2",{"$error":"#NAME?"},"#4","31.41*1360.2",{"$error":"#NAME?"},null,null,null,{"$f":"(9.8*3+10.2)*(4.05+3.7*2+3.6+3.8+3.1+3.1+4.2)-11.65*3.13*0.5+7.8*2.25+3.55*4.05+3.55*3.55+7.8*(1.4+3.35+4.05+3.7*2+2.7+3.5+4.2)+8*(2.15+2.2+2.25)-4*3.5-2.2*4.4-61","v":1360.1977499999998},{"$f":"(9.8*3+10.2)*(3.7*2+4.05)","v":453.42},{"$f":"(44.2+0.71*4+0.35+0.4)*(19*2+21)*2+(14.65+0.4+0.71+0.35)*(66*3+69)*2","v":14241.960000000003},{"$f":"+P102/O102","v":31.41008336641525}]
["B2 S1*",280,"0.2*441.54",{"$f":"結構計算","v":{"$error":"#NAME?"}},"A","441.54*1",{"$error":"#NAME?"},"#4","50.53*441.54",{"$error":"#NAME?"},null,null,null,{"$f":"(9.8*3+10.2)*(4.1+3.7+3.35)","v":441.54},441.54,{"$f":"(44.2+0.71*4+0.35+0.4)*(23+25+28)*2+(17.35+0.4+0.71+0.35)*(99*3+103)*2","v":22312.080000000002},{"$f":"+P103/O103","v":50.532409294741136}]
["B2 rS1",280,"0.3*61",{"$f":"結構計算","v":{"$error":"#NAME?"}},"A","61*1",{"$error":"#NAME?"},"#4","21.31*61",{"$error":"#NAME?"},"#5","17.56*61",{"$error":"#NAME?"},{"$f":"6.1*10","v":61}]
["B2 C1-1010~-430",280,"0.8*0.8*(2.3+3.5)*1",{"$f":"結構計算","v":{"$error":"#NAME?"}},"F","3.2*(2.3+3.5)*1",{"$error":"#NAME?"},"#4","6.6*(15+31)*1",{"$error":"#NAME?"},"#8","(2.2+0.4+3.5+2)*20",{"$error":"#NAME?"}]
[null,null,null,null,null,null,null,null,null,null,"#8C","20*1",{"$error":"#NAME?"}]
["B2 C2 -1010~-430",280,"0.8*0.8*(2.3+3.5)*5",{"$f":"結構計算","v":{"$error":"#NAME?"}},"F","3.2*(2.3+3.5)*5",{"$error":"#NAME?"},"#4","6.6*(15+31)*5",{"$error":"#NAME?"},"#8","(2.2+0.4+3.5+2)*20*5",{"$error":"#NAME?"}]
[null,null,null,null,null,null,null,null,null,null,"#8C","20*5",{"$error":"#NAME?"}]
["B2 C3 -1010~-430",280,"0.8*0.8*(2.3+3.5)*4",{"$f":"結構計算","v":{"$error":"#NAME?"}},"F","3.2*(2.3+3.5)*4",{"$error":"#NAME?"},"#4","6.6*(15+31)*4",{"$error":"#NAME?"},"#8","(2.2+0.4+3.5+2)*20*4",{"$error":"#NAME?"}]
[null,null,null,null,null,null,null,null,null,null,"#8C","20*4",{"$error":"#NAME?"}]
["B2 C4 -1010~-430",280,"1*1*(2.3+3.5)*2",{"$f":"結構計算","v":{"$error":"#NAME?"}},"F","4*(2.3+3.5)*2",{"$error":"#NAME?"},"#4","10.3*(15+31)*2",{"$error":"#NAME?"},"#10","(2.2+0.55+3.5+2)*24*2",{"$error":"#NAME?"}]
[null,null,null,null,null,null,null,null,null,null,"#10C","24*2",{"$error":"#NAME?"}]
["B2 C4 -1010~-255",280,"1*1*(4.05+3.5)*2",{"$f":"結構計算","v":{"$error":"#NAME?"}},"F","4*(4.05+3.5)*2",{"$error":"#NAME?"},"#4","10.3*(26+31)*2",{"$error":"#NAME?"},"#10","(3.95+0.55+3.5+2)*24*2",{"$error":"#NAME?"}]
[null,null,null,null,null,null,null,null,null,null,"#10C","24*2",{"$error":"#NAME?"}]
["B2 C4 -835~255",280,"1*1*(2.3+3.5)*8",{"$f":"結構計算","v":{"$error":"#NAME?"}},"F","4*(2.3+3.5)*8",{"$error":"#NAME?"},"#4","10.3*(15+31)*8",{"$error":"#NAME?"},"#10","(2.2+0.55+3.5+2)*24*8",{"$error":"#NAME?"}]
[null,null,null,null,null,null,null,null,null,null,"#10C","24*8",{"$error":"#NAME?"}]
["B2 C5 -1010~-430",280,"1*1*(2.3+3.5)*3",{"$f":"結構計算","v":{"$error":"#NAME?"}},"F","4*(2.3+3.5)*3",{"$error":"#NAME?"},"#4","12.4*(15+31)*3",{"$error":"#NAME?"},"#10","(2.2+0.55+3.5+2)*48*3",{"$error":"#NAME?"}]
[null,null,null,null,null,null,null,null,null,null,"#10C","48*3",{"$error":"#NAME?"}]
["B2 C5 -1010~-255",280,"1*1*(4.05+3.5)*1",{"$f":"結構計算","v":{"$error":"#NAME?"}},"F","4*(4.05+3.5)*1",{"$error":"#NAME?"},"#4","12.4*(26+31)*1",{"$error":"#NAME?"},"#10","(3.95+0.55+3.5+2)*48*1",{"$error":"#NAME?"}]
[null,null,null,null,null,null,null,null,null,null,"#10C","48*1",{"$error":"#NAME?"}]
["B2 C5 -835~255",280,"1*1*(2.3+3.5)*8",{"$f":"結構計算","v":{"$error":"#NAME?"}},"F","4*(2.3+3.5)*8",{"$error":"#NAME?"},"#4","12.4*(15+31)*8",{"$error":"#NAME?"},"#10","(2.2+0.55+3.5+2)*48*8",{"$error":"#NAME?"}]
[null,null,null,null,null,null,null,null,null,null,"#10C","48*8",{"$error":"#NAME?"}]
["B2 C6 -1010~-430",280,"1*1*(2.3+3.5)*1",{"$f":"結構計算","v":{"$error":"#NAME?"}},"F","4*(2.3+3.5)*1",{"$error":"#NAME?"},"#4","12.4*(15+31)*1",{"$error":"#NAME?"},"#10","(2.2+0.55+3.5+2)*32*1",{"$error":"#NAME?"}]
[null,null,null,null,null,null,null,null,null,null,"#10C","32*1",{"$error":"#NAME?"}]
["B2 C6 -835~255",280,"1*1*(2.3+3.5)*3",{"$f":"結構計算","v":{"$error":"#NAME?"}},"F","4*(2.3+3.5)*3",{"$error":"#NAME?"},"#4","12.4*(15+31)*3",{"$error":"#NAME?"},"#10","(2.2+0.55+3.5+2)*32*3",{"$error":"#NAME?"}]
[null,null,null,null,null,null,null,null,null,null,"#10C","32*3",{"$error":"#NAME?"}]
["B2 C7 -835~255",280,"1*1*(2.3+3.5)*2",{"$f":"結構計算","v":{"$error":"#NAME?"}},"F","4*(2.3+3.5)*2",{"$error":"#NAME?"},"#4","10.3*(15+31)*2",{"$error":"#NAME?"},"#10","(2.2+0.55+3.5+2)*24*2",{"$error":"#NAME?"}]
[null,null,null,null,null,null,null,null,null,null,"#10C","24*2",{"$error":"#NAME?"}]
["B2 C8-1010~-430",280,"0.6*0.6*(2.3+3.5)*2",{"$f":"結構計算","v":{"$error":"#NAME?"}},"F","2.4*(2.3+3.5)*2",{"$error":"#NAME?"},"#4","5*(15+31)*2",{"$error":"#NAME?"},"#8","(2.2+0.4+3.5+2)*16*2",{"$error":"#NAME?"}]
[null,null,null,null,null,null,null,null,null,null,"#8C","16*2",{"$error":"#NAME?"}]
["B2 C8-1010~-255",280,"0.6*0.6*(4.05+3.5)*6",{"$f":"結構計算","v":{"$error":"#NAME?"}},"F","2.4*(4.05+3.5)*6",{"$error":"#NAME?"},"#4","5*(26+31)*6",{"$error":"#NAME?"},"#8","(3.95+0.4+3.5+2)*16*6",{"$error":"#NAME?"}]
[null,null,null,null,null,null,null,null,null,null,"#8C","16*6",{"$error":"#NAME?"}]
["B2 C8-835~-255",280,"0.6*0.6*(2.3+3.5)*1",{"$f":"結構計算","v":{"$error":"#NAME?"}},"F","2.4*(2.3+3.5)*1",{"$error":"#NAME?"},"#4","5*(15+31)*1",{"$error":"#NAME?"},"#8","(2.2+0.4+3.5+2)*16*1",{"$error":"#NAME?"}]
[null,null,null,null,null,null,null,null,null,null,"#8C","16*1",{"$error":"#NAME?"}]
["筏基內25CMRC 牆",280,"0.25*26.7",{"$f":"結構計算","v":{"$error":"#NAME?"}},"F","26.7*2",{"$error":"#NAME?"},"#4","13.03*26.7",{"$error":"#NAME?"},"#5","30.62*26.7",{"$error":"#NAME?"},{"$f":"1.5*(1.28+3.22+3.98+3.22+3.98+2.12)","v":26.700000000000003}]
["筏基內20CMRC 牆",280,"0.2*40.23",{"$error":"#NAME?"},"F","40.23*2",{"$error":"#NAME?"},"#4","40.06*40.23",{"$error":"#NAME?"},null,null,null,{"$f":"1.5*(2.2+2.25+1.4+4.1+3.7+3.35+1.4+3.4+1.5+3.52)","v":40.229999999999997}]
["筏基內30CMRC 牆",280,"0.3*34.8",{"$error":"#NAME?"},"F","34.8*2",{"$error":"#NAME?"},"#5","58.2*34.8",{"$error":"#NAME?"},null,null,null,{"$f":"1.5*(5.9*2+3.9*2+1.8*2)","v":34.800000000000004}]
["B2 地下室外牆 40",280,"0.4*408.38",{"$error":"#NAME?"},"F","408.38*2",{"$error":"#NAME?"},"#5","12.59*408.38",{"$error":"#NAME?"},"#6","40.39*408.38",{"$error":"#NAME?"},{"$f":"2.7*(9.8*2+7.4+8*4+6.9+4.1+7.7+10*3+10.5+2.15+6.9+8*3)","v":408.375}]
["B2 地下室外牆 50",280,"0.5*74.52",{"$error":"#NAME?"},"F","74.52*2",{"$error":"#NAME?"},"#6","17.48*74.52",{"$error":"#NAME?"},"#7","52.52*74.52",{"$error":"#NAME?"},{"$f":"2.7*(8*1+9.8*2)","v":74.52000000000001},"採搭接"]
[" B2F 15CMＲＣ牆",280,"0.15*743.86",{"$error":"#NAME?"},"F","743.86*2",{"$error":"#NAME?"},"#4","30.73*743.86",{"$f":"結構計算","v":{"$error":"#NAME?"}},null,null,null,{"$f":"2.8*13+3.1*1.5+2.7*1+2.8*42.2+2.7*(8*3+3.35*3)+3.1*3.05+2.8*(8.05+5.6+4.3+1)+2.7*7.4+3.3*(9.9+8.25+2.5)+2.7*(5+5.5)+3.3*(2.45+3.75+5.25+5.87)+3.3*(3.95+7.4+5+4.7+8.9)+2.7*(2.4+4.1)+3.1*3.5+3.3*1.2+4.35*(3.9*2+10.2*2)","v":743.85599999999999}]
[" B2F 20CM隔牆",280,"0.2*7.88",{"$error":"#NAME?"},"F","7.88*2",{"$error":"#NAME?"},"#4","34.3*7.88",{"$error":"#NAME?"},null,null,null,{"$f":"3.5*2.25","v":7.875}]
[" B2F 25CM車道牆",280,"0.25*84.64",{"$error":"#NAME?"},"F","84.64*2",{"$error":"#NAME?"},"#4","11.72*84.64",{"$error":"#NAME?"},"#5","26.48*84.64",{"$error":"#NAME?"},{"$f":"2.8*(4.17+7.46+10.6+8)","v":84.643999999999991}]
[" B2F 30CM 水箱牆",280,"0.3*57.32",{"$error":"#NAME?"},"F","57.32*2",{"$error":"#NAME?"},"#5","36.64*57.32",{"$error":"#NAME?"},null,null,null,{"$f":"2.2*(5.8+6.7)*2+0.2*5.8*2","v":57.320000000000007}]
[" B2F 30CM 水箱底",280,"0.3*38.86",{"$error":"#NAME?"},"A","38.86*1",{"$error":"#NAME?"},"#5","43.91*38.86",{"$error":"#NAME?"},null,null,null,{"$f":"5.8*6.7","v":38.86}]
[" B2F 20CM 水箱頂",280,"0.2*38.86",{"$error":"#NAME?"},"A","38.86*1",{"$error":"#NAME?"},"#4","28.61*38.86",{"$error":"#NAME?"},null,null,null,{"$f":"7.1*39*2+6.2*45*2","v":1111.8},{"$f":"+N145/38.86","v":28.610396294390117}]
[" B2F 階梯",280,"0.28*27.87",{"$error":"#NAME?"},"F","27.87+3.3*3.5*2+1.75*2.05",{"$error":"#NAME?"},"#4","46.6*27.87",{"$error":"#NAME?"},null,null,null,{"$f":"2.05*3.3+1.5*3+2.05*3.3+1.5*2.95+1.9*2.85","v":27.869999999999997}]
[" B2F 樓梯平台",280,"0.2*11.5",{"$error":"#NAME?"},"F","7.4*1",{"$error":"#NAME?"},"#4","48*7.4",{"$error":"#NAME?"},"#5","1.6*7.4",{"$error":"#NAME?"},{"$f":"3*1.75+3.3*1.88","v":11.454000000000001}]
["車道側樑",280,"0.5*0.8*8*4",{"$error":"#NAME?"},"F","1.8*8*4",{"$error":"#NAME?"},"#4","2.7*81*4",{"$error":"#NAME?"},"#10","(9.9+0.55*2+2.87)*7*4",{"$error":"#NAME?"}]
[null,null,null,null,null,null,null,"#6","9.9*4*4",{"$error":"#NAME?"},"#10","(9.9+0.55*2+2.21)*7*4",{"$error":"#NAME?"}]
["1 B1 WB1~WB1",280,"0.6*0.8*43",{"$f":"結構計算","v":{"$error":"#NAME?"}},"F","1.8*43+0.2*3.35",{"$error":"#NAME?"},"#4","2.8*(28+47+54*4)",{"$error":"#NAME?"},"#10","(49.5+0.55*2+2.87*5)*4",{"$error":"#NAME?"},{"$f":"(0.55+1.55)*4","v":8.4}]
[{"$f":"8*4+6.9+4.1","v":43},null,null,null,null,null,null,"#4","(49.5+0.71*5)*4",{"$error":"#NAME?"},"#10","(49.5+0.55*2+2.21*5)*4",{"$error":"#NAME?"},"高低差斷筋錨定"]
["6 B1 WB1~WB1",280,"0.6*0.8*33.05",{"$f":"結構計算","v":{"$error":"#NAME?"}},"F","1.8*33.05",{"$f":"結構計算","v":{"$error":"#NAME?"}},"#4","2.8*(54*3+47+15)+3*81",{"$error":"#NAME?"},"#10","(47.3+0.55*2+2.87*5)*4",{"$error":"#NAME?"}]
[{"$f":"8*3+6.9+2.15","v":33.049999999999997},280,"0.7*0.8*8",{"$f":"結構計算","v":{"$error":"#NAME?"}},"F","1.8*8",{"$error":"#NAME?"},"#4","(47.35+0.71*5)*4+9.9*4",{"$error":"#NAME?"},"#10","(47.35+0.55*2+2.21*5)*4",{"$error":"#NAME?"}]
["A B1 WB1~WB1",280,"0.6*0.8*27",{"$f":"結構計算","v":{"$error":"#NAME?"}},"F","1.8*27",{"$error":"#NAME?"},"#4","2.8*(50+66*2)+3*(99*2)",{"$error":"#NAME?"},"#10","(52.5+0.55*2+2.87*5)*4",{"$error":"#NAME?"}]
[{"$f":"7.4+9.8*2","v":27},280,"0.7*0.8*19.6",{"$f":"結構計算","v":{"$error":"#NAME?"}},"F","1.8*19.6",{"$error":"#NAME?"},"#4","(52.5+0.71*5)*4",{"$error":"#NAME?"},"#10","(52.5+0.55*2+2.21*5)*4",{"$error":"#NAME?"}]
[{"$f":"46.6+1*6","v":52.6},null,null,null,null,null,null,"#4","(22.5+0.71*2)*4",{"$error":"#NAME?"}]
["G B1 WB1~WB1",280,"0.6*0.8*48.2",{"$f":"結構計算","v":{"$error":"#NAME?"}},"F","1.8*48.2",{"$error":"#NAME?"},"#4","2.8*(52+67*3+71)",{"$error":"#NAME?"},"#10","(52.7+0.55*2+2.87*5)*4",{"$error":"#NAME?"}]
[{"$f":"7.7+10*3+10.5","v":48.2},null,null,null,null,null,null,"#4","(52.7+0.71*5)*4",{"$error":"#NAME?"},"#10","(52.7+0.55*2+2.21*5)*4",{"$error":"#NAME?"}]
["F B1 G1a~G1e",280,"0.6*0.8*47.8",{"$f":"結構計算","v":{"$error":"#NAME?"}},"F","1.8*47.8",{"$f":"結構計算","v":{"$error":"#NAME?"}},"#4","2.8*(46+84+82+83+83)",{"$error":"#NAME?"},"#10","(52.5+0.55*2+2.87*5)*3",{"$error":"#NAME?"},{"$f":"3.6*2+6*3+6.8*3*3+4.3*3","v":99.299999999999983}]
[{"$f":"7.7+10+10+10+10.1","v":47.800000000000004},null,null,null,null,null,null,"#4","(52.5+0.71*5)*4",{"$error":"#NAME?"},"#10","(52.5+0.55*2+2.21*5)*3",{"$error":"#NAME?"},{"$f":"5.6*2+7.2*3*3+7.3*3","v":97.9}]
[{"$f":"47.8+0.8*6","v":52.599999999999994},null,null,null,null,null,null,null,null,null,"#10","99.3+97.9",{"$error":"#NAME?"}]
["E B1 G2a",280,"0.6*0.8*7.4",{"$f":"結構計算","v":{"$error":"#NAME?"}},"F","1.8*7.4+0.2*2.2",{"$error":"#NAME?"},"#4","2.8*50",{"$error":"#NAME?"},"#10","(9.3+0.55*2+2.87)*3",{"$error":"#NAME?"},{"$f":"3.75*3*2","v":22.5}]
[{"$f":"8.4-1","v":7.4},null,null,null,null,null,null,"#4","9.3*4",{"$error":"#NAME?"},"#10","(9.3+0.55*2+2.21)*3",{"$error":"#NAME?"},{"$f":"5.3*2","v":10.6}]
[{"$f":"8.4+1","v":9.4},null,null,null,null,null,null,null,null,null,"#10","22.5+10.6",{"$error":"#NAME?"}]
["E B1 G2b~G2e",280,"0.6*0.8*39.2",{"$f":"結構計算","v":{"$error":"#NAME?"}},"F","1.8*39.4",{"$error":"#NAME?"},"#4","2.8*(74*4)",{"$error":"#NAME?"},"#10","(44.1+0.55*2+2.87*4)*3",{"$error":"#NAME?"},{"$f":"4.45*3*2+6.9*3*4","v":109.50000000000001}]
[{"$f":"9.8*4","v":39.200000000000003},null,null,null,null,null,null,"#4","(44.1+0.89*4)*4",{"$error":"#NAME?"},"#10","(44.1+0.55*2+2.21*4)*3",{"$error":"#NAME?"},{"$f":"7.1*3*4","v":85.199999999999989}]
[{"$f":"39.2+1*5","v":44.2},null,null,null,null,null,null,null,null,null,"#10","109.5+85.2",{"$error":"#NAME?"}]
["D B1 G3a GL-4.35",280,"0.6*0.8*7.4",{"$f":"結構計算","v":{"$error":"#NAME?"}},"F","1.8*7.4",{"$error":"#NAME?"},"#4","2.8*44",{"$error":"#NAME?"},"#10","(9.3+0.55*2+2.87)*3",{"$error":"#NAME?"},{"$f":"3.75*3*2","v":22.5}]
[{"$f":"8.4-1","v":7.4},null,null,null,null,null,null,"#4","9.3*4",{"$error":"#NAME?"},"#10","(9.3+0.55*2+2.21)*3",{"$error":"#NAME?"},{"$f":"5.3*2","v":10.6}]
[{"$f":"8.4+1","v":9.4},null,null,null,null,null,null,null,null,null,"#10","22.5+10.6",{"$error":"#NAME?"}]
["D B1 G3a~G3c",280,"0.6*0.8*27",{"$f":"結構計算","v":{"$error":"#NAME?"}},"F","1.8*27",{"$f":"結構計算","v":{"$error":"#NAME?"}},"#4","2.8*(46+84+82)",{"$error":"#NAME?"},"#10","(30.9+0.55*2+2.87*3)*3",{"$error":"#NAME?"},{"$f":"3.75*3+6.2*3+6.9*3+4.45*3","v":63.900000000000006}]
[{"$f":"7.4+9.8*2","v":27},null,null,null,null,null,null,"#4","(30.9+0.71*3)*4",{"$error":"#NAME?"},"#10","(30.9+0.55*2+2.21*3)*3",{"$error":"#NAME?"},{"$f":"5.3*2+7.1*3*2","v":53.199999999999996}]
[{"$f":"27+1*4","v":31},null,null,null,null,null,null,null,null,null,"#10","63.9+53.2",{"$error":"#NAME?"}]
["D B1 G3d",280,"0.6*0.8*9.8",{"$f":"結構計算","v":{"$error":"#NAME?"}},"F","1.8*9.8+0.2*5.6",{"$f":"結構計算","v":{"$error":"#NAME?"}},"#4","2.8*82",{"$error":"#NAME?"},"#10","(11.7+0.55*2+2.87)*3",{"$error":"#NAME?"},{"$f":"4.45*3*2","v":26.700000000000003}]
[9.8000000000000007,null,null,null,null,null,null,"#4","(11.7+0.71)*4",{"$error":"#NAME?"},"#10","(11.7+0.55*2+2.21)*3",{"$error":"#NAME?"},{"$f":"7.1*3","v":21.299999999999997}]
[{"$f":"9.8+2","v":11.8},null,null,null,null,null,null,null,null,null,"#10","26.7+21.3",{"$error":"#NAME?"}]
["D B1 G3e",280,"0.6*0.8*9.8",{"$f":"結構計算","v":{"$error":"#NAME?"}},"F","1.8*9.8",{"$error":"#NAME?"},"#4","2.8*82",{"$error":"#NAME?"},"#10","(11.7+0.55*2+2.87)*3",{"$error":"#NAME?"},{"$f":"4.45*3*2","v":26.700000000000003}]
[9.8000000000000007,null,null,null,null,null,null,"#4","(11.7+0.71)*4",{"$error":"#NAME?"},"#10","(11.7+0.55*2+2.21)*3",{"$error":"#NAME?"},{"$f":"7.1*3","v":21.299999999999997}]
[{"$f":"9.8+2","v":11.8},null,null,null,null,null,null,null,null,null,"#10","26.7+21.3",{"$error":"#NAME?"}]
["C B1 G4a~G4e",280,"0.6*0.8*46.6",{"$f":"結構計算","v":{"$error":"#NAME?"}},"F","1.8*46.6",{"$f":"結構計算","v":{"$error":"#NAME?"}},"#4","2.8*(44+58+66*2+82)",{"$f":"結構計算","v":{"$error":"#NAME?"}},"#10","(52.5+0.55*2+2.87*5)*3",{"$error":"#NAME?"},{"$f":"3.75*3+6.2*3+6.9*3*3+4.45*3","v":105.30000000000001}]
[{"$f":"7.4+9.8*4","v":46.6},null,null,null,null,null,null,"#4","(52.5+0.71*5)*4",{"$error":"#NAME?"},"#10","(52.5+0.55*2+2.21*5)*3",{"$error":"#NAME?"},{"$f":"5.3*2+7.1*3*4","v":95.799999999999983}]
[{"$f":"46.6+1*6","v":52.6},null,null,null,null,null,null,null,null,null,"#10","105.3+95.8",{"$error":"#NAME?"}]
["B B1 G5a~G5e",280,"0.6*0.8*46.6",{"$f":"結構計算","v":{"$error":"#NAME?"}},"F","1.8*46.6+0.4*9.8*2+0.2*4",{"$error":"#NAME?"},"#4","2.8*(44+74+66+58+82)",{"$error":"#NAME?"},"#10","(52.5+0.55*2+2.87*5)*3",{"$error":"#NAME?"},{"$f":"3.75*3+6.2*3+6.9*3*3+4.45*3","v":105.30000000000001}]
[{"$f":"7.4+9.8*4","v":46.6},null,null,null,null,null,null,"#4","(52.5+0.71*5)*4",{"$error":"#NAME?"},"#10","(52.5+0.55*2+2.21*5)*3",{"$error":"#NAME?"},{"$f":"5.3*2+7.1*3*4","v":95.799999999999983}]
[{"$f":"46.6+1*6","v":52.6},null,null,null,null,null,null,null,null,null,"#10","105.3+95.8",{"$error":"#NAME?"}]
["2 B1 B1a~B1c",280,"0.6*0.8*22.6",{"$f":"結構計算","v":{"$error":"#NAME?"}},"F","1.8*22.6",{"$f":"結構計算","v":{"$error":"#NAME?"}},"#4","2.8*(29+53+61)",{"$error":"#NAME?"},"#10","(22.5+0.55*2+2.87*2)*3",{"$error":"#NAME?"},{"$f":"8.3*1+4.7*2+5.5*3+3.9*3","v":45.900000000000006}]
[{"$f":"4.1+6.9+8","v":19},null,null,null,null,null,null,"#4","(22.5+0.71*2)*4",{"$error":"#NAME?"},"#10","(22.5+0.55*2+2.21*2)*3",{"$error":"#NAME?"},{"$f":"(12.15+2.21)+5*1+5.8*3","v":36.76}]
[{"$f":"19+0.8*2+1*2","v":22.6},null,null,null,null,null,null,null,null,null,"#10","45.9+36.76",{"$error":"#NAME?"}]
["2 B1 B2a~B2c",280,"0.6*0.8*24",{"$f":"結構計算","v":{"$error":"#NAME?"}},"F","1.8*24",{"$error":"#NAME?"},"#4","2.8*(47+61+61)",{"$error":"#NAME?"},"#10","(27.9+0.55*2+2.87*3)*3",{"$error":"#NAME?"},{"$f":"3.9*3*2+5.8*3*2","v":58.199999999999996}]
[{"$f":"8*3","v":24},null,null,null,null,null,null,"#4","(27.9+0.71*2)*4",{"$error":"#NAME?"},"#10","(27.9+0.55*2+2.21*3)*3",{"$error":"#NAME?"},{"$f":"5.8*2*2+5.8*3","v":40.599999999999994}]
[{"$f":"24+1*4","v":28},null,null,null,null,null,null,null,null,null,"#10","58.2+40.6",{"$error":"#NAME?"}]
["3 B1 B3a~B3c",280,"0.6*0.8*14.8",{"$f":"結構計算","v":{"$error":"#NAME?"}},"F","1.8*14.8",{"$f":"結構計算","v":{"$error":"#NAME?"}},"#4","2.8*(29+53+27)",{"$error":"#NAME?"},"#10","(17.3+0.55*2+2.87)*3",{"$error":"#NAME?"},{"$f":"8.3*2+4.7+4.9*1+7.4*2","v":41}]
[{"$f":"4.1+6.9+3.8","v":14.8},null,null,null,null,null,null,"#4","(17.3+0.71)*4",{"$error":"#NAME?"},"#10","(17.3+0.55*2+2.21)*4",{"$error":"#NAME?"},{"$f":"(12.15+2.21)","v":14.36}]
[{"$f":"14.8+0.8*2+1","v":17.400000000000002},null,null,null,null,null,null,null,null,null,"#10","41+14.36",{"$error":"#NAME?"}]
["3 B1 B4a~B4d",280,"0.6*0.8*28.2",{"$f":"結構計算","v":{"$error":"#NAME?"}},"F","1.8*28.2",{"$f":"結構計算","v":{"$error":"#NAME?"}},"#4","2.8*(35+61*3)",{"$f":"結構計算","v":{"$error":"#NAME?"}},"#10","(32.1+0.55*2+2.21*3)*3",{"$error":"#NAME?"},{"$f":"8.1*1+5.2*1+(17.1+2.87)*1+5.8*2+5.8*3+3.9*3","v":73.97}]
[{"$f":"4.2+8*3","v":28.2},null,null,null,null,null,null,"#4","(32.1+0.71*3)*4",{"$error":"#NAME?"},"#10","(32.1+0.55*2+2.87*3)*3",{"$error":"#NAME?"},{"$f":"(12.6+2.21)*2+5.8*1+5.8*3+5.8*3","v":70.22}]
[{"$f":"28.2+4","v":32.200000000000003},null,null,null,null,null,null,null,null,null,"#10","73.97+70.22",{"$error":"#NAME?"}]
["4 B1 B5a~B5c",280,"0.6*0.8*14.8",{"$f":"結構計算","v":{"$error":"#NAME?"}},"F","1.8*14.8",{"$f":"結構計算","v":{"$error":"#NAME?"}},"#4","2.8*(29+53+33)",{"$f":"結構計算","v":{"$error":"#NAME?"}},"#10","(17.3+0.55*2+2.87)*3",{"$error":"#NAME?"},{"$f":"8.3*2+4.7+4.9*1+7.4*2","v":41}]
[{"$f":"4.1+6.9+3.8","v":14.8},null,null,null,null,null,null,"#4","(17.3+0.71)*4",{"$error":"#NAME?"},"#10","(17.3+0.55*2+2.21)*5",{"$error":"#NAME?"},"5*1"]
[{"$f":"14.8+0.8*2+1","v":17.400000000000002},null,null,null,null,null,null,null,null,null,"#10","41+5",{"$error":"#NAME?"}]
["4 B1 B6a~B6d",280,"0.6*0.8*28.2",{"$f":"結構計算","v":{"$error":"#NAME?"}},"F","1.8*28.2+0.2*(3.35+8)",{"$f":"結構計算","v":{"$error":"#NAME?"}},"#4","2.8*(35+61*3)",{"$f":"結構計算","v":{"$error":"#NAME?"}},"#10","(32.1+0.55*2+2.21*3)*3",{"$error":"#NAME?"},{"$f":"8.1*2+5.2*1+5.8*3+5.8*3+3.9*3","v":67.899999999999991}]
[{"$f":"4.2+8*3","v":28.2},null,null,null,null,null,null,"#4","(32.1+0.71*3)*4",{"$error":"#NAME?"},"#10","(32.1+0.55*2+2.87*3)*3",{"$error":"#NAME?"},{"$f":"(12.6+2.21)*2+5.8*1+5.8*3+5.8*3","v":70.22}]
[{"$f":"28.2+4","v":32.200000000000003},null,null,null,null,null,null,null,null,null,"#10","67.9+70.22",{"$error":"#NAME?"}]
["5 B1 B7a~B7c",280,"0.6*0.8*14.8",{"$f":"結構計算","v":{"$error":"#NAME?"}},"F","1.8*14.8",{"$f":"結構計算","v":{"$error":"#NAME?"}},"#4","2.8*(29+53+33)",{"$f":"結構計算","v":{"$error":"#NAME?"}},"#10","(17.3+0.55*2+2.87)*3",{"$error":"#NAME?"},{"$f":"8.3*2+4.7+4.9*1+7.4*2","v":41}]
[{"$f":"4.1+6.9+3.8","v":14.8},null,null,null,null,null,null,"#4","(17.3+0.71)*4",{"$error":"#NAME?"},"#10","(17.3+0.55*2+2.21)*5",{"$error":"#NAME?"},{"$f":"5*1","v":5}]
[{"$f":"14.8+0.8*2+1","v":17.400000000000002},null,null,null,null,null,null,null,null,null,"#10","41+5",{"$error":"#NAME?"}]
["4 B1 B8a~B8d",280,"0.6*0.8*28.2",{"$f":"結構計算","v":{"$error":"#NAME?"}},"F","1.8*28.2+0.4*(3.35+8)",{"$f":"結構計算","v":{"$error":"#NAME?"}},"#4","2.8*(35+61*3)",{"$f":"結構計算","v":{"$error":"#NAME?"}},"#10","(32.1+0.55*2+2.87*3)*3",{"$error":"#NAME?"},{"$f":"8.1*2+5.2*1+5.8*3+5.8*3+3.9*3","v":67.899999999999991}]
[{"$f":"4.2+8*3","v":28.2},null,null,null,null,null,null,"#4","(32.1+0.71*3)*4",{"$error":"#NAME?"},"#10","(32.1+0.55*2+2.21*3)*3",{"$error":"#NAME?"},{"$f":"(12.6+2.21)*2+5.8*1+5.8*3+5.8*3","v":70.22}]
[{"$f":"28.2+4","v":32.200000000000003},null,null,null,null,null,null,null,null,null,"#10","67.9+70.22",{"$f":"結構計算","v":{"$error":"#NAME?"}}]
["B1F J0",280,"0.25*0.4*3.1*2",{"$f":"結構計算","v":{"$error":"#NAME?"}},"F","0.65*3.1*2",{"$f":"結構計算","v":{"$error":"#NAME?"}},"#3","1.3*31*2",{"$error":"#NAME?"},"#7","(4.3+0.35*2)*2*2",{"$error":"#NAME?"}]
[null,null,null,null,null,null,null,null,null,null,"#7","(4.3+0.35*2)*4*2",{"$error":"#NAME?"}]
["B1F J0",280,"0.25*0.4*2.2",{"$f":"結構計算","v":{"$error":"#NAME?"}},"F","0.85*2.2",{"$error":"#NAME?"},"#3","1.3*23",{"$error":"#NAME?"},"#7","(2.7+0.35*2)*2",{"$error":"#NAME?"}]
[null,null,null,null,null,null,null,null,null,null,"#7","(2.7+0.35*2)*4",{"$error":"#NAME?"}]
["B1F J0",280,"0.25*0.4*2.7*2",{"$f":"結構計算","v":{"$error":"#NAME?"}},"F","0.65*2.7*2",{"$error":"#NAME?"},"#3","1.3*27*2",{"$error":"#NAME?"},"#7","(3.6+0.35*2)*2*2",{"$error":"#NAME?"}]
[null,null,null,null,null,null,null,null,null,null,"#7","(3.6+0.35*2)*4*2",{"$error":"#NAME?"}]
["B1F J0",280,"0.25*0.4*(3.3+1.6)",{"$f":"結構計算","v":{"$error":"#NAME?"}},"F","0.65*(3.3+1.6)",{"$error":"#NAME?"},"#3","1.3*(33+16)",{"$error":"#NAME?"},"#7","(6.2+0.35*2)*2",{"$error":"#NAME?"}]
[null,null,null,null,null,null,null,null,null,null,"#7","(6.2+0.35*2)*4",{"$error":"#NAME?"}]
["B1F J0",280,"0.25*0.4*2.5",{"$f":"結構計算","v":{"$error":"#NAME?"}},"F","0.65*2.5",{"$error":"#NAME?"},"#3","1.3*25",{"$error":"#NAME?"},"#7","(3.3+0.35*2)*2",{"$error":"#NAME?"}]
[null,null,null,null,null,null,null,null,null,null,"#7","(3.3+0.35*2)*4",{"$error":"#NAME?"}]
["B1F J0",280,"0.25*0.4*1.3",{"$f":"結構計算","v":{"$error":"#NAME?"}},"F","1.05*1.3",{"$error":"#NAME?"},"#3","1.3*13",{"$error":"#NAME?"},"#7","(5.9+0.35*2)*2",{"$error":"#NAME?"}]
[null,null,null,null,null,null,null,null,null,null,"#7","(5.9+0.35*2)*4",{"$error":"#NAME?"}]
["B1F J0",280,"0.25*0.4*2.7",{"$f":"結構計算","v":{"$error":"#NAME?"}},"F","0.65*2.7",{"$error":"#NAME?"},"#3","1.3*27",{"$error":"#NAME?"},"#7","(3.6+0.35*2)*2",{"$error":"#NAME?"}]
[null,null,null,null,null,null,null,null,null,null,"#7","(3.6+0.35*2)*4",{"$error":"#NAME?"}]
["B1F J1a",280,"0.4*0.7*8",{"$f":"結構計算","v":{"$error":"#NAME?"}},"F","1.4*8",{"$error":"#NAME?"},"#4","2.3*53",{"$error":"#NAME?"},"#10","(9.1+0.55*2+2.87)*3",{"$error":"#NAME?"},{"$f":"3.9*1+3.6*2","v":11.1}]
[null,null,null,null,null,null,null,null,null,null,"#10","(9.1+0.55*2+2.21)*3",{"$error":"#NAME?"},{"$f":"5.7*1+5.1*2","v":15.899999999999999}]
[null,null,null,null,null,null,null,null,null,null,"#10","11.1+15.9",{"$error":"#NAME?"}]
["B1F J1b~J1e",280,"0.4*0.7*41",{"$f":"結構計算","v":{"$error":"#NAME?"}},"F","1.4*41",{"$f":"結構計算","v":{"$error":"#NAME?"}},"#4","2.3*(69*3+70)",{"$error":"#NAME?"},"#10","(43.9+0.55*2+2.87*4)*3",{"$error":"#NAME?"},{"$f":"4.55*1+4.25*2+7.5*1*3+6.9*2*3","v":76.95}]
[{"$f":"10.2*3+10.4","v":41},null,null,null,null,null,null,null,null,null,"#10","(43.9+0.55*2+2.21*4)*3",{"$error":"#NAME?"},{"$f":"6.7*2*3+7.3*1*3+6.9*2+7.5*1","v":83.4}]
[{"$f":"41+0.6*5","v":44},null,null,null,null,null,null,null,null,null,"#10","76.95+83.4",{"$error":"#NAME?"}]
["B1F J2",280,"0.5*0.8*8",{"$f":"結構計算","v":{"$error":"#NAME?"}},"F","1.7*8",{"$f":"結構計算","v":{"$error":"#NAME?"}},"#4","2.7*53",{"$f":"結構計算","v":{"$error":"#NAME?"}},"#10","(9.1+0.55*2+2.87)*3",{"$error":"#NAME?"}]
[null,null,null,null,null,null,null,null,null,null,"#10","(9.1+0.55*2+2.21)*3+17.1",{"$error":"#NAME?"},{"$f":"5.7*3","v":17.100000000000001}]
["B1F J3a~J3d 上,下",280,"0.6*0.8*28.2*2",{"$f":"結構計算","v":{"$error":"#NAME?"}},"F","2*28.2*2",{"$f":"結構計算","v":{"$error":"#NAME?"}},"#4","2.9*(41+69+69+41)*2",{"$f":"結構計算","v":{"$error":"#NAME?"}},"#10","(31.1+0.55*2+2.87*3)*3*2",{"$error":"#NAME?"},{"$f":"5.5*3*2+6.8*3","v":53.4}]
[{"$f":"3.9*2+10.2*2","v":28.2},null,null,null,null,null,null,null,null,null,"#10","(31.1+0.55*2+2.21*3)*3*2",{"$error":"#NAME?"},{"$f":"7.3*2+7.3*3","v":36.5}]
[{"$f":"28.2+0.6*5","v":31.2},null,null,null,null,null,null,null,null,null,"#10","(53.4+36.5)*2",{"$error":"#NAME?"}]
["B1F J4a~J4d",280,"0.4*0.7*31.9",{"$f":"結構計算","v":{"$error":"#NAME?"}},"F","1.4*31.9",{"$f":"結構計算","v":{"$error":"#NAME?"}},"#4","2.3*(11+69*2+70)",{"$f":"結構計算","v":{"$error":"#NAME?"}},"#10","(34.6+0.55*2+2.87*3)*3",{"$error":"#NAME?"},{"$f":"5.65*2+6.9*2*2+4.3*2","v":47.500000000000007}]
[{"$f":"1.1+10.2*2+10.4","v":31.9},null,null,null,null,null,null,null,null,null,"#10","(34.6+0.55*2+2.21*3)*3",{"$error":"#NAME?"},{"$f":"7.3*2+7.3*2+7.4*2","v":44}]
[{"$f":"31.9+0.6*4+0.4","v":34.699999999999996},null,null,null,null,null,null,null,null,null,"#10","47.5+44",{"$error":"#NAME?"}]
["B1F J5a~J5e",280,"0.4*0.7*49",{"$f":"結構計算","v":{"$error":"#NAME?"}},"F","1.4*49",{"$f":"結構計算","v":{"$error":"#NAME?"}},"#4","2.3*(53+69*3+70)",{"$error":"#NAME?"},"#10","(52.5+0.55*2+2.87*5)*3",{"$error":"#NAME?"},{"$f":"6.25*2+6.9*2*3+4.3*2","v":62.500000000000007}]
[{"$f":"8+10.2*3+10.4","v":48.999999999999993},null,null,null,null,null,null,null,null,null,"#10","(52.5+0.55*2+2.21*5)*3",{"$error":"#NAME?"},{"$f":"5.7*2+7.3*2*3+7.4*2","v":70}]
[{"$f":"49+0.6*6","v":52.6},null,null,null,null,null,null,null,null,null,"#10","62.5+70",{"$error":"#NAME?"}]
["B1F J6",280,"0.4*0.7*8*2",{"$f":"結構計算","v":{"$error":"#NAME?"}},"F","1.4*8*2+0.2*4*3",{"$f":"結構計算","v":{"$error":"#NAME?"}},"#4","2.3*53*2",{"$f":"結構計算","v":{"$error":"#NAME?"}},"#10","(9.1+0.55*2+2.87)*3*2",{"$error":"#NAME?"}]
[null,null,null,null,null,null,null,null,null,null,"#10","((9.1+0.55*2+2.21)*3+11.4)*2",{"$error":"#NAME?"},{"$f":"5.7*2","v":11.4}]
["B1F J7a~J7b",280,"0.4*0.7*20.4",{"$f":"結構計算","v":{"$error":"#NAME?"}},"F","1.4*20.4",{"$f":"結構計算","v":{"$error":"#NAME?"}},"#4","2.3*(69*2)",{"$f":"結構計算","v":{"$error":"#NAME?"}},"#10","(22.1+0.55*2+2.87*2)*3",{"$error":"#NAME?"},{"$f":"7*2","v":14}]
[{"$f":"10.2*2","v":20.399999999999999},null,null,null,null,null,null,null,null,null,"#10","(22.1+0.55*2+2.21*2)*3",{"$error":"#NAME?"},{"$f":"7.2*2*2","v":28.8}]
[{"$f":"20.4+0.6*3","v":22.2},null,null,null,null,null,null,null,null,null,"#10","14+28.8",{"$error":"#NAME?"}]
["B1F J8a~J8b",280,"0.4*0.7*8.3",{"$f":"結構計算","v":{"$error":"#NAME?"}},"F","1.4*8.3",{"$f":"結構計算","v":{"$error":"#NAME?"}},"#4","2.3*(30+23)",{"$error":"#NAME?"},"#8","(9.8+0.4*2+2.26)*3+7",{"$error":"#NAME?"},{"$f":"3.5*2","v":7}]
[{"$f":"4.5+3.8","v":8.3000000000000007},null,null,null,null,null,null,null,null,null,"#8","(9.8+0.4*2+1.74)*3",{"$error":"#NAME?"}]
["B1F J9a",280,"0.3*0.5*5.05*2",{"$f":"結構計算","v":{"$error":"#NAME?"}},"F","1.1*5.05*2",{"$f":"結構計算","v":{"$error":"#NAME?"}},"#4","1.6*54*2",{"$f":"結構計算","v":{"$error":"#NAME?"}},"#8","(5.95+0.4*2)*3*2",{"$error":"#NAME?"}]
[null,null,null,null,null,null,null,null,null,null,"#8","(5.95+0.4*2)*4*2",{"$error":"#NAME?"}]
["B1F J9a",280,"0.3*0.5*5.6",{"$f":"結構計算","v":{"$error":"#NAME?"}},"F","1.1*5.6",{"$error":"#NAME?"},"#4","1.6*56",{"$error":"#NAME?"},"#8","(6.5+0.4*2)*3",{"$error":"#NAME?"}]
[null,null,null,null,null,null,null,null,null,null,"#8","(6.5+0.4*2)*4",{"$error":"#NAME?"}]
["B1F J9b",280,"0.4*0.7*8.8*2",{"$f":"結構計算","v":{"$error":"#NAME?"}},"F","1.4*8.8*2+0.2*8.8",{"$f":"結構計算","v":{"$error":"#NAME?"}},"#4","2.3*58*2",{"$f":"結構計算","v":{"$error":"#NAME?"}},"#10","(9.9+0.55*2+2.87)*3*2",{"$error":"#NAME?"}]
[null,null,null,null,null,null,null,null,null,null,"#10","((9.9+0.55*2+2.21)*3+12.6)*2",{"$error":"#NAME?"},{"$f":"6.3*2","v":12.6}]
["B1F J10a-J10b",280,"0.4*0.7*11.4",{"$f":"結構計算","v":{"$error":"#NAME?"}},"F","1.4*11.4",{"$error":"#NAME?"},"#4","2.3*(30+49)",{"$error":"#NAME?"},"#10","(13.1+0.55*2+2.87)*3",{"$error":"#NAME?"},{"$f":"4.65*2","v":9.3000000000000007}]
[{"$f":"4.5+6.9","v":11.4},null,null,null,null,null,null,null,null,null,"#10","(13.1+0.55*2+2.21)*3",{"$error":"#NAME?"},{"$f":"4.8*2","v":9.6}]
[{"$f":"11.4+0.6*3","v":13.2},null,null,null,null,null,null,null,null,null,"#10","9.3+9.6",{"$error":"#NAME?"}]
["B1F J11",280,"0.4*0.7*4.6",{"$f":"結構計算","v":{"$error":"#NAME?"}},"F","1.4*4.6",{"$f":"結構計算","v":{"$error":"#NAME?"}},"#4","2.3*28",{"$f":"結構計算","v":{"$error":"#NAME?"}},"#10","(5.9+0.55*2)*3",{"$error":"#NAME?"}]
[null,null,null,null,null,null,null,null,null,null,"#10","(5.9+0.55*2)*3+3.5",{"$error":"#NAME?"},{"$f":"3.5*1","v":3.5}]
["B1F J12",280,"0.6*0.8*5.65",{"$f":"結構計算","v":{"$error":"#NAME?"}},"F","1.8*5.65",{"$error":"#NAME?"},"#3","2.5*25",{"$error":"#NAME?"},"#8","(6.75+0.4*2)*4",{"$error":"#NAME?"}]
[null,null,null,null,null,null,null,null,null,null,"#8","(6.75+0.4*2)*4",{"$error":"#NAME?"},{"$f":"3.5*1","v":3.5}]
["B1F J13",280,"0.5*0.8*8.4",{"$f":"結構計算","v":{"$error":"#NAME?"}},"F","1.7*8.4",{"$f":"結構計算","v":{"$error":"#NAME?"}},"#4","2.7*86",{"$f":"結構計算","v":{"$error":"#NAME?"}},"#10","(9.5+0.55*2+2.87)*5",{"$error":"#NAME?"}]
[null,null,null,null,null,null,null,"#5","9.5*4",{"$error":"#NAME?"},"#10","(9.5+0.55*2+2.21)*4+24.2",{"$error":"#NAME?"},{"$f":"5.9*3+6.5*1","v":24.200000000000003}]
["B1F J14a~J14b",280,"0.4*0.7*17.2",{"$f":"結構計算","v":{"$error":"#NAME?"}},"F","1.4*17.2",{"$f":"結構計算","v":{"$error":"#NAME?"}},"#4","2.3*(59+57)",{"$error":"#NAME?"},"#10","(18.9+0.55*2+2.87*2)*3",{"$error":"#NAME?"},{"$f":"5.9*2","v":11.8}]
[null,null,null,null,null,null,null,null,null,null,"#10","(18.9+0.55*2+2.21*2)*3",{"$error":"#NAME?"},{"$f":"6.3*2+5.9*2","v":24.4}]
[null,null,null,null,null,null,null,null,null,null,"#10","11.8+24.8",{"$error":"#NAME?"}]
["B1F J15a~J15c",280,"0.4*0.7*15.6",{"$f":"結構計算","v":{"$error":"#NAME?"}},"F","1.4*15.6",{"$error":"#NAME?"},"#4","2.3*(30+49+28)",{"$f":"結構計算","v":{"$error":"#NAME?"}},"#10","(17.7+0.55*2+2.87)*3",{"$error":"#NAME?"},{"$f":"4.65*2*2","v":18.600000000000001}]
[{"$f":"4.4+7.2+4","v":15.600000000000001},null,null,null,null,null,null,null,null,null,"#10","(17.7+0.55*2+2.21)*3",{"$error":"#NAME?"},{"$f":"5.1*2","v":10.199999999999999}]
[{"$f":"15.6+0.6*3+0.4","v":17.799999999999997},null,null,null,null,null,null,null,null,null,"#10","18.5+10.2",{"$error":"#NAME?"}]
["B1F J16a~J16d",280,"0.4*0.7*29.4",{"$f":"結構計算","v":{"$error":"#NAME?"}},"F","1.4*29.4",{"$f":"結構計算","v":{"$error":"#NAME?"}},"#4","2.3*(25+57*3)",{"$error":"#NAME?"},"#10","(32.1+0.55*2+2.87*3)*3",{"$error":"#NAME?"},{"$f":"5*2+5.8*2+5.85*2","v":33.299999999999997}]
[{"$f":"4+8.4*2+8.6","v":29.4},null,null,null,null,null,null,null,null,null,"#10","(32.1+0.55*2+2.21*3)*3",{"$error":"#NAME?"},{"$f":"6*2*2+6.1*2","v":36.200000000000003}]
[{"$f":"29.4+0.6*4+0.4","v":32.199999999999996},null,null,null,null,null,null,null,null,null,"#10","33.3+36.2",{"$error":"#NAME?"}]
["B1F J17a~J17b",280,"0.4*0.7*11.6",{"$f":"結構計算","v":{"$error":"#NAME?"}},"F","1.4*11.6",{"$f":"結構計算","v":{"$error":"#NAME?"}},"#4","2.3*(30+49)",{"$f":"結構計算","v":{"$error":"#NAME?"}},"#10","(13.4+0.55*2+2.87)*3",{"$error":"#NAME?"},{"$f":"4.65*2+3.35*2","v":16}]
[{"$f":"4.4+7.2","v":11.600000000000001},null,null,null,null,null,null,null,null,null,"#10","(13.4+0.55*2+2.21)*3",{"$error":"#NAME?"},{"$f":"5.1*2","v":10.199999999999999}]
[{"$f":"11.6+0.6*3","v":13.399999999999999},null,null,null,null,null,null,null,null,null,"#10","16+10.2",{"$error":"#NAME?"}]
["B1F J17c",280,"0.4*0.7*4",{"$f":"結構計算","v":{"$error":"#NAME?"}},"F","1.4*4",{"$error":"#NAME?"},"#4","2.3*28",{"$error":"#NAME?"},"#10","(4.9+0.55*2)*3+5.8",{"$error":"#NAME?"},{"$f":"2.9*2","v":5.8}]
[null,null,null,null,null,null,null,null,null,null,"#10","(4.9+0.55*2)*3",{"$error":"#NAME?"}]
["B1F J18a",280,"0.4*0.7*4",{"$f":"結構計算","v":{"$error":"#NAME?"}},"F","1.4*4",{"$error":"#NAME?"},"#4","2.3*27",{"$error":"#NAME?"},"#10","(4.9+0.55*2)*3+5.8",{"$error":"#NAME?"},{"$f":"2.9*2","v":5.8}]
[null,null,null,null,null,null,null,null,null,null,"#10","(4.9+0.55*2)*3",{"$error":"#NAME?"}]
["B1F J18b~J18c",280,"0.4*0.7*12.85",{"$f":"結構計算","v":{"$error":"#NAME?"}},"F","1.4*12.85",{"$f":"結構計算","v":{"$error":"#NAME?"}},"#4","2.3*(49+28)",{"$f":"結構計算","v":{"$error":"#NAME?"}},"#10","(14.35+0.55*2+2.87)*3",{"$error":"#NAME?"},{"$f":"3.7*2+5*2","v":17.399999999999999}]
[{"$f":"8.4+4.45","v":12.850000000000001},null,null,null,null,null,null,null,null,null,"#10","(14.35+0.55*2+2.21)*3",{"$error":"#NAME?"},{"$f":"6*2","v":12}]
[{"$f":"12.85+1.2+0.4","v":14.45},null,null,null,null,null,null,null,null,null,"#10","17.4+12",{"$error":"#NAME?"}]
["B1F J19a~J19b",280,"0.4*0.7*10.65",{"$f":"結構計算","v":{"$error":"#NAME?"}},"F","1.4*10.65",{"$f":"結構計算","v":{"$error":"#NAME?"}},"#4","2.3*(25+49)",{"$f":"結構計算","v":{"$error":"#NAME?"}},"#10","(12.35+0.55*2+2.87)*3",{"$error":"#NAME?"},{"$f":"4.65*2","v":9.3000000000000007}]
[{"$f":"3.45+7.2","v":10.65},null,null,null,null,null,null,null,null,null,"#10","(12.35+0.55*2+2.21)*3",{"$error":"#NAME?"},{"$f":"5.1*2","v":10.199999999999999}]
[{"$f":"10.65+0.6*3","v":12.45},null,null,null,null,null,null,null,null,null,"#10","9.3+10.2",{"$error":"#NAME?"}]
["B1F J20",280,"0.4*0.7*4.6",{"$f":"結構計算","v":{"$error":"#NAME?"}},"F","1.4*4.6",{"$f":"結構計算","v":{"$error":"#NAME?"}},"#4","2.3*28",{"$f":"結構計算","v":{"$error":"#NAME?"}},"#10","(5.9+0.55*2)*4",{"$error":"#NAME?"}]
[null,null,null,null,null,null,null,"#5","5.9*6",{"$error":"#NAME?"},"#10","(5.9+0.55*2)*4",{"$error":"#NAME?"},{"$f":"3.5*1","v":3.5}]
["B1F J21",280,"0.4*0.7*5.65",{"$f":"結構計算","v":{"$error":"#NAME?"}},"F","1.4*5.65",{"$error":"#NAME?"},"#4","2.3*25",{"$error":"#NAME?"},"#8","(6.75+0.4*2)*4",{"$error":"#NAME?"}]
[null,null,null,null,null,null,null,"#5","6.75*6",{"$error":"#NAME?"},"#8","(6.75+0.4*2)*4",{"$error":"#NAME?"},{"$f":"3.5*1","v":3.5}]
["B1F J22a~J22b",280,"0.4*0.7*12.85",{"$f":"結構計算","v":{"$error":"#NAME?"}},"F","1.4*12.85",{"$f":"結構計算","v":{"$error":"#NAME?"}},"#4","2.3*(57+28)",{"$error":"#NAME?"},"#10","(14.35+0.55*2+2.87)*3",{"$error":"#NAME?"},{"$f":"4.95*2","v":9.9}]
[{"$f":"8.4+4.45","v":12.850000000000001},null,null,null,null,null,null,null,null,null,"#10","(14.35+0.55*2+2.21)*3",{"$error":"#NAME?"},{"$f":"6*2","v":12}]
[{"$f":"12.85+1.2+0.4","v":14.45},null,null,null,null,null,null,null,null,null,"#10","9.9+12",{"$error":"#NAME?"}]
["B1F J23a~J23b",280,"0.4*0.7*12.35",{"$f":"結構計算","v":{"$error":"#NAME?"}},"F","1.6*12.35+0.2*8.6",{"$error":"#NAME?"},"#4","2.3*(27+57)",{"$f":"結構計算","v":{"$error":"#NAME?"}},"#10","(13.85+0.55*2+2.87)*3",{"$error":"#NAME?"},{"$f":"5.05*2","v":10.1}]
[{"$f":"3.75+8.6","v":12.35},null,null,null,null,null,null,null,null,null,"#10","(13.85+0.55*2+2.21)*3",{"$error":"#NAME?"},{"$f":"6.1*2","v":12.2}]
[{"$f":"12.35+0.6+0.6+0.4","v":13.95},null,null,null,null,null,null,null,null,null,"#10","10.1+12.2",{"$error":"#NAME?"}]
["B1F J24a~J24b",280,"0.4*0.7*15.9",{"$f":"結構計算","v":{"$error":"#NAME?"}},"F","1.6*15.9+0.2*7.8",{"$f":"結構計算","v":{"$error":"#NAME?"}},"#4","2.3*(53+55)",{"$error":"#NAME?"},"#10","(17.5+0.55*2+2.87)*3",{"$error":"#NAME?"},{"$f":"6.25*2+4.15*2","v":20.8}]
[{"$f":"7.8+8.1","v":15.899999999999999},null,null,null,null,null,null,null,null,null,"#10","(17.5+0.55*2+2.21)*3",{"$error":"#NAME?"},{"$f":"5.7*2+5.9*2","v":23.200000000000003}]
[{"$f":"15.9+0.6*2+0.5","v":17.600000000000001},null,null,null,null,null,null,null,null,null,"#10","20.8+23.2",{"$error":"#NAME?"}]
["B1F J25",280,"0.4*0.7*2.95",{"$f":"結構計算","v":{"$error":"#NAME?"}},"F","1.4*2.95",{"$f":"結構計算","v":{"$error":"#NAME?"}},"#4","2.3*20",{"$f":"結構計算","v":{"$error":"#NAME?"}},"#10","(3.85+0.55*2)*3",{"$error":"#NAME?"}]
[" J24a,J24b,J25 缺詳",null,null,null,null,null,null,null,null,null,"#10","(3.85+0.55*2)*3",{"$error":"#NAME?"}]
["B1F S1",280,"0.2*1451.23",{"$f":"結構計算","v":{"$error":"#NAME?"}},"A","1451.23*1",{"$f":"結構計算","v":{"$error":"#NAME?"}},"#4","34.18*1451.23",{"$f":"結構計算","v":{"$error":"#NAME?"}},null,null,null,{"$f":"2.7*2.3+3.5*3.3+5*4*8+3.75*27.4+4.65*47.6+4*30.2*2+4*5*4+4*4.1*4+4*4.25*2+4*5.75+3.4*40.2*2+3.8*4*2+4.5*4*2+4.5*5*6+5*3.88+3.02*3.65","v":1451.2330000000002},{"$f":"(23+0.71*2)*27*4+(9.7+0.71)*34*2*4","v":5468.88},{"$f":"+O300/160","v":34.180500000000002}]
["B1F S2",280,"0.2*94.75",{"$f":"結構計算","v":{"$error":"#NAME?"}},"A","94.75*1",{"$error":"#NAME?"},"#4","51.5*94.75",{"$error":"#NAME?"},null,null,null,{"$f":"3.5*1.6+1.1*4*2+0.75*2.45+1*8.1+2.95*7.9+5.05*(2.45+2.95)+3.1*(1.4+1.5)+1*5.6+3.75*1.4","v":94.752499999999984}]
["B1F rS1",280,"0.3*317.1",{"$f":"結構計算","v":{"$error":"#NAME?"}},"A","317.1*1",{"$error":"#NAME?"},"#4","21.31*317.1",{"$error":"#NAME?"},"#5","17.56*317.1",{"$f":"結構計算","v":{"$error":"#NAME?"}},{"$f":"7*19.8+5.5*10.5*2+6*10.5","v":317.10000000000002}]
["以上B2F,以下B1F"]
["B1 C1 -430~-31",280,"0.8*0.8*3.99*1",{"$f":"結構計算","v":{"$error":"#NAME?"}},"F","3.2*3.99*1",{"$f":"結構計算","v":{"$error":"#NAME?"}},"#4","6.6*36*1",{"$f":"結構計算","v":{"$error":"#NAME?"}},"#8","2*20*1",{"$error":"#NAME?"}]
[null,null,null,null,null,null,null,null,null,null,"#8T","20*1",{"$error":"#NAME?"}]
["B1 C2 -430~-31",280,"0.8*0.8*3.99*5",{"$f":"結構計算","v":{"$error":"#NAME?"}},"F","3.2*3.99*5",{"$f":"結構計算","v":{"$error":"#NAME?"}},"#4","6.6*36*5",{"$f":"結構計算","v":{"$error":"#NAME?"}},"#8","2*20*5",{"$error":"#NAME?"}]
[null,null,null,null,null,null,null,null,null,null,"#8T","20*5",{"$error":"#NAME?"}]
["B1 C3 -430~-31",280,"0.8*0.8*3.99*4",{"$f":"結構計算","v":{"$error":"#NAME?"}},"F","3.2*3.99*4",{"$error":"#NAME?"},"#4","6.6*36*4",{"$error":"#NAME?"},"#8","2*20*4",{"$error":"#NAME?"}]
[null,null,null,null,null,null,null,null,null,null,"#8T","20*4",{"$error":"#NAME?"}]
["B1 C4 -430~-31",280,"1*1*3.99*1",{"$f":"結構計算","v":{"$error":"#NAME?"}},"F","4*3.99*1",{"$f":"結構計算","v":{"$error":"#NAME?"}},"#4","10.3*36*1",{"$f":"結構計算","v":{"$error":"#NAME?"}},"#10","2*24*1",{"$error":"#NAME?"}]
[null,null,null,null,null,null,null,null,null,null,"#10T","24*1",{"$error":"#NAME?"}]
["B1 C4 -430~+95",280,"1*1*5.25",{"$f":"結構計算","v":{"$error":"#NAME?"}},"F","4*5.25*1",{"$error":"#NAME?"},"#4","10.3*18+8.45*25",{"$error":"#NAME?"},"#10","5.25*12+4.2*12",{"$error":"#NAME?"}]
[null,280,"-0.24*.99-0.49*2.51",{"$error":"#NAME?"},null,null,null,null,null,null,"#10T","12*1",{"$error":"#NAME?"}]
["B1 C4 -255~+95",280,"1*1*3.5*10",{"$error":"#NAME?"},"F","4*3.5*10",{"$error":"#NAME?"},"#4","8.45*25*10",{"$error":"#NAME?"},"#10","3.5*12*10+2.44*12*10",{"$error":"#NAME?"}]
[null,280,"(-0.24*.99-0.49*2.51)*10",{"$error":"#NAME?"},null,null,null,null,null,null,"#10T","12*10",{"$error":"#NAME?"}]
["B1 C5 -430~+95",280,"1*1*5.25*3",{"$error":"#NAME?"},"F","4*5.25*3",{"$error":"#NAME?"},"#4","(10.3*18+8.45*25)*3",{"$error":"#NAME?"},"#10","(5.25*12+4.2*28)*3",{"$error":"#NAME?"}]
[null,280,"(-0.24*.99-0.49*2.51)*3",{"$error":"#NAME?"},null,null,null,null,null,null,"#10T","28*3",{"$error":"#NAME?"}]
["B1 C5 -255~+95",280,"1*1*3.5*9",{"$error":"#NAME?"},"F","4*3.5*9",{"$error":"#NAME?"},"#4","8.45*25*9",{"$error":"#NAME?"},"#10","3.5*12*9+2.44*28*9",{"$error":"#NAME?"}]
[null,280,"(-0.24*.99-0.49*2.51)*9",{"$error":"#NAME?"},null,null,null,null,null,null,"#10T","28*9",{"$error":"#NAME?"}]
["B1 C6 -430~+95",280,"1*1*5.25*1",{"$error":"#NAME?"},"F","4*5.25*1",{"$error":"#NAME?"},"#4","(10.3*18+8.45*25)*1",{"$error":"#NAME?"},"#10","(5.25*12+4.2*20)*1",{"$error":"#NAME?"}]
[null,280,"(-0.24*.99-0.49*2.51)*1",{"$error":"#NAME?"},null,null,null,null,null,null,"#10T","20*1",{"$error":"#NAME?"}]
["B1 C6 -255~+95",280,"1*1*3.5*3",{"$error":"#NAME?"},"F","4*3.5*3",{"$error":"#NAME?"},"#4","8.45*25*3",{"$error":"#NAME?"},"#10","3.5*12*3+2.44*28*3",{"$error":"#NAME?"}]
[null,280,"(-0.24*.99-0.49*2.51)*3",{"$error":"#NAME?"},null,null,null,null,null,null,"#10T","20*3",{"$error":"#NAME?"}]
["B1 C7 -255~+95",280,"1*1*3.5*2",{"$error":"#NAME?"},"F","4*3.5*2",{"$error":"#NAME?"},"#4","8.45*25*2",{"$error":"#NAME?"},"#10","3.5*12*2+2.44*12*2",{"$error":"#NAME?"}]
[null,280,"(-0.24*.99-0.49*2.51)*2",{"$error":"#NAME?"},null,null,null,null,null,null,"#10T","12*2",{"$error":"#NAME?"}]
["電梯坑底"]
[]
["B1 地下室外牆 40",280,"0.4*450.39",{"$f":"結構計算","v":{"$error":"#NAME?"}},"F","450.39*2",{"$f":"結構計算","v":{"$error":"#NAME?"}},"#4","20.73*450.39",{"$f":"結構計算","v":{"$error":"#NAME?"}},"#5","26.2*450.39",{"$error":"#NAME?"},{"$f":"2.6*(9.8+7.4+8*6)+3.5*(9.8+1.3*2)+3.09*(8+6.9*2+4.1+7.7+10.2*3+10.5+2.15)","v":450.38650000000007}]
[null,null,null,null,null,null,null,null,null,null,"S19*200","18*2*18",{"$error":"#NAME?"}]
["B1 地下室外牆 50",280,"0.5*71.76",{"$f":"結構計算","v":{"$error":"#NAME?"}},"F","71.76*2",{"$error":"#NAME?"},"#5","18.52*71.76",{"$error":"#NAME?"},"#6","27.2*71.76",{"$error":"#NAME?"},{"$f":"2.6*(9.8*2+8)","v":71.760000000000005},"採搭接"]
[null,null,null,null,null,null,null,null,null,null,"S19*200","18*2*3",{"$error":"#NAME?"}]
[" B1F 15CMＲＣ牆",280,"0.15*883.78",{"$f":"結構計算","v":{"$error":"#NAME?"}},"F","883.78*2",{"$f":"結構計算","v":{"$error":"#NAME?"}},"#4","30.73*883.78",{"$f":"結構計算","v":{"$error":"#NAME?"}},"S19*200","22*2",{"$error":"#NAME?"},{"$f":"2.9*13.3+3.1*1.55+2.6*1.05+2.9*19.6+3.3*(13.23+9+8.6+8)+3.3*(9.8*2+7.4)+3.3*1.03+3*(8+3.05+5.6+4.3)+4.45*(0.95+5+4.55+6.05+2.25+5.2+5.7+8+7.4+3.2+4.85)+3.6*(3.2+4.85+6.2+5.55+9.4+5+5.3+1.26+3.45)+3.3*(28.21+2.6)","v":883.7795000000001}]
[" B1F 20CM隔牆",280,"0.2*31.15",{"$f":"結構計算","v":{"$error":"#NAME?"}},"F","31.15*2",{"$error":"#NAME?"},"#4","26.42*31.15",{"$error":"#NAME?"},null,null,null,{"$f":"3.5*(2.3+2.6+1*4)","v":31.150000000000002}]
[" B1F 25CM車道牆",280,"0.25*239.91",{"$f":"結構計算","v":{"$error":"#NAME?"}},"F","239.91*2",{"$error":"#NAME?"},"#4","11.72*239.91",{"$error":"#NAME?"},"#5","26.48*239.91",{"$error":"#NAME?"},{"$f":"3.3*(11.8+10.6+5.8*2+2.6*2)+3.3*(7.4+9.8+16.3)","v":239.91000000000003}]
["車道側樑",280,"0.5*0.8*8*2",{"$f":"結構計算","v":{"$error":"#NAME?"}},"F","1.8*8*2",{"$error":"#NAME?"},"#4","2.7*81*2",{"$error":"#NAME?"},"#10","(9.9+0.55*2+2.87)*7*2",{"$error":"#NAME?"}]
[null,null,null,null,null,null,null,"#6","9.9*4*2",{"$error":"#NAME?"},"#10","(9.9+0.55*2+2.21)*7*2",{"$error":"#NAME?"}]
["車道側樑",280,"0.5*0.8*(7.4+9.8)",{"$f":"結構計算","v":{"$error":"#NAME?"}},"F","1.8*(7.4+9.8)",{"$error":"#NAME?"},"#4","2.7*(74+98)",{"$error":"#NAME?"},"#10","(19.8+0.55*2+2.87*2)*7",{"$error":"#NAME?"}]
[null,null,null,null,null,null,null,"#6","(19.8+1.08)*4",{"$error":"#NAME?"},"#10","(19.9+0.55*2+2.21*2)*7",{"$error":"#NAME?"}]
["車道側樑",280,"0.5*0.8*16.3",{"$f":"結構計算","v":{"$error":"#NAME?"}},"F","1.8*16.3",{"$error":"#NAME?"},"#4","2.7*163",{"$error":"#NAME?"},"#10","(16.3+0.55*2+2.87)*7",{"$error":"#NAME?"}]
[null,null,null,null,null,null,null,"#6","(16.3+1.08)*4",{"$error":"#NAME?"},"#10","(16.3+0.55*2+2.21)*7",{"$error":"#NAME?"}]
["車道側樑",280,"0.5*0.8*11.8*2",{"$f":"結構計算","v":{"$error":"#NAME?"}},"F","1.8*11.8*2",{"$error":"#NAME?"},"#4","2.7*118*2",{"$error":"#NAME?"},"#10","(11.8+0.55*2+2.87)*7*2",{"$error":"#NAME?"}]
[null,null,null,null,null,null,null,"#6","(11.8+1.08)*4*2",{"$error":"#NAME?"},"#10","(11.8+0.55*2+2.21)*7*2",{"$error":"#NAME?"}]
[" B1F 甲階梯",280,"0.28*20.01",{"$f":"結構計算","v":{"$error":"#NAME?"}},"F","20.01+1.5*5.25+0.55*1.45",{"$f":"結構計算","v":{"$error":"#NAME?"}},"#4","46.6*20.01",{"$error":"#NAME?"},null,null,null,{"$f":"1.5*(3.38+0.6+3.35+0.6)+2.05*(3.36+0.6)","v":20.012999999999998}]
[" B1F 甲樓梯平台",280,"0.2*19.17",{"$f":"結構計算","v":{"$error":"#NAME?"}},"F","19.17*1",{"$error":"#NAME?"},"#4","48*19.17",{"$error":"#NAME?"},"#5","1.6*19.17",{"$error":"#NAME?"},{"$f":"2.06*3.8+1.5*3+1.8*3.8","v":19.167999999999999}]
[" B1F 乙階梯",280,"0.28*10.85",{"$f":"結構計算","v":{"$error":"#NAME?"}},"F","10.85+1.75*1.5+1.75*1.9",{"$error":"#NAME?"},"#4","46.6*10.85",{"$error":"#NAME?"},null,null,null,{"$f":"1.8*(2.78+0.6)+1.5*3.2","v":10.884}]
[" B1F 乙樓梯平台",280,"0.2*4.68",{"$f":"結構計算","v":{"$error":"#NAME?"}},"F","4.68*1",{"$error":"#NAME?"},"#4","48*4.68",{"$error":"#NAME?"},"#5","1.6*4.68",{"$error":"#NAME?"},{"$f":"1.8*2.6","v":4.6800000000000006}]
[]
["1 1F W1B1~W1B1a",280,"0.6*0.9*11",{"$f":"結構計算","v":{"$error":"#NAME?"}},"F","2.1*11+0.3*3.35",{"$f":"結構計算","v":{"$error":"#NAME?"}},"#5","3*28+3*47",{"$f":"結構計算","v":{"$error":"#NAME?"}},"#10","(12.7+0.55+2.87)*4",{"$error":"#NAME?"}]
[{"$f":"6.9+4.1","v":11},null,null,null,null,null,null,"#5","(13.5+0.71)*4",{"$error":"#NAME?"},"#10","(12.7+0.55+2.21)*4",{"$error":"#NAME?"},"高低差斷筋錨定"]
[null,null,null,null,null,null,null,"#5","2.95*4*2",{"$error":"#NAME?"},"#10S","4*2",{"$error":"#NAME?"}]
["G 1F W1B1~W1B1",280,"0.6*0.9*48.2",{"$f":"結構計算","v":{"$error":"#NAME?"}},"F","2.1*48.2",{"$f":"結構計算","v":{"$error":"#NAME?"}},"#5","3*(52+67*3+71)",{"$error":"#NAME?"},"#10","(52.7+0.55*2+2.87*5)*4",{"$error":"#NAME?"}]
[{"$f":"7.7+10*3+10.5","v":48.2},null,null,null,null,null,null,"#5","(52.7+0.89*5)*4",{"$error":"#NAME?"},"#10","(52.7+0.55*2+2.21*5)*4",{"$error":"#NAME?"}]
["6 1F W1B1~W1B1a",280,"0.6*0.9*17.05",{"$f":"結構計算","v":{"$error":"#NAME?"}},"F","2.1*17.05",{"$f":"結構計算","v":{"$error":"#NAME?"}},"#5","3*(15+47+54)",{"$error":"#NAME?"},"#10","(19.6+0.55+2.87*2)*4",{"$error":"#NAME?"}]
[{"$f":"8+6.9+2.15","v":17.05},null,null,null,null,null,null,"#5","(20.45+0.89*2)*4",{"$error":"#NAME?"},"#10","(19.6+0.55+2.21*2)*4",{"$error":"#NAME?"}]
[{"$f":"17.05+1+1+0.8+0.6","v":20.450000000000003},null,null,null,null,null,null,null,null,null,"#10S","4*2",{"$f":"結構計算","v":{"$error":"#NAME?"}}]
["增築",280,"0.7*1.26*3.35",{"$f":"結構計算","v":{"$error":"#NAME?"}},"F","1.26*2*3.35",{"$f":"結構計算","v":{"$error":"#NAME?"}},"#5","5.1*36",{"$error":"#NAME?"},"#10","(3.3+0.88+0.5)*5",{"$error":"#NAME?"}]
[null,null,null,null,null,null,null,"#5","3.35*8",{"$error":"#NAME?"}]
["A 1F WB2  SC 1~2柱",280,"0.6*0.9*7.4",{"$f":"結構計算","v":{"$error":"#NAME?"}},"F","2.2*7.4",{"$error":"#NAME?"},"#4","3.1*45",{"$error":"#NAME?"},"#8","(7.7+0.69*2)*2",{"$error":"#NAME?"}]
[null,null,null,null,null,null,null,"#4","7.7*2",{"$error":"#NAME?"},"#8","(7.7+0.69*2)*2",{"$error":"#NAME?"}]
[null,null,null,null,null,null,null,"#5","(7.7+0.25*2)*4",{"$error":"#NAME?"}]
["A 1F WB2  SC 2~6柱",280,"0.6*0.9*9.8*4",{"$f":"結構計算","v":{"$error":"#NAME?"}},"F","2.2*9.8*4",{"$f":"結構計算","v":{"$error":"#NAME?"}},"#4","3.1*59*4",{"$error":"#NAME?"},"#8","(10.8+0.69*2+2.87)*2*4",{"$error":"#NAME?"}]
[null,null,null,null,null,null,null,"#4","(10.1+0.71)*2*4",{"$error":"#NAME?"},"#8","(10.8+0.69*2+2.21)*2*4",{"$error":"#NAME?"}]
[null,null,null,null,null,null,null,"#5","(10.1+0.25*2+0.89)*4*4",{"$error":"#NAME?"}]
["1 1F WB2  SC A~E柱",280,"0.6*0.9*8*4",{"$f":"結構計算","v":{"$error":"#NAME?"}},"F","2.2*8*4",{"$error":"#NAME?"},"#4","3.1*49*4",{"$error":"#NAME?"},"#8","(8.3+0.69*2)*2*4",{"$error":"#NAME?"}]
[null,null,null,null,null,null,null,"#4","8.3*2*4",{"$error":"#NAME?"},"#8","(8.3+0.69*2)*2*4",{"$error":"#NAME?"}]
[null,null,null,null,null,null,null,"#5","(8.3+0.25*2)*4*4",{"$error":"#NAME?"}]
["6 1F WB2  SC A~E柱",280,"0.6*0.9*8*3",{"$f":"結構計算","v":{"$error":"#NAME?"}},"F","2.2*8*3",{"$f":"結構計算","v":{"$error":"#NAME?"}},"#4","3.1*49*3",{"$error":"#NAME?"},"#8","(8.3+0.69*2)*2*3",{"$error":"#NAME?"}]
[null,null,null,null,null,null,null,"#4","8.3*2*3",{"$error":"#NAME?"},"#8","(8.3+0.69*2)*2*3",{"$error":"#NAME?"}]
[null,null,null,null,null,null,null,"#5","(8.3+0.25*2)*4*3",{"$error":"#NAME?"}]
["F 1F G1a~G1e",280,"0.7*0.9*47.8",{"$f":"結構計算","v":{"$error":"#NAME?"}},"F","1.9*47.8",{"$f":"結構計算","v":{"$error":"#NAME?"}},"#4","3.3*(2*70+2*92*3+2*101)",{"$error":"#NAME?"},"#10","(52.5+0.55*2+2.87*5)*5",{"$f":"結構計算","v":{"$error":"#NAME?"}},{"$f":"3.6*3+6.7*3+6.1*6+(7.4*3+6.8*6)*3+4.6*3+4.3*4","v":287.5}]
[{"$f":"7.7+10+10+10+10.1","v":47.800000000000004},null,null,null,null,null,null,"#5","(52.5+0.89*5)*4",{"$error":"#NAME?"},"#10","(52.5+0.55*2+2.21*5)*6",{"$error":"#NAME?"},{"$f":"5*3+5.6*2+(50.65+0.5+2.21*5)+6.6*4*3+7.2*2*3+6.7*4+7.3*2","v":252.20000000000002}]
[{"$f":"47.8+0.8*6","v":52.599999999999994},null,null,null,null,null,null,null,null,null,"#10","287.5+252.2+0.7*(26+29)",{"$error":"#NAME?"}]
["E 1F G2",280,"0.6*0.9*1.965",{"$f":"結構計算","v":{"$error":"#NAME?"}},"F","2.2*1.965",{"$f":"結構計算","v":{"$error":"#NAME?"}},"#4","3.1*12",{"$error":"#NAME?"},"#8","(1.97+0.4+0.69)*2",{"$error":"#NAME?"}]
[null,null,null,null,null,null,null,"#4","1.97*2",{"$error":"#NAME?"},"#8","(1.97+0.4+0.69)*2",{"$error":"#NAME?"}]
[null,null,null,null,null,null,null,"#5","(1.97+0.25*2)*4",{"$error":"#NAME?"}]
["E 1F 1G2a SC 1~2柱",280,"0.6*0.9*7.4",{"$f":"結構計算","v":{"$error":"#NAME?"}},"F","2.2*7.4",{"$f":"結構計算","v":{"$error":"#NAME?"}},"#4","3.1*45",{"$error":"#NAME?"},"#8","(7.7+0.69*2)*2",{"$f":"結構計算","v":{"$error":"#NAME?"}}]
[null,null,null,null,null,null,null,"#4","7.7*2",{"$error":"#NAME?"},"#8","(7.7+0.69*2)*2",{"$error":"#NAME?"}]
[null,null,null,null,null,null,null,"#5","(7.7+0.25*2)*4",{"$error":"#NAME?"}]
["E 1F 1G2b~1G2d SC 2~5柱",280,"0.6*2.06*9.8*3",{"$f":"結構計算","v":{"$error":"#NAME?"}},"F","4.22*9.8*3",{"$f":"結構計算","v":{"$error":"#NAME?"}},"#4","5.52*59*3",{"$error":"#NAME?"},"#8","(10.8+0.69*2+2.87)*2*3",{"$f":"結構計算","v":{"$error":"#NAME?"}}]
[null,null,null,null,null,null,null,"#4","(10.1+0.71)*2*3",{"$error":"#NAME?"},"#8","(10.8+0.69*2+2.21)*2*3",{"$error":"#NAME?"}]
[null,null,null,null,null,null,null,"#5","(10.1+0.25*2+0.89)*12*3",{"$error":"#NAME?"}]
["E 1F 1G2e",280,"0.8*0.9*9.8",{"$f":"結構計算","v":{"$error":"#NAME?"}},"F","2.2*9.8",{"$f":"結構計算","v":{"$error":"#NAME?"}},"#4","3.5*2*100",{"$error":"#NAME?"},"#10","(10.95+0.55+0.88+2.87)*5",{"$error":"#NAME?"},{"$f":"3.3*1+3*6+4.8*2+4.5*5","v":53.4}]
[9.8000000000000007,null,null,null,null,null,null,"#5","(10.95+0.89)*4",{"$error":"#NAME?"},"#10","(10.95+0.55+0.88+2.21)*6",{"$f":"結構計算","v":{"$error":"#NAME?"}},{"$f":"7*2+6.4*6","v":52.400000000000006}]
[null,null,null,null,null,null,null,"#5","(2.6+0.25)*4*2",{"$error":"#NAME?"},"#10","53.4+52.4+0.8*(6+6)",{"$error":"#NAME?"}]
[{"$f":"9.8+2","v":11.8},null,null,null,null,null,null,null,null,null,"#10S","(12+6)",{"$error":"#NAME?"}]
["增築",280,"0.8*1.26*3.65",{"$f":"結構計算","v":{"$error":"#NAME?"}},"F","1.26*2*3.65",{"$f":"結構計算","v":{"$error":"#NAME?"}},"#5","5.1*37",{"$error":"#NAME?"},"#10","(3.8+0.88+0.5)*5",{"$error":"#NAME?"}]
[null,null,null,null,null,null,null,"#5","3.65*8",{"$error":"#NAME?"}]
["D 1F G3",280,"0.6*0.9*1.965",{"$f":"結構計算","v":{"$error":"#NAME?"}},"F","2.2*1.965",{"$f":"結構計算","v":{"$error":"#NAME?"}},"#4","3.1*12",{"$error":"#NAME?"},"#8","(1.97+0.4+0.69)*2",{"$f":"結構計算","v":{"$error":"#NAME?"}}]
[null,null,null,null,null,null,null,"#4","1.97*2",{"$error":"#NAME?"},"#8","(1.97+0.4+0.69)*2",{"$error":"#NAME?"}]
[null,null,null,null,null,null,null,"#5","(1.97+0.25*2)*4",{"$error":"#NAME?"}]
["D 1F 1G3a SC 1~2柱",280,"0.6*0.9*7.4",{"$f":"結構計算","v":{"$error":"#NAME?"}},"F","2*7.4",{"$f":"結構計算","v":{"$error":"#NAME?"}},"#4","3.1*45",{"$error":"#NAME?"},"#8","(7.7+0.69*2)*2",{"$f":"結構計算","v":{"$error":"#NAME?"}}]
[null,null,null,null,null,null,null,"#4","7.7*2",{"$error":"#NAME?"},"#8","(7.7+0.69*2)*2",{"$error":"#NAME?"}]
[null,null,null,null,null,null,null,"#5","(7.7+0.25*2)*4",{"$error":"#NAME?"}]
["D 1F 1G3b~G3e SC 2~6柱",280,"0.6*0.9*9.8*4",{"$f":"結構計算","v":{"$error":"#NAME?"}},"F","2*9.8*4",{"$f":"結構計算","v":{"$error":"#NAME?"}},"#4","3.1*59*4",{"$error":"#NAME?"},"#8","(10.8+0.69*2+2.87)*2*4",{"$error":"#NAME?"}]
[null,null,null,null,null,null,null,"#4","(10.1+0.71)*2*3",{"$error":"#NAME?"},"#8","(10.8+0.69*2+2.21)*2*4",{"$error":"#NAME?"}]
[null,null,null,null,null,null,null,"#5","(10.1+0.25*2+0.89)*4*3",{"$error":"#NAME?"}]
["C 1F 1G4a SC 1~2柱",280,"0.6*1.25*7.4",{"$f":"結構計算","v":{"$error":"#NAME?"}},"F","2.7*7.4",{"$f":"結構計算","v":{"$error":"#NAME?"}},"#4","3.8*45",{"$error":"#NAME?"},"#8","(7.7+0.69*2)*2",{"$error":"#NAME?"}]
[null,null,null,null,null,null,null,"#4","7.7*2",{"$error":"#NAME?"},"#8","(7.7+0.69*2)*2",{"$error":"#NAME?"}]
[null,null,null,null,null,null,null,"#5","(7.7+0.25*2)*6",{"$error":"#NAME?"}]
["C 1F 1G4b~G4e SC 2~6柱",280,"0.6*0.9*9.8*4",{"$f":"結構計算","v":{"$error":"#NAME?"}},"F","2*9.8*4",{"$f":"結構計算","v":{"$error":"#NAME?"}},"#4","3.1*59*4",{"$error":"#NAME?"},"#8","(10.8+0.69*2+2.87)*2*4",{"$error":"#NAME?"}]
[null,null,null,null,null,null,null,"#4","(10.1+0.71)*2*3",{"$error":"#NAME?"},"#8","(10.8+0.69*2+2.21)*2*4",{"$error":"#NAME?"}]
[null,null,null,null,null,null,null,"#5","(10.1+0.25*2+0.89)*4*3",{"$error":"#NAME?"}]
["B 1F 1G5a SC 1~2柱",280,"0.6*1.25*7.4",{"$f":"結構計算","v":{"$error":"#NAME?"}},"F","2.7*7.4",{"$f":"結構計算","v":{"$error":"#NAME?"}},"#4","3.8*45",{"$error":"#NAME?"},"#8","(7.7+0.69*2)*2",{"$error":"#NAME?"}]
[null,null,null,null,null,null,null,"#4","7.7*2",{"$error":"#NAME?"},"#8","(7.7+0.69*2)*2",{"$error":"#NAME?"}]
[null,null,null,null,null,null,null,"#5","(7.7+0.25*2)*6",{"$error":"#NAME?"}]
["B 1F 1G5b~G5e SC 2~6柱",280,"0.6*0.9*9.8*4",{"$f":"結構計算","v":{"$error":"#NAME?"}},"F","2.*9.8*4",{"$f":"結構計算","v":{"$error":"#NAME?"}},"#4","3.1*59*4",{"$error":"#NAME?"},"#8","(10.8+0.69*2+2.87)*2*4",{"$error":"#NAME?"}]
[null,null,null,null,null,null,null,"#4","(10.1+0.71)*2*3",{"$error":"#NAME?"},"#8","(10.8+0.69*2+2.21)*2*4",{"$error":"#NAME?"}]
[null,null,null,null,null,null,null,"#5","(10.1+0.25*2+0.89)*4*3",{"$error":"#NAME?"}]
["2 1F B1a~B1b",280,"0.7*0.9*11",{"$f":"結構計算","v":{"$error":"#NAME?"}},"F","1.9*11",{"$f":"結構計算","v":{"$error":"#NAME?"}},"#4","3.3*(2*29+2*69)",{"$error":"#NAME?"},"#10","(11.9+0.55+2.87)*4",{"$f":"結構計算","v":{"$error":"#NAME?"}},{"$f":"3.1*2+4.7*5+2.4*1+2.1*4","v":40.5}]
[{"$f":"4.1+6.9","v":11},null,null,null,null,null,null,"#5","(13.5+0.89)*4",{"$error":"#NAME?"},"#10","(11.9+0.55+2.21)*5",{"$error":"#NAME?"},{"$f":"4.45*2+5.05*4","v":29.1}]
[{"$f":"11+0.8*2+1","v":13.6},null,null,null,null,null,null,"#5","(1.8+0.25)*4*2",{"$error":"#NAME?"},"#10","40.5+29.1+0.7*2",{"$error":"#NAME?"}]
[null,null,null,null,null,null,null,null,null,null,"#10S","(9+5)",{"$error":"#NAME?"}]
["增築",280,"0.7*1.26*3.35",{"$f":"結構計算","v":{"$error":"#NAME?"}},"F","1.26*2*3.35",{"$f":"結構計算","v":{"$error":"#NAME?"}},"#5","5.1*36",{"$error":"#NAME?"},"#10","(3.3+0.88+0.5)*5",{"$error":"#NAME?"}]
[null,null,null,null,null,null,null,"#5","3.35*8",{"$f":"結構計算","v":{"$error":"#NAME?"}}]
["2 1F B1c~B1d  SC C~E柱",280,"0.6*0.9*8*2",{"$f":"結構計算","v":{"$error":"#NAME?"}},"F","2*8*2",{"$f":"結構計算","v":{"$error":"#NAME?"}},"#4","3.1*49*2",{"$error":"#NAME?"},"#8","(8.3+0.69*2)*2*2",{"$f":"結構計算","v":{"$error":"#NAME?"}}]
[null,null,null,null,null,null,null,"#4","8.3*2*2",{"$f":"結構計算","v":{"$error":"#NAME?"}},"#8","(8.3+0.69*2)*2*2",{"$error":"#NAME?"}]
[null,null,null,null,null,null,null,"#5","(8.3+0.25*2)*4*2",{"$error":"#NAME?"}]
["2 1F B1e SC B~C柱",280,"0.6*1.25*8",{"$f":"結構計算","v":{"$error":"#NAME?"}},"F","2.7*8",{"$error":"#NAME?"},"#4","3.8*49",{"$error":"#NAME?"},"#8","(8.3+0.69*2)*2",{"$error":"#NAME?"}]
[null,null,null,null,null,null,null,"#4","8.3*2",{"$error":"#NAME?"},"#8","(8.3+0.69*2)*2",{"$error":"#NAME?"}]
[null,null,null,null,null,null,null,"#5","(8.3+0.25*2)*6",{"$error":"#NAME?"}]
["2 1F B1f  SC A~B柱",280,"0.6*0.9*8",{"$f":"結構計算","v":{"$error":"#NAME?"}},"F","2*8",{"$f":"結構計算","v":{"$error":"#NAME?"}},"#4","3.1*49",{"$error":"#NAME?"},"#8","(8.3+0.69*2)*2",{"$error":"#NAME?"}]
[null,null,null,null,null,null,null,"#4","8.3*2",{"$error":"#NAME?"},"#8","(8.3+0.69*2)*2",{"$error":"#NAME?"}]
[null,null,null,null,null,null,null,"#5","(8.3+0.25*2)*4",{"$error":"#NAME?"}]
["3 1F B2a~B2b",280,"0.7*0.9*11",{"$f":"結構計算","v":{"$error":"#NAME?"}},"F","1.9*11",{"$f":"結構計算","v":{"$error":"#NAME?"}},"#4","3.3*(2*29+2*69)",{"$error":"#NAME?"},"#10","(11.9+0.55+2.87)*4",{"$f":"結構計算","v":{"$error":"#NAME?"}},{"$f":"3.1*2+4.7*5+2.4*1+2.1*4","v":40.5}]
[{"$f":"4.1+6.9","v":11},null,null,null,null,null,null,"#5","(13.5+0.89)*4",{"$error":"#NAME?"},"#10","(11.9+0.55+2.21)*5",{"$error":"#NAME?"},{"$f":"4.45*2+5.05*4","v":29.1}]
[{"$f":"11+0.8*2+1","v":13.6},null,null,null,null,null,null,"#5","(1.8+0.25)*4*2",{"$error":"#NAME?"},"#10","40.5+29.1+0.7*2",{"$error":"#NAME?"}]
[null,null,null,null,null,null,null,null,null,null,"#10S","(9+5)",{"$error":"#NAME?"}]
["3 1F B2c~B2f  SC A~E柱",280,"0.6*0.9*8*4",{"$f":"結構計算","v":{"$error":"#NAME?"}},"F","2*8*4",{"$f":"結構計算","v":{"$error":"#NAME?"}},"#4","3.1*49*4",{"$error":"#NAME?"},"#8","(8.3+0.69*2)*2*4",{"$error":"#NAME?"}]
[null,null,null,null,null,null,null,"#4","8.3*2*4",{"$error":"#NAME?"},"#8","(8.3+0.69*2)*2*4",{"$error":"#NAME?"}]
[null,null,null,null,null,null,null,"#5","(8.3+0.25*2)*4*4",{"$error":"#NAME?"}]
["3 1F B2g",280,"0.4*0.8*1.1",{"$f":"結構計算","v":{"$error":"#NAME?"}},"F","2*1.1",{"$error":"#NAME?"},"#4","2.5*7",{"$error":"#NAME?"},"#8","(1.25+0.69)*2",{"$error":"#NAME?"}]
[null,null,null,null,null,null,null,"#4","(1.25+0.2)*2",{"$error":"#NAME?"},"#8","(1.25+0.69)*2",{"$error":"#NAME?"}]
[null,null,null,null,null,null,null,"#5","(1.1+0.25)*4",{"$error":"#NAME?"}]
["4 1F B3a~B3b",280,"0.7*0.9*11",{"$f":"結構計算","v":{"$error":"#NAME?"}},"F","1.9*11",{"$f":"結構計算","v":{"$error":"#NAME?"}},"#4","3.3*(2*29+2*69)",{"$error":"#NAME?"},"#10","(11.9+0.55+2.87)*4",{"$error":"#NAME?"},{"$f":"3.1*2+4.7*5+2.4*1+2.1*4","v":40.5}]
[{"$f":"4.1+6.9","v":11},null,null,null,null,null,null,"#5","(13.5+0.89)*4",{"$error":"#NAME?"},"#10","(11.9+0.55+2.21)*5",{"$error":"#NAME?"},{"$f":"4.45*2+5.05*4","v":29.1}]
[{"$f":"11+0.8*2+1","v":13.6},null,null,null,null,null,null,"#5","(1.8+0.25)*4*2",{"$error":"#NAME?"},"#10","40.5+29.1+0.7*2",{"$error":"#NAME?"}]
[null,null,null,null,null,null,null,null,null,null,"#10S","(9+5)",{"$error":"#NAME?"}]
["4 1F B3c~B3f  SC A~E柱",280,"0.6*0.9*8*4",{"$f":"結構計算","v":{"$error":"#NAME?"}},"F","2*8*4",{"$f":"結構計算","v":{"$error":"#NAME?"}},"#4","3.1*49*4",{"$error":"#NAME?"},"#8","(8.3+0.69*2)*2*4",{"$error":"#NAME?"}]
[null,null,null,null,null,null,null,"#4","8.3*2*4",{"$error":"#NAME?"},"#8","(8.3+0.69*2)*2*4",{"$error":"#NAME?"}]
[null,null,null,null,null,null,null,"#5","(8.3+0.25*2)*4*4",{"$error":"#NAME?"}]
["3 1F B3g",280,"0.4*0.8*1.1",{"$f":"結構計算","v":{"$error":"#NAME?"}},"F","2*1.1",{"$f":"結構計算","v":{"$error":"#NAME?"}},"#4","2.5*7",{"$error":"#NAME?"},"#8","(1.25+0.69)*2",{"$error":"#NAME?"}]
[null,null,null,null,null,null,null,"#4","(1.25+0.2)*2",{"$error":"#NAME?"},"#8","(1.25+0.69)*2",{"$error":"#NAME?"}]
[null,null,null,null,null,null,null,"#5","(1.1+0.25)*4",{"$error":"#NAME?"}]
["5 1F B4a~B4b",280,"0.7*0.9*11",{"$f":"結構計算","v":{"$error":"#NAME?"}},"F","1.9*11",{"$f":"結構計算","v":{"$error":"#NAME?"}},"#4","3.3*(2*29+2*69)",{"$error":"#NAME?"},"#10","(11.9+0.55+2.87)*4",{"$error":"#NAME?"},{"$f":"3.1*2+4.7*5+2.4*1+2.1*4","v":40.5}]
[{"$f":"4.1+6.9","v":11},null,null,null,null,null,null,"#5","(13.5+0.89)*4",{"$error":"#NAME?"},"#10","(11.9+0.55+2.21)*5",{"$error":"#NAME?"},{"$f":"4.45*2+5.05*4","v":29.1}]
[{"$f":"11+0.8*2+1","v":13.6},null,null,null,null,null,null,"#5","(1.8+0.25)*4*2",{"$error":"#NAME?"},"#10","40.5+29.1+0.7*2",{"$error":"#NAME?"}]
[null,null,null,null,null,null,null,null,null,null,"#10S","(9+5)",{"$error":"#NAME?"}]
["5 1F B4c SC D~E柱",280,"0.6*2.06*8",{"$f":"結構計算","v":{"$error":"#NAME?"}},"F","4.22*8",{"$f":"結構計算","v":{"$error":"#NAME?"}},"#4","5.52*49",{"$f":"結構計算","v":{"$error":"#NAME?"}},"#8","(8.3+0.69*2)*2",{"$error":"#NAME?"}]
[null,null,null,null,null,null,null,"#4","8.3*2",{"$error":"#NAME?"},"#8","(8.3+0.69*2)*2",{"$error":"#NAME?"}]
[null,null,null,null,null,null,null,"#5","(8.3+0.25*2)*12",{"$error":"#NAME?"}]
["5 1F B4d~B4f  SC A~D柱",280,"0.6*0.9*8*3",{"$f":"結構計算","v":{"$error":"#NAME?"}},"F","2*8*3",{"$f":"結構計算","v":{"$error":"#NAME?"}},"#4","3.1*49*3",{"$error":"#NAME?"},"#8","(8.3+0.69*2)*2*3",{"$error":"#NAME?"}]
[null,null,null,null,null,null,null,"#4","8.3*2*3",{"$error":"#NAME?"},"#8","(8.3+0.69*2)*2*3",{"$error":"#NAME?"}]
[null,null,null,null,null,null,null,"#5","(8.3+0.25*2)*4*3",{"$error":"#NAME?"}]
["1F J0",280,"0.25*0.4*3.25*2",{"$f":"結構計算","v":{"$error":"#NAME?"}},"F","0.65*3.25*2",{"$f":"結構計算","v":{"$error":"#NAME?"}},"#3","1.3*33*2",{"$error":"#NAME?"},"#8","(4.25+0.4*2)*2",{"$f":"結構計算","v":{"$error":"#NAME?"}}]
[null,null,null,null,null,null,null,null,null,null,"#8","(4.05+0.4*2)*2*2",{"$error":"#NAME?"}]
["1F J0",280,"0.25*0.4*2.45*2",{"$f":"結構計算","v":{"$error":"#NAME?"}},"F","0.85*2.45*2",{"$error":"#NAME?"},"#3","1.3*25*2",{"$error":"#NAME?"},"#8","(3.25+0.4*2)*2*2",{"$error":"#NAME?"}]
[null,null,null,null,null,null,null,null,null,null,"#8","(3.25+0.4*2)*2*2",{"$error":"#NAME?"}]
["1F J0",280,"0.25*0.4*0.4",{"$f":"結構計算","v":{"$error":"#NAME?"}},"F","0.85*0.4",{"$error":"#NAME?"},"#3","1.3*4",{"$error":"#NAME?"},"#8","(0.8+0.4*2)*2",{"$error":"#NAME?"}]
[null,null,null,null,null,null,null,null,null,null,"#8","(0.8+0.4*2)*2",{"$error":"#NAME?"}]
["1F J0",280,"0.25*0.4*2.2*2",{"$f":"結構計算","v":{"$error":"#NAME?"}},"F","0.85*2.2*2",{"$error":"#NAME?"},"#3","1.3*22*2",{"$error":"#NAME?"},"#8","(2.7+0.4*2)*2*2",{"$error":"#NAME?"}]
[null,null,null,null,null,null,null,null,null,null,"#8","(2.7+0.4*2)*2*2",{"$error":"#NAME?"}]
["1F J0",280,"0.25*0.4*2.75",{"$f":"結構計算","v":{"$error":"#NAME?"}},"F","0.65*2.75",{"$error":"#NAME?"},"#3","1.3*28",{"$error":"#NAME?"},"#8","(3.65+0.4*2)*2",{"$error":"#NAME?"}]
[null,null,null,null,null,null,null,null,null,null,"#8","(3.35+0.4*2)*2",{"$error":"#NAME?"}]
["1F J0",280,"0.25*0.4*1.4",{"$f":"結構計算","v":{"$error":"#NAME?"}},"F","1.05*1.4",{"$error":"#NAME?"},"#3","1.3*14",{"$error":"#NAME?"},"#8","(2.3+0.4*2)*2",{"$error":"#NAME?"}]
[null,null,null,null,null,null,null,null,null,null,"#8","(2+0.4*2)*2",{"$error":"#NAME?"}]
["1F J0",280,"0.25*0.4*2.6",{"$f":"結構計算","v":{"$error":"#NAME?"}},"F","0.75*2.6",{"$error":"#NAME?"},"#3","1.3*26",{"$error":"#NAME?"},"#8","(3.7+0.4*2)*2",{"$error":"#NAME?"}]
[null,null,null,null,null,null,null,null,null,null,"#8","(3.7+0.4*2)*2",{"$error":"#NAME?"}]
["1F J0",280,"0.25*0.4*2.5",{"$f":"結構計算","v":{"$error":"#NAME?"}},"F","0.75*2.5",{"$error":"#NAME?"},"#3","1.3*25",{"$error":"#NAME?"},"#8","(3.4+0.4*2)*2",{"$error":"#NAME?"}]
[null,null,null,null,null,null,null,null,null,null,"#8","(3.1+0.4*2)*2",{"$error":"#NAME?"}]
["1F J1a",280,"0.5*1.96*8.2",{"$f":"結構計算","v":{"$error":"#NAME?"}},"F","3.92*8.2",{"$error":"#NAME?"},"#4","5.12*2*55",{"$error":"#NAME?"},"#10","(9.3+0.55*2+2.87)*3",{"$error":"#NAME?"},{"$f":"3.85*2+3.55*2+3.85*2+3.55*2","v":29.6}]
[null,null,null,null,null,null,null,"#4","9.3*14",{"$error":"#NAME?"},"#10","(9.3+0.55*2+2.21)*4",{"$error":"#NAME?"},{"$f":"6.5*1+5.9*2","v":18.3}]
[null,null,null,null,null,null,null,null,null,null,"#10","29.6+18.3",{"$error":"#NAME?"}]
["1F J1b~J1e",280,"0.5*0.8*41",{"$f":"結構計算","v":{"$error":"#NAME?"}},"F","1.5*41",{"$f":"結構計算","v":{"$error":"#NAME?"}},"#4","2.7*(2*68*3+2*70)",{"$f":"結構計算","v":{"$error":"#NAME?"}},"#10","(43.9+0.55*2+2.87*4)*4",{"$error":"#NAME?"},{"$f":"4.5*1+4.2*5+7.4*1*2+6.8*5*2+7.5*1+6.9*5+4.3*1","v":154.60000000000002}]
[{"$f":"10.2*3+10.4","v":41},null,null,null,null,null,null,"#5","(43.9+0.89*4)*4",null,"#10","(43.9+0.55*2+2.21*4)*4",{"$error":"#NAME?"},{"$f":"(41.9+0.55+2.21*4)*1+6.7*4+7.3*1+6.7*4*2+7.3*1*2+6.8*4+7.4*1","v":188.18999999999997}]
[{"$f":"41+0.6*5","v":44},null,null,null,null,null,null,null,null,null,"#10","154.6+188.19+0.5*(21+24)",{"$error":"#NAME?"}]
["1F J2",280,"0.5*0.8*7.8",{"$f":"結構計算","v":{"$error":"#NAME?"}},"F","1.7*7.8+0.2*2.2",{"$f":"結構計算","v":{"$error":"#NAME?"}},"#4","2.7*53",{"$f":"結構計算","v":{"$error":"#NAME?"}},"#10","(8.9+0.55*2+2.87)*4",{"$error":"#NAME?"}]
[null,null,null,null,null,null,null,null,null,null,"#10","(8.7+0.55*2+2.21)*4+20.8",{"$error":"#NAME?"},{"$f":"4.9*2+5.5*2","v":20.8}]
["1F J3a~J3b",280,"0.5*0.8*20.4",{"$f":"結構計算","v":{"$error":"#NAME?"}},"F","1.7*20.4",{"$f":"結構計算","v":{"$error":"#NAME?"}},"#4","2.7*(86+86)",{"$f":"結構計算","v":{"$error":"#NAME?"}},"#10","(22.2+0.55*2+2.87*2)*3",{"$error":"#NAME?"},{"$f":"4.3*1*2+7.6*1+7*4","v":44.2}]
[{"$f":"10.2*2","v":20.399999999999999},null,null,null,null,null,null,null,null,null,"#10","(10.7+0.55*2+2.21)*3*2",{"$error":"#NAME?"},{"$f":"7.1*1*2+6.6*4*2","v":67}]
[{"$f":"20.4+0.6*3","v":22.2},null,null,null,null,null,null,null,null,null,"#10","44.2+67",{"$error":"#NAME?"}]
["1F J4a~J4b",280,"0.5*0.8*10.2",{"$f":"結構計算","v":{"$error":"#NAME?"}},"F","1.7*10.2",{"$f":"結構計算","v":{"$error":"#NAME?"}},"#4","2.7*102",{"$error":"#NAME?"},"#10","(22.3+0.55*2+2.87*2)*3",{"$error":"#NAME?"},{"$f":"4.65*2+4.35*5+7.7*2+7.1*5+4.65*1+4.35*2+(11.5+0.55*2+2.87)*3+4.65*1+4.35*7","v":176.81}]
[{"$f":"10.2+10.4","v":20.6},280,"0.7*2.06*10.4",{"$f":"結構計算","v":{"$error":"#NAME?"}},"F","4.42*10.4",{"$error":"#NAME?"},"#4","5.75*(2*68)",{"$error":"#NAME?"},"#10","(10.7+0.55*2+2.21)*5",{"$error":"#NAME?"},{"$f":"7.2*5","v":36}]
[{"$f":"20.6+0.6*3","v":22.400000000000002},null,null,null,null,null,null,"#4","(11.2+0.71)*12",{"$error":"#NAME?"},"#10","(11.2+0.55*2+2.21)*10",{"$error":"#NAME?"},{"$f":"7.4*6","v":44.400000000000006}]
[null,null,null,null,null,null,null,null,null,null,"#10","176.81+36+44.4+0.5*13+0.7*13",{"$error":"#NAME?"}]
["1F J6a~J6d",280,"0.4*0.7*37",{"$f":"結構計算","v":{"$error":"#NAME?"}},"F","1.4*37",{"$f":"結構計算","v":{"$error":"#NAME?"}},"#4","2.3*(52+86+86+87)",{"$error":"#NAME?"},"#10","(39.7+0.55*2+2.87*4)*3",{"$error":"#NAME?"},{"$f":"4.3*1+7.6*1+7*4+7.5*1+6.9*4+7.55*1+6.95*4","v":110.35}]
[{"$f":"6.2+10.2*2+10.4","v":37},null,null,null,null,null,null,null,null,null,"#10","(6.9+0.55*2)*3",{"$error":"#NAME?"},{"$f":"5.6*1+2.9*4","v":17.2}]
[{"$f":"37+0.6*4+0.4","v":39.799999999999997},null,null,null,null,null,null,null,null,null,"#10","(10.7+0.55*2+2.21)*3*2",{"$error":"#NAME?"},{"$f":"6.7*4+7.3*1","v":34.1}]
[null,null,null,null,null,null,null,null,null,null,"#10","(10.9+0.55*2+2.21)*3",{"$error":"#NAME?"},{"$f":"7.4*1+6.8*4","v":34.6}]
[null,null,null,null,null,null,null,null,null,null,"#10","110.35+17.2+34.1+34.6",{"$error":"#NAME?"}]
[null,null,null,null,null,null,null,null,null,null,"#10","0.4*(18+21)",{"$f":"結構計算","v":{"$error":"#NAME?"}}]
["1F J7b~J7e",280,"0.4*0.7*41",{"$f":"結構計算","v":{"$error":"#NAME?"}},"F","1.4*41",{"$f":"結構計算","v":{"$error":"#NAME?"}},"#4","2.3*(86*3+87)",{"$f":"結構計算","v":{"$error":"#NAME?"}},"#10","(43.9+0.55*2+2.87*4)*3",{"$error":"#NAME?"},{"$f":"4.55*1+4.25*4+7.5*1*2+6.9*4*2+7.55*1+6.95*4","v":127.1}]
[null,null,null,null,null,null,null,null,null,null,"#10","(10.7+0.55*2+2.21)*3*3",{"$f":"結構計算","v":{"$error":"#NAME?"}},{"$f":"6.7*4*3+7.3*1*3","v":102.30000000000001}]
[null,null,null,null,null,null,null,null,null,null,"#10","(10.9+0.55*2+2.21)*3",{"$error":"#NAME?"},{"$f":"6.8*4+7.4*1","v":34.6}]
[null,null,null,null,null,null,null,null,null,null,"#10","127.1+102.3+37.6+0.4*(21+24)",{"$error":"#NAME?"}]
["1F J8",280,"0.4*0.7*7.8*2",{"$f":"結構計算","v":{"$error":"#NAME?"}},"F","1.4*7.8*2+0.2*4.05*3",{"$f":"結構計算","v":{"$error":"#NAME?"}},"#4","2.3*80*2",{"$f":"結構計算","v":{"$error":"#NAME?"}},"#10","(8.9+0.55*2+2.87)*4*2",{"$error":"#NAME?"}]
[null,null,null,null,null,null,null,null,null,null,"#10","(8.3+0.55*2+2.21)*4*2",{"$error":"#NAME?"},{"$f":"5.5*4","v":22}]
[null,null,null,null,null,null,null,null,null,null,"#10","22*2+0.4*5",{"$error":"#NAME?"}]
["1F J9a~J9d",280,"0.4*0.7*39.2",{"$f":"結構計算","v":{"$error":"#NAME?"}},"F","1.4*39.2",{"$f":"結構計算","v":{"$error":"#NAME?"}},"#4","2.3*(86*3+72)",{"$f":"結構計算","v":{"$error":"#NAME?"}},"#10","(41.9+0.55*2+2.87*4)*3",{"$error":"#NAME?"},{"$f":"4.3*1+7.55*1+6.95*4+7.5*1+6.9*4+6.7*1+6.1*4","v":105.85}]
[{"$f":"10.2*3+8.6","v":39.199999999999996},null,null,null,null,null,null,null,null,null,"#10","(10.7+0.55*2+2.21)*3*3",{"$error":"#NAME?"},{"$f":"9.55+6.9*4+6.7*4*2+7.3*1*2","v":105.35}]
[{"$f":"39.2+0.6*4+0.4","v":42},null,null,null,null,null,null,null,null,null,"#10","(9.3+0.55*2+2.21)*3",{"$error":"#NAME?"},{"$f":"8.1*2+8.4*1","v":24.6}]
[null,null,null,null,null,null,null,null,null,null,"#10","105.85+105.35+24.6+0.4*(32+26)",{"$error":"#NAME?"}]
["1F J10",280,"0.3*0.5*6.4",{"$f":"結構計算","v":{"$error":"#NAME?"}},"F","1.1*6.4",{"$f":"結構計算","v":{"$error":"#NAME?"}},"#4","1.7*65",{"$f":"結構計算","v":{"$error":"#NAME?"}},"#8","(6.9+0.4*2)*4",{"$error":"#NAME?"}]
[" 缺詳",null,null,null,null,null,null,null,null,null,"#8","(6.9+0.4*2)*6",{"$error":"#NAME?"}]
["1F J11",280,"0.5*0.7*10.6",{"$f":"結構計算","v":{"$error":"#NAME?"}},"F","1.9*10.6",{"$f":"結構計算","v":{"$error":"#NAME?"}},"#4","2.5*2*106",{"$f":"結構計算","v":{"$error":"#NAME?"}},"#8","(11.3+0.4*2+2.26)*4",{"$error":"#NAME?"}]
[null,null,null,null,null,null,null,null,null,null,"#8","(11.3+0.4*2+1.74)*4+24.9",{"$error":"#NAME?"},{"$f":"8.3*3","v":24.900000000000002}]
["1F J12",280,"0.5*0.7*8.4",{"$f":"結構計算","v":{"$error":"#NAME?"}},"F","1.7*8.4",{"$error":"#NAME?"},"#4","2.5*2*84",{"$error":"#NAME?"},"#8","(9.5+0.4*2+2.26)*4",{"$error":"#NAME?"}]
[null,null,null,null,null,null,null,null,null,null,"#8","(8.9+0.4*2+1.74)*4+18.3",{"$error":"#NAME?"},{"$f":"6.1*3","v":18.299999999999997}]
["1F J13a~J13b",280,"0.4*0.7*7.95",{"$f":"結構計算","v":{"$error":"#NAME?"}},"F","1.4*7.95",{"$error":"#NAME?"},"#4","2.3*(44+35)",{"$error":"#NAME?"},"#8","(9.65+0.4*2+2.26)*3",{"$error":"#NAME?"},{"$f":"4.4*2+3.8*3","v":20.2}]
[{"$f":"4.4+3.55","v":7.95},null,null,null,null,null,null,null,null,null,"#8","(9.65+0.4*2+1.74)*4",{"$error":"#NAME?"},{"$f":"2.8*2+8.9*1","v":14.5}]
[{"$f":"7.95+0.6+0.7+0.5","v":9.75},null,null,null,null,null,null,null,null,null,"#8","20.2+14.5+.4*2",{"$error":"#NAME?"}]
["1F J14",280,"0.3*0.5*5.15*2",{"$f":"結構計算","v":{"$error":"#NAME?"}},"F","1.1*5.15*2",{"$f":"結構計算","v":{"$error":"#NAME?"}},"#4","1.6*52*2",{"$f":"結構計算","v":{"$error":"#NAME?"}},"#8","(6.05+0.4*2)*3*2",{"$error":"#NAME?"},{"$f":"4.4*2+3.8*3","v":20.2}]
[null,null,null,null,null,null,null,null,null,null,"#8","(5.75+0.4*2)*5*2",{"$error":"#NAME?"},{"$f":"2.8*2+8.9*1","v":14.5}]
["1F J16a~J16b",280,"0.3*0.5*4.85",{"$f":"結構計算","v":{"$error":"#NAME?"}},"F","1.1*4.85",{"$error":"#NAME?"},"#4","1.6*(17+33)",{"$error":"#NAME?"},"#8","(6.15+0.4*2)*3",{"$error":"#NAME?"},{"$f":"4.4*2+3.8*3","v":20.2}]
[{"$f":"1.6+3.25","v":4.8499999999999996},null,null,null,null,null,null,null,null,null,"#8","(5.85+0.4*2)*3",{"$error":"#NAME?"},{"$f":"2.8*2+8.9*1","v":14.5}]
["1F J17a~J17b",280,"0.3*0.5*5",{"$f":"結構計算","v":{"$error":"#NAME?"}},"F","1.1*5",{"$error":"#NAME?"},"#4","1.6*(18+23)",{"$error":"#NAME?"},"#8","(6.3+0.4*2)*4",{"$error":"#NAME?"},{"$f":"4.4*2+3.8*3","v":20.2}]
[{"$f":"2.75+2.25","v":5},null,null,null,null,null,null,null,null,null,"#8","(3.35+0.4*2)*2+(2.45+0.4*2)*2",{"$error":"#NAME?"},{"$f":"2.8*2+8.9*1","v":14.5}]
["1F J18a~J18b",280,"0.5*0.8*11.5",{"$f":"結構計算","v":{"$error":"#NAME?"}},"F","1.5*11.5",{"$f":"結構計算","v":{"$error":"#NAME?"}},"#4","2.7*(37+60)",{"$f":"結構計算","v":{"$error":"#NAME?"}},"#10","(13.1+0.55*2+2.87)*3",{"$error":"#NAME?"},{"$f":"8.65*1+5.55*2+4.95*2+3.65*2+3.35*4","v":50.349999999999994}]
[{"$f":"4.4+7.1","v":11.5},null,null,null,null,null,null,"#4","(13.1+0.71)*4",{"$error":"#NAME?"},"#10","(12.8+0.55*2+2.21)*3",{"$error":"#NAME?"},{"$f":"3.1*3+4.5*3+5.1*2","v":33}]
[{"$f":"11.5+0.6+0.7+0.6","v":13.399999999999999},null,null,null,null,null,null,null,null,null,"#10","50.35+33+0.5*(2+4)",{"$error":"#NAME?"}]
["增築",280,"0.5*1.26*1.25",{"$f":"結構計算","v":{"$error":"#NAME?"}},"F","1.26*2*1.25",{"$f":"結構計算","v":{"$error":"#NAME?"}},"#5","5.1*9",{"$f":"結構計算","v":{"$error":"#NAME?"}},"#10","(1.25+0.88+0.5)*5",{"$error":"#NAME?"}]
[null,null,null,null,null,null,null,"#5","1.25*8",{"$error":"#NAME?"}]
["1F J18c",280,"0.4*0.7*8.4",{"$f":"結構計算","v":{"$error":"#NAME?"}},"F","1.4*8.4",{"$error":"#NAME?"},"#4","2.3*71",{"$f":"結構計算","v":{"$error":"#NAME?"}},"#10","(9.5+0.55*2+2.87)*3",{"$error":"#NAME?"},{"$f":"4*2*2+3.7*2*2","v":30.8}]
[null,null,null,null,null,null,null,null,null,null,"#10","(8.9+0.55*2+2.21)*3",{"$error":"#NAME?"},{"$f":"8*1+6*1+5.7*2","v":25.4}]
[null,null,null,null,null,null,null,null,null,null,"#10","30.8+25.4",{"$error":"#NAME?"}]
["1F J18d",280,"0.4*0.7*8.4*2",{"$f":"結構計算","v":{"$error":"#NAME?"}},"F","1.4*8.4*2",{"$f":"結構計算","v":{"$error":"#NAME?"}},"#4","2.3*71*2",{"$f":"結構計算","v":{"$error":"#NAME?"}},"#10","(9.5+0.55*2+2.87)*3*2",{"$error":"#NAME?"},{"$f":"4*2*2+3.7*2*2","v":30.8}]
[null,null,null,null,null,null,null,null,null,null,"#10","(8.9+0.55*2+2.21)*3*2",{"$error":"#NAME?"},{"$f":"6*2+5.4*2","v":22.8}]
[null,null,null,null,null,null,null,null,null,null,"#10","(30.8+22.8)*2",{"$error":"#NAME?"}]
["1F J18e~J18f",280,"0.4*0.7*16.8",{"$f":"結構計算","v":{"$error":"#NAME?"}},"F","1.4*16.8",{"$error":"#NAME?"},"#4","2.3*(71+71)",{"$f":"結構計算","v":{"$error":"#NAME?"}},"#10","(18.5+0.55*2+2.87)*3",{"$error":"#NAME?"},{"$f":"4*2+3.7*2+6.4*2+5.8*2+4.05*1","v":43.85}]
[{"$f":"8.4+8.4","v":16.8},null,null,null,null,null,null,null,null,null,"#10","(8.9+0.55*2)*3*2",{"$error":"#NAME?"},{"$f":"5.4*2+6*2+5.4*2+6*1+8*1","v":47.6}]
[{"$f":"16.8+0.6*3","v":18.600000000000001},null,null,null,null,null,null,null,null,null,"#10","43.85+47.6",{"$error":"#NAME?"}]
["1F J19a~J19b",280,"0.5*0.8*11.5",{"$f":"結構計算","v":{"$error":"#NAME?"}},"F","1.5*11.5",{"$f":"結構計算","v":{"$error":"#NAME?"}},"#4","2.7*(37+54)",{"$f":"結構計算","v":{"$error":"#NAME?"}},"#10","(13+0.55*2+2.87)*4",{"$error":"#NAME?"},{"$f":"5.55*2+4.95*2+3.4+3.1*5","v":39.9}]
[{"$f":"4.4+7.1","v":11.5},null,null,null,null,null,null,"#4","(13.+0.71)*4",{"$error":"#NAME?"},"#10","(13+0.55*2+2.21)*3",{"$error":"#NAME?"},{"$f":"(11.85+0.55+2.21)*1+3.1*2+4.5*3+5.1*2","v":44.510000000000005}]
[{"$f":"11.5+0.6+0.7+0.3","v":13.1},null,null,null,null,null,null,null,null,null,"#10","39.9+44.5+0.5*(6+4)",{"$error":"#NAME?"}]
["增築",280,"0.5*1.26*2.55",{"$f":"結構計算","v":{"$error":"#NAME?"}},"F","1.26*2*2.55",{"$f":"結構計算","v":{"$error":"#NAME?"}},"#5","4.44*21",{"$f":"結構計算","v":{"$error":"#NAME?"}},"#10","(2.55+0.88+0.5)*5",{"$error":"#NAME?"}]
[null,null,null,null,null,null,null,"#5","2.55*8",{"$error":"#NAME?"}]
["1F J19c~J19f",280,"0.4*0.7*33.6",{"$f":"結構計算","v":{"$error":"#NAME?"}},"F","1.4*33.6",{"$f":"結構計算","v":{"$error":"#NAME?"}},"#4","2.3*(64*4)",{"$error":"#NAME?"},"#10","(36.5+0.55*2+2.87*3)*3",{"$error":"#NAME?"},{"$f":"4*2+3.7*2+6.4*2*2+5.8*2*2+6.45*2+5.85*2+3.75*1","v":92.550000000000011}]
[{"$f":"8.4*4","v":33.6},null,null,null,null,null,null,null,null,null,"#10","(8.9+0.55*2)*3*4",{"$error":"#NAME?"},{"$f":"8*1+5.7*2+6*1+5.4*2+6*2+5.4*2+6*2+5.7*2+6*2","v":94.4}]
[{"$f":"33.6+0.6*5","v":36.6},null,null,null,null,null,null,null,null,null,"#10","92.55+94.4",{"$error":"#NAME?"}]
["1F J20a~J20b",280,"0.5*0.8*11.5",{"$f":"結構計算","v":{"$error":"#NAME?"}},"F","1.5*11.5",{"$f":"結構計算","v":{"$error":"#NAME?"}},"#4","2.7*(37+54)",{"$f":"結構計算","v":{"$error":"#NAME?"}},"#10","(13+0.55*2+2.87)*4",{"$error":"#NAME?"},{"$f":"5.55*2+4.95*2+3.4+3.1*5","v":39.9}]
[{"$f":"4.4+7.1","v":11.5},null,null,null,null,null,null,"#4","(13.+0.71)*4",{"$error":"#NAME?"},"#10","(13+0.55*2+2.21)*3",{"$error":"#NAME?"},{"$f":"(11.85+0.55+2.21)*1+3.1*2+4.5*3+5.1*2","v":44.510000000000005}]
[{"$f":"11.5+0.6+0.7+0.3","v":13.1},null,null,null,null,null,null,null,null,null,"#10","39.9+44.5+0.5*(6+4)",{"$error":"#NAME?"}]
["增築",280,"0.5*1.26*1.25",{"$f":"結構計算","v":{"$error":"#NAME?"}},"F","1.26*2*1.25",{"$f":"結構計算","v":{"$error":"#NAME?"}},"#5","4.44*11",{"$f":"結構計算","v":{"$error":"#NAME?"}},"#10","(1.25+0.88+0.5)*5",{"$error":"#NAME?"}]
[null,null,null,null,null,null,null,"#5","1.25*8",{"$error":"#NAME?"}]
["1F J20c",280,"0.4*0.7*5.3",{"$f":"結構計算","v":{"$error":"#NAME?"}},"F","1.4*5.3",{"$f":"結構計算","v":{"$error":"#NAME?"}},"#4","2.3*44",{"$error":"#NAME?"},"#10","(6.3+0.55*2)*3",{"$error":"#NAME?"},{"$f":"3.4*2+3.1*2+2.9*1","v":15.9}]
[null,null,null,null,null,null,null,null,null,null,"#10","(6+0.55*2)*4",{"$error":"#NAME?"},{"$f":"3.8*2","v":7.6}]
[null,null,null,null,null,null,null,null,null,null,"#10","15.9+7.6",{"$error":"#NAME?"}]
["1F J21a~J21c",280,"0.4*0.7*25.2",{"$f":"結構計算","v":{"$error":"#NAME?"}},"F","1.4*25.2",{"$f":"結構計算","v":{"$error":"#NAME?"}},"#4","2.3*(64*3)",{"$f":"結構計算","v":{"$error":"#NAME?"}},"#10","(27.6+0.55*2+2.87*2)*3",{"$error":"#NAME?"},{"$f":"3.75*1*2+6.45*1*2+5.85*4*2","v":67.199999999999989}]
[{"$f":"8.4*3","v":25.200000000000003},null,null,null,null,null,null,null,null,null,"#10","(8.9+0.55*2)*3*3",{"$error":"#NAME?"},{"$f":"8*2+5.6*4*2+5.4*4+6","v":88.4}]
[{"$f":"25.2+0.6*4","v":27.599999999999998},null,null,null,null,null,null,null,null,null,"#10","67.2+88.4",{"$error":"#NAME?"}]
["1F J22a~J22c",280,"0.5*0.8*15.45",{"$f":"結構計算","v":{"$error":"#NAME?"}},"F","1.5*15.45",{"$f":"結構計算","v":{"$error":"#NAME?"}},"#4","2.7*(31+54+53)",{"$f":"結構計算","v":{"$error":"#NAME?"}},"#10","(17.95+0.55*2+2.87)*3",{"$error":"#NAME?"},{"$f":"5.3*3+4.7*2+(16.85+2.87)*1+5.6*5+9.65","v":82.67}]
[{"$f":"3.35+7+5.1","v":15.45},null,null,null,null,null,null,"#4","(17.95+0.71)*4",{"$error":"#NAME?"},"#10","(17.95+0.55*2+2.21)*5",{"$error":"#NAME?"},{"$f":"4.4*3+5*1+2.7*2","v":23.6}]
[{"$f":"15.45+0.6+0.7+0.8+0.5","v":18.05},null,null,null,null,null,null,null,null,null,"#10","82.67+23.6+0.5*(4+4)",{"$error":"#NAME?"}]
["1F J22c~J22f",280,"0.4*0.7*27.8",{"$f":"結構計算","v":{"$error":"#NAME?"}},"F","1.4*27.8",{"$f":"結構計算","v":{"$error":"#NAME?"}},"#4","2.3*(18+64*3)",{"$f":"結構計算","v":{"$error":"#NAME?"}},"#10","(30.8+0.55*2+2.87*3)*3",{"$error":"#NAME?"},{"$f":"7*2+6.35*1+5.75*4+6.45*1+5.85*4+3.75","v":76.95}]
[{"$f":"2.6+8.4*3","v":27.800000000000004},null,null,null,null,null,null,null,null,null,"#10","(3.6+0.55*2)*4",{"$error":"#NAME?"}]
[{"$f":"27.8+0.7+0.6*4","v":30.9},null,null,null,null,null,null,null,null,null,"#10","(8.9+0.55*2)*3*3",{"$error":"#NAME?"},{"$f":"8.05*1+5.7*4+5.4*4+6*1+5.3*4+5.9*1","v":85.550000000000011}]
["1F J23",280,"0.4*0.7*8.4",{"$f":"結構計算","v":{"$error":"#NAME?"}},"F","1.6*8.4",{"$error":"#NAME?"},"#4","2.3*84",{"$error":"#NAME?"},"#10","(9.5+0.55*2+2.87)*3",{"$error":"#NAME?"},{"$f":"3.8*1*2","v":7.6}]
[8.4,null,null,null,null,null,null,null,null,null,"#10","(8.9+0.55*2)*4",{"$f":"結構計算","v":{"$error":"#NAME?"}},{"$f":"5.9*4","v":23.6}]
[null,null,null,null,null,null,null,null,null,null,"#10","7.6+23.6",{"$error":"#NAME?"}]
["1F J24a~J24c",280,"0.5*1.51*9.55",{"$f":"結構計算","v":{"$error":"#NAME?"}},"F","3.02*9.55",{"$f":"結構計算","v":{"$error":"#NAME?"}},"#4","4.22*(22+41+27)",{"$f":"結構計算","v":{"$error":"#NAME?"}},"#10","(11.65+0.55*2+2.87)*5",{"$error":"#NAME?"},{"$f":"(9.25+0.55*2+2.87)*2+3.7*3","v":37.54}]
[{"$f":"2+4.9+2.65","v":9.5500000000000007},null,null,null,null,null,null,"#4","(11.65+0.71)*10",{"$error":"#NAME?"},"#10","(11.65+0.55*2+2.21)*5",{"$error":"#NAME?"}]
[{"$f":"9.55+0.5+0.5+0.7+0.5","v":11.75},null,null,null,null,null,null,null,null,null,"#10","37.54+0.5*2",{"$error":"#NAME?"}]
["1F J24d~J24e",280,"0.5*1.51*3.8",{"$f":"結構計算","v":{"$error":"#NAME?"}},"F","3.02*3.8",{"$error":"#NAME?"},"#4","4.22*(19+19)",{"$f":"結構計算","v":{"$error":"#NAME?"}},"#10","(5.2+0.55*2)*5",{"$error":"#NAME?"},{"$f":"(9.25+0.55*2+2.87)*2+3.7*3","v":37.54}]
[{"$f":"1.9+1.9","v":3.8},null,null,null,null,null,null,"#4","5.2*10",{"$error":"#NAME?"},"#10","(5.2+0.55*2)*5",{"$error":"#NAME?"}]
[{"$f":"3.8+0.5+0.5+0.5","v":5.3}]
["1F J24f~J24i",280,"0.5*1.51*15.9",{"$f":"結構計算","v":{"$error":"#NAME?"}},"F","3.02*15.9",{"$f":"結構計算","v":{"$error":"#NAME?"}},"#4","4.22*(26+2*41*2+2*28)",{"$f":"結構計算","v":{"$error":"#NAME?"}},"#10","(18.7+0.55*2+2.87*2)*5",{"$error":"#NAME?"},{"$f":"4.7*3+(17.15+0.55+2.87)*2+4.7*3","v":69.34}]
[{"$f":"2.65+4.9+4.9+3.45","v":15.900000000000002},null,null,null,null,null,null,"#4","(18.7+0.71)*10",{"$error":"#NAME?"},"#10","(18.7+0.55*2+2.21*2)*5",{"$error":"#NAME?"},{"$f":"7.8*2","v":15.6}]
[{"$f":"15.9+0.5+0.7+0.5+0.7+0.5","v":18.799999999999997},null,null,null,null,null,null,null,null,null,"#10","69.34+15.6+0.5*6",{"$error":"#NAME?"}]
["1F J25",280,"0.5*0.8*3.45",{"$f":"結構計算","v":{"$error":"#NAME?"}},"F","1.5*3.45",{"$f":"結構計算","v":{"$error":"#NAME?"}},"#4","2.7*2*29",{"$f":"結構計算","v":{"$error":"#NAME?"}},"#10","(4.45+0.55*2)*4",{"$error":"#NAME?"},{"$f":"3.8*1*2","v":7.6}]
[3.45,null,null,null,null,null,null,null,null,null,"#10","(4.45+0.55*2)*8+0.5*3",{"$error":"#NAME?"},{"$f":"5.9*4","v":23.6}]
["1F J26",280,"0.5*0.8*3.45",{"$f":"結構計算","v":{"$error":"#NAME?"}},"F","1.5*3.45",{"$error":"#NAME?"},"#4","2.7*2*29",{"$error":"#NAME?"},"#10","(4.45+0.55*2)*4",{"$error":"#NAME?"},{"$f":"3.8*1*2","v":7.6}]
[3.45,null,null,null,null,null,null,null,null,null,"#10","(4.45+0.55*2)*8+0.5*3",{"$error":"#NAME?"},{"$f":"5.9*4","v":23.6}]
["1F J27",280,"0.5*0.8*3.45",{"$f":"結構計算","v":{"$error":"#NAME?"}},"F","1.5*3.45",{"$error":"#NAME?"},"#4","2.7*2*29",{"$error":"#NAME?"},"#10","(4.45+0.55*2)*4",{"$error":"#NAME?"},{"$f":"3.8*1*2","v":7.6}]
[3.45,null,null,null,null,null,null,null,null,null,"#10","(4.45+0.55*2)*8+0.5*3",{"$error":"#NAME?"},{"$f":"5.9*4","v":23.6}]
["1F J28",280,"0.5*0.8*3.45",{"$f":"結構計算","v":{"$error":"#NAME?"}},"F","1.5*3.45",{"$error":"#NAME?"},"#4","2.7*2*29",{"$error":"#NAME?"},"#10","(4.45+0.55*2)*4",{"$error":"#NAME?"},{"$f":"3.8*1*2","v":7.6}]
[3.45,null,null,null,null,null,null,null,null,null,"#10","(4.45+0.55*2)*8+0.5*3",{"$error":"#NAME?"},{"$f":"5.9*4","v":23.6}]
["1F J29",280,"0.4*0.7*5.15",{"$f":"結構計算","v":{"$error":"#NAME?"}},"F","1.7*5.15",{"$f":"結構計算","v":{"$error":"#NAME?"}},"#4","2.3*2*29",{"$f":"結構計算","v":{"$error":"#NAME?"}},"#10","(6.35+0.55*2)*4",{"$error":"#NAME?"},{"$f":"3.8*1*2","v":7.6}]
[null,null,null,null,null,null,null,null,null,null,"#10","(6.35+0.55*2)*8+0.4*5",{"$error":"#NAME?"},{"$f":"5.9*4","v":23.6}]
["1S1",280,"0.2*1281.89",{"$f":"結構計算","v":{"$error":"#NAME?"}},"A","1281.89*1",{"$f":"結構計算","v":{"$error":"#NAME?"}},"#4","52*1281.89",{"$f":"結構計算","v":{"$error":"#NAME?"}},null,null,null,{"$f":"8*(5.1+4.9*6+3.3)+8.4*(5.1+4.9*6+5.2)+8*(2.9*2+4.9*5+5.2)+8*7.9*4+2.5*4.35+2.5*4.9+5.1*4.9*2+5.5*3.45+2.15*2.75+3.45*3.25","v":1281.885},{"$f":"8*37.8","v":302.39999999999998},{"$f":"(42+0.4+0.71*4)*(43*2+39*2)+10.76*(52+50*6+34)*2","v":15726.079999999998},{"$f":"+P578/O578","v":52.004232804232799}]
["1S2",280,"0.2*156.03",{"$f":"結構計算","v":{"$error":"#NAME?"}},"A","156.03*1",{"$error":"#NAME?"},"#4","52.5*156.03",{"$error":"#NAME?"},null,null,null,{"$f":"3.45*1.6+3.45*8.8+7.8*2.95+5.15*2.95+5.15*2.45+2.25*6.4+1.4*8.35+3.25*(1.25+1.75)+0.85*(2.05+4.9+2.65)+0.85*2.4+2.55*1.9*2+0.85*(2.65+4.95*2+3.45)","v":156.03}]
["1S3",280,"0.3*483.43",{"$f":"結構計算","v":{"$error":"#NAME?"}},"A","483.43*1",{"$error":"#NAME?"},"#6","56.27*483.43",{"$error":"#NAME?"},null,null,null,{"$f":"4.4*37.1+3.55*7.8+3.25*4.9*8+2.97*4.9+3.87*4.9+5.2*10.95+1.1*(5.1+3.35)+2.2*15.9+0.9*1.9*2+2.2*9.6+2.65*2.2","v":483.4310000000001},{"$f":"7.95*7.4","v":58.830000000000005},{"$f":"10.18*(36*2+45*2)+10.93*38*2*2","v":3310.5199999999995},{"$f":"+P580/O580","v":56.272650008499049}]
["1S5",280,"0.45*70.4",{"$f":"結構計算","v":{"$error":"#NAME?"}},"A","70.4*1",{"$error":"#NAME?"},"#6","56.27*70.4",{"$error":"#NAME?"},null,null,null,{"$f":"8*8.8","v":70.400000000000006}]
["1S6",280,"0.2*27.88",{"$f":"結構計算","v":{"$error":"#NAME?"}},"A","27.88*1",{"$error":"#NAME?"},"#4","46.07*27.88",{"$error":"#NAME?"},null,null,null,{"$f":"3.4*8.2","v":27.879999999999995},{"$f":"4.9*83*2+10.48*23*2","v":1295.48},{"$f":"+O582/N582","v":46.466284074605461}]
["以上B1F,以下1F"]
["1F SRC C4 RC包覆H=500",280,"(1*1-0.49)*5*11",{"$f":"結構計算","v":{"$error":"#NAME?"}},"F","4*5*11",{"$f":"結構計算","v":{"$error":"#NAME?"}},"#4","7.05*50*11",{"$f":"結構計算","v":{"$error":"#NAME?"}},"#10","5*12*11",{"$error":"#NAME?"}]
[null,null,null,null,null,null,null,"#6","(5+0.3)*12*11",{"$error":"#NAME?"},"#10T","12*11",{"$error":"#NAME?"}]
[null,null,null,null,null,null,null,"#6T","12*11",{"$error":"#NAME?"}]
["1F SRC C5 RC包覆H=500",280,"(1*1-0.49)*5*12",{"$f":"結構計算","v":{"$error":"#NAME?"}},"F","4*5*12",{"$error":"#NAME?"},"#4","7.05*50*12",{"$error":"#NAME?"},"#10","5*12*12",{"$error":"#NAME?"}]
[null,null,null,null,null,null,null,"#6","(5+0.3)*12*12",{"$error":"#NAME?"},"#10T","12*12",{"$error":"#NAME?"}]
[null,null,null,null,null,null,null,"#6T","12*12",{"$error":"#NAME?"}]
["1F SRC C6 RC包覆H=500",280,"(1*1-0.49)*5*4",{"$f":"結構計算","v":{"$error":"#NAME?"}},"F","4*5*4",{"$f":"結構計算","v":{"$error":"#NAME?"}},"#4","7.05*50*4",{"$error":"#NAME?"},"#10","5*12*4",{"$error":"#NAME?"}]
[null,null,null,null,null,null,null,"#6","(5+0.3)*12*4",{"$error":"#NAME?"},"#10T","12*4",{"$error":"#NAME?"}]
[null,null,null,null,null,null,null,"#6T","12*4",{"$error":"#NAME?"}]
["1F SRC C7 RC包覆H=500",280,"(1*1-0.49)*5*2",{"$f":"結構計算","v":{"$error":"#NAME?"}},"F","4*5*2",{"$error":"#NAME?"},"#4","7.05*50*2",{"$error":"#NAME?"},"#10","5*12*2",{"$error":"#NAME?"}]
[null,null,null,null,null,null,null,"#6","(5+0.3)*12*2",{"$error":"#NAME?"},"#10T","12*2",{"$error":"#NAME?"}]
[null,null,null,null,null,null,null,"#6T","12*2",{"$error":"#NAME?"}]
["1F 25CM撐牆",280,"0.25*19.84",{"$f":"結構計算","v":{"$error":"#NAME?"}},"F","19.84*2",{"$f":"結構計算","v":{"$error":"#NAME?"}},"#4","13.75*19.84",{"$error":"#NAME?"},"#5","35.44*19.84",{"$error":"#NAME?"},{"$f":"0.8*(8.8+4*4)","v":19.840000000000003}]
["上層板",280,"0.2*13.37",{"$f":"結構計算","v":{"$error":"#NAME?"}},"F","13.37*1",{"$error":"#NAME?"},"#4","52.4*13.37",{"$error":"#NAME?"},null,null,null,{"$f":"1.9*-1.85*2+4*1.9+4*1.6*2","v":13.370000000000001}]
["1F 15CM RC牆",280,"0.15*780.51",{"$f":"結構計算","v":{"$error":"#NAME?"}},"F","780.51*2",{"$error":"#NAME?"},"#4","30.73*780.51",{"$error":"#NAME?"},"S19*200","40*6",{"$error":"#NAME?"},{"$f":"6*(7.4+5.15*2+2.25+0.5+4.65*2+3.8+2.77+12.2+5.52+6.5+2.77+8+9*2+9.4+1*6*4+2.3+1.2+2)+1.25*(1.5+3)*2","v":780.51}]
["2F DS1",280,"0.16*1953.5",{"$f":"結構計算","v":{"$error":"#NAME?"}},"DS1","1953.5*1.1",{"$error":"#NAME?"},"W1","1953.5*1.26",{"$error":"#NAME?"},"#4","6*1953.5",{"$error":"#NAME?"},{"$f":"52.76*28.16-1.4*6.1-4.1*9.3+7.37*2.55+8.4*42.7-2.5*5.4+1.5*31.2+3.95*11.43-2.2*5+3.53*3.6+2.04*27.85","v":1953.4956}]
["2F 過牆鋼樑包覆RC SG1",280,"0.55*1*7.7*3",{"$f":"結構計算","v":{"$error":"#NAME?"}},"F","2.3*7.7*3",{"$error":"#NAME?"},"#4","3.3*52*3",{"$error":"#NAME?"},"#5","(7.7+2)*8*3",{"$error":"#NAME?"}]
[null,null,null,null,null,null,null,"#4","7.7*3*3",{"$error":"#NAME?"}]
[null,280,"0.55*1*13.1",{"$f":"結構計算","v":{"$error":"#NAME?"}},"F","2.3*13.1",{"$error":"#NAME?"},"#4","3.3*88",{"$error":"#NAME?"},"#5","(13.1+0.89+2)*8",{"$error":"#NAME?"}]
[null,null,null,null,null,null,null,"#4","(13.1+0.71)*3",{"$error":"#NAME?"}]
[null,280,"0.55*1*12.2",{"$f":"結構計算","v":{"$error":"#NAME?"}},"F","2.3*12.2",{"$error":"#NAME?"},"#4","3.3*82",{"$error":"#NAME?"},"#5","(12.2+0.89+2)*8",{"$error":"#NAME?"}]
[null,null,null,null,null,null,null,"#4","(12.2+0.71)*3",{"$error":"#NAME?"}]
[null,280,"0.55*1*10.1",{"$f":"結構計算","v":{"$error":"#NAME?"}},"F","2.3*10.1",{"$error":"#NAME?"},"#4","3.3*68",{"$error":"#NAME?"},"#5","(10.1+0.89+2)*8",{"$error":"#NAME?"}]
[null,null,null,null,null,null,null,"#4","(10.1+0.71)*3",{"$error":"#NAME?"}]
["2F 過牆鋼樑包覆RC SG3",280,"0.5*1*8.3",{"$f":"結構計算","v":{"$error":"#NAME?"}},"F","2.25*8.3",{"$error":"#NAME?"},"#4","3.2*56",{"$error":"#NAME?"},"#5","(8.3+2)*8",{"$error":"#NAME?"}]
[null,null,null,null,null,null,null,"#4","8.3*3",{"$error":"#NAME?"}]
[null,280,"0.5*1*2.8",{"$f":"結構計算","v":{"$error":"#NAME?"}},"F","2.25*2.8",{"$error":"#NAME?"},"#4","3.2*19",{"$error":"#NAME?"},"#5","(2.8+2)*8",{"$error":"#NAME?"}]
[null,null,null,null,null,null,null,"#4","2.8*3",{"$error":"#NAME?"}]
["2F 過牆鋼樑包覆RC SJ1",280,"0.4*0.8*5.2*2",{"$f":"結構計算","v":{"$error":"#NAME?"}},"F","1.8*5.2*2",{"$error":"#NAME?"},"#4","2.6*35*2",{"$error":"#NAME?"},"#5","(5.2+2)*8*2",{"$error":"#NAME?"}]
[null,null,null,null,null,null,null,"#4","5.2*3*2",{"$error":"#NAME?"}]
[null,280,"0.4*0.8*4.6*2",{"$f":"結構計算","v":{"$error":"#NAME?"}},"F","1.8*4.6*2",{"$error":"#NAME?"},"#4","2.6*31*2",{"$error":"#NAME?"},"#5","(4.6+2)*8*2",{"$f":"結構計算","v":{"$error":"#NAME?"}}]
[null,null,null,null,null,null,null,"#4","4.6*3*2",{"$error":"#NAME?"}]
["2F 過牆鋼樑包覆RC SJ4",280,"0.4*0.65*2.8*2",{"$f":"結構計算","v":{"$error":"#NAME?"}},"F","1.4*2.8*2",{"$error":"#NAME?"},"#4","2.3*19*2",{"$error":"#NAME?"},"#5","(2.8+2)*8*2",{"$f":"結構計算","v":{"$error":"#NAME?"}}]
[null,null,null,null,null,null,null,"#4","2.8*3*2",{"$error":"#NAME?"}]
["2F 過牆鋼樑包覆RC SJ5",280,"0.38*0.55*3.75",{"$f":"結構計算","v":{"$error":"#NAME?"}},"F","1.5*3.75",{"$error":"#NAME?"},"#4","2.06*25",{"$error":"#NAME?"},"#5","(3.75+2)*8",{"$error":"#NAME?"}]
[null,null,null,null,null,null,null,"#4","3.75*3",{"$error":"#NAME?"}]
["以上1F,以下2F"]
["2F 15CM RC WALL",280,"0.15*415.29",{"$f":"結構計算","v":{"$error":"#NAME?"}},"F","415.29*2",{"$error":"#NAME?"},"#4","30.73*415.29",{"$error":"#NAME?"},null,null,null,{"$f":"6.6*(4.6*2+3.75+5.2*2+2.2+9.1+13.1+12.2+2.8*2)-2.2*2.4-1.1*2.1*2-1.55*2.4*2","v":415.28999999999996}]
["3F DS1",280,"0.16*1859.63",{"$f":"結構計算","v":{"$error":"#NAME?"}},"DS1","1859.63*1.1",{"$error":"#NAME?"},"W1","1859.63*1.26",{"$error":"#NAME?"},"#4","6*1859.63",{"$f":"結構計算","v":{"$error":"#NAME?"}},{"$f":"28.2*52.75-5.3*3.5-4.7*5.5+1.9*5.75+5.3*10.2+37*8.66+1.77*25.95+3.64*3.6-2.2*5.2-5.9*2.8","v":1859.6305}]
["3F 過牆鋼樑包覆RC SG1a",280,"0.55*1*7.7",{"$f":"結構計算","v":{"$error":"#NAME?"}},"F","2.3*7.7",{"$error":"#NAME?"},"#4","3.3*52",{"$error":"#NAME?"},"#5","(7.7+2)*8",{"$error":"#NAME?"}]
[null,null,null,null,null,null,null,"#4","7.7*3",{"$error":"#NAME?"}]
[null,280,"0.55*1*13.1",{"$f":"結構計算","v":{"$error":"#NAME?"}},"F","2.3*13.1",{"$error":"#NAME?"},"#4","3.3*88",{"$error":"#NAME?"},"#5","(13.1+0.89+2)*8",{"$f":"結構計算","v":{"$error":"#NAME?"}}]
[null,null,null,null,null,null,null,"#4","(13.1+0.71)*3",{"$error":"#NAME?"}]
["3F 過牆鋼樑包覆RC SG3",280,"0.5*1*2.8",{"$f":"結構計算","v":{"$error":"#NAME?"}},"F","2.25*2.8",{"$error":"#NAME?"},"#4","3.2*19",{"$error":"#NAME?"},"#5","(2.8+2)*8",{"$f":"結構計算","v":{"$error":"#NAME?"}}]
[null,null,null,null,null,null,null,"#4","2.8*3",{"$error":"#NAME?"}]
["3F 過牆鋼樑包覆RC SJ1",280,"0.4*0.8*5.2*2",{"$f":"結構計算","v":{"$error":"#NAME?"}},"F","1.8*5.2*2",{"$error":"#NAME?"},"#4","2.6*35*2",{"$error":"#NAME?"},"#5","(5.2+2)*8*2",{"$f":"結構計算","v":{"$error":"#NAME?"}}]
[null,null,null,null,null,null,null,"#4","5.2*3*2",{"$error":"#NAME?"}]
[null,280,"0.4*0.8*4.6*2",{"$f":"結構計算","v":{"$error":"#NAME?"}},"F","1.8*4.6*2",{"$error":"#NAME?"},"#4","2.6*31*2",{"$error":"#NAME?"},"#5","(4.6+2)*8*2",{"$f":"結構計算","v":{"$error":"#NAME?"}}]
[null,null,null,null,null,null,null,"#4","4.6*3*2",{"$error":"#NAME?"}]
[null,280,"0.4*0.8*5.9",{"$f":"結構計算","v":{"$error":"#NAME?"}},"F","1.8*5.9",{"$error":"#NAME?"},"#4","2.6*40",{"$error":"#NAME?"},"#5","(5.9+2)*8*2",{"$error":"#NAME?"}]
[null,null,null,null,null,null,null,"#4","5.9*3*2",{"$f":"結構計算","v":{"$error":"#NAME?"}}]
["3F 過牆鋼樑包覆RC SJ2",280,"0.4*0.7*6.3",{"$f":"結構計算","v":{"$error":"#NAME?"}},"F","1.6*6.3",{"$error":"#NAME?"},"#4","2.6*42",{"$error":"#NAME?"},"#5","(6.3+2)*8*2",{"$f":"結構計算","v":{"$error":"#NAME?"}}]
[null,null,null,null,null,null,null,"#4","6.3*3",{"$f":"結構計算","v":{"$error":"#NAME?"}}]
["3F 過牆鋼樑包覆RC SJ4",280,"0.4*0.65*2.8",{"$f":"結構計算","v":{"$error":"#NAME?"}},"F","1.4*2.8",{"$error":"#NAME?"},"#4","2.3*19",{"$error":"#NAME?"},"#5","(2.8+2)*8",{"$f":"結構計算","v":{"$error":"#NAME?"}}]
[null,null,null,null,null,null,null,"#4","2.8*3",{"$f":"結構計算","v":{"$error":"#NAME?"}}]
["3F 過牆鋼樑包覆RC SJ5",280,"0.38*0.55*3.75",{"$f":"結構計算","v":{"$error":"#NAME?"}},"F","1.5*3.75",{"$error":"#NAME?"},"#4","2.06*25",{"$error":"#NAME?"},"#5","(3.75+2)*8",{"$f":"結構計算","v":{"$error":"#NAME?"}}]
[null,null,null,null,null,null,null,"#4","3.75*3",{"$f":"結構計算","v":{"$error":"#NAME?"}}]
["3F 過牆鋼樑包覆RC SJ6",280,"0.33*0.45*2.2",{"$f":"結構計算","v":{"$error":"#NAME?"}},"F","1.1*2.2",{"$error":"#NAME?"},"#4","1.76*15",{"$error":"#NAME?"},"#5","(2.2+2)*8",{"$error":"#NAME?"}]
[null,null,null,null,null,null,null,"#4","2.2*3",{"$error":"#NAME?"}]
["以上2F,以下3F"]
["3F 15CM RC WALL",280,"0.15*277.64",{"$f":"結構計算","v":{"$error":"#NAME?"}},"F","277.64*2",{"$error":"#NAME?"},"#4","30.73*277.64",{"$error":"#NAME?"},null,null,null,{"$f":"4.5*(13.1+12.2+2.8*2+9.1+5.2*2+2.2+4.6*2+3.75)-2.2*2.4-1.1*2.1*2-1.55*2.4*2","v":277.63499999999999}]
["4F DS1",280,"0.16*735.15",{"$f":"結構計算","v":{"$error":"#NAME?"}},"DS1","735.15*1.1",{"$f":"結構計算","v":{"$error":"#NAME?"}},"W1","735.15*1.26",{"$f":"結構計算","v":{"$error":"#NAME?"}},"#4","6*735.15",{"$f":"結構計算","v":{"$error":"#NAME?"}},{"$f":"13*26.5-10.6*3.5+21.5*9.9+3.4*3.6+8.8*27.2+1.88*5.75-4*9.1-2.2*5.05","v":735.15}]
["4F 過牆鋼樑包覆RC SG1a",280,"0.55*1*7.7",{"$f":"結構計算","v":{"$error":"#NAME?"}},"F","2.3*7.7",{"$error":"#NAME?"},"#4","3.3*52",{"$error":"#NAME?"},"#5","(7.7+2)*8",{"$error":"#NAME?"}]
[null,null,null,null,null,null,null,"#4","7.7*3",{"$f":"結構計算","v":{"$error":"#NAME?"}}]
[null,280,"0.55*1*13.1",{"$f":"結構計算","v":{"$error":"#NAME?"}},"F","2.3*13.1",{"$f":"結構計算","v":{"$error":"#NAME?"}},"#4","3.3*88",{"$error":"#NAME?"},"#5","(13.1+0.89+2)*8",{"$f":"結構計算","v":{"$error":"#NAME?"}}]
[null,null,null,null,null,null,null,"#4","(13.1+0.71)*3",{"$error":"#NAME?"}]
["4F 過牆鋼樑包覆RC SG3",280,"0.5*1*2.8",{"$f":"結構計算","v":{"$error":"#NAME?"}},"F","2.25*2.8",{"$error":"#NAME?"},"#4","3.2*19",{"$error":"#NAME?"},"#5","(2.8+2)*8",{"$f":"結構計算","v":{"$error":"#NAME?"}}]
[null,null,null,null,null,null,null,"#4","2.8*3",{"$error":"#NAME?"}]
["4F 過牆鋼樑包覆RC SJ1",280,"0.4*0.8*5.2*2",{"$f":"結構計算","v":{"$error":"#NAME?"}},"F","1.8*5.2*2",{"$error":"#NAME?"},"#4","2.6*35*2",{"$error":"#NAME?"},"#5","(5.2+2)*8*2",{"$f":"結構計算","v":{"$error":"#NAME?"}}]
[null,null,null,null,null,null,null,"#4","5.2*3*2",{"$error":"#NAME?"}]
[null,280,"0.4*0.8*4.6*2",{"$f":"結構計算","v":{"$error":"#NAME?"}},"F","1.8*4.6*2",{"$error":"#NAME?"},"#4","2.6*31*2",{"$error":"#NAME?"},"#5","(4.6+2)*8*2",{"$f":"結構計算","v":{"$error":"#NAME?"}}]
[null,null,null,null,null,null,null,"#4","4.6*3*2",{"$error":"#NAME?"}]
[null,280,"0.4*0.8*5.9",{"$f":"結構計算","v":{"$error":"#NAME?"}},"F","1.8*5.9",{"$error":"#NAME?"},"#4","2.6*40",{"$error":"#NAME?"},"#5","(5.9+2)*8*2",{"$error":"#NAME?"}]
[null,null,null,null,null,null,null,"#4","5.9*3*2",{"$error":"#NAME?"}]
["4F 過牆鋼樑包覆RC SJ2",280,"0.4*0.7*6.3",{"$f":"結構計算","v":{"$error":"#NAME?"}},"F","1.6*6.3",{"$error":"#NAME?"},"#4","2.6*42",{"$error":"#NAME?"},"#5","(6.3+2)*8*2",{"$f":"結構計算","v":{"$error":"#NAME?"}}]
[null,null,null,null,null,null,null,"#4","6.3*3",{"$error":"#NAME?"}]
["4F 過牆鋼樑包覆RC SJ4",280,"0.4*0.65*2.8",{"$f":"結構計算","v":{"$error":"#NAME?"}},"F","1.4*2.8",{"$error":"#NAME?"},"#4","2.3*19",{"$error":"#NAME?"},"#5","(2.8+2)*8",{"$f":"結構計算","v":{"$error":"#NAME?"}}]
[null,null,null,null,null,null,null,"#4","2.8*3",{"$error":"#NAME?"}]
["4F 過牆鋼樑包覆RC SJ5",280,"0.38*0.55*3.75",{"$f":"結構計算","v":{"$error":"#NAME?"}},"F","1.5*3.75",{"$error":"#NAME?"},"#4","2.06*25",{"$error":"#NAME?"},"#5","(3.75+2)*8",{"$f":"結構計算","v":{"$error":"#NAME?"}}]
[null,null,null,null,null,null,null,"#4","3.75*3",{"$error":"#NAME?"}]
["4F 過牆鋼樑包覆RC SJ6",280,"0.33*0.45*2.2",{"$f":"結構計算","v":{"$error":"#NAME?"}},"F","1.1*2.2",{"$error":"#NAME?"},"#4","1.76*15",{"$error":"#NAME?"},"#5","(2.2+2)*8",{"$error":"#NAME?"}]
[null,null,null,null,null,null,null,"#4","2.2*3",{"$error":"#NAME?"}]
["以上3F,以下4F"]
["4F 15CM RC WALL",280,"0.15*277.64",{"$f":"結構計算","v":{"$error":"#NAME?"}},"F","277.64*2",{"$error":"#NAME?"},"#4","30.73*277.64",{"$error":"#NAME?"},null,null,null,{"$f":"4.5*(13.1+12.2+2.8*2+9.1+5.2*2+2.2+4.6*2+3.75)-2.2*2.4-1.1*2.1*2-1.55*2.4*2","v":277.63499999999999}]
["5F DS1",280,"0.16*1907.12",{"$f":"結構計算","v":{"$error":"#NAME?"}},"DS1","1907.12*1.1",{"$f":"結構計算","v":{"$error":"#NAME?"}},"W1","1907.12*1.26",{"$f":"結構計算","v":{"$error":"#NAME?"}},"#4","6*1907.12",{"$f":"結構計算","v":{"$error":"#NAME?"}},{"$f":"28.2*52.75-5.3*3.5-4.7*5.5+1.9*5.75+5.3*10.2+37*8.66+3.6*25.95+3.64*3.6-2.2*5.2-5.9*2.8","v":1907.1190000000001}]
["5F 過牆鋼樑包覆RC SG1a",280,"0.55*1*7.7",{"$f":"結構計算","v":{"$error":"#NAME?"}},"F","2.3*7.7",{"$error":"#NAME?"},"#4","3.3*52",{"$error":"#NAME?"},"#5","(7.7+2)*8",{"$error":"#NAME?"}]
[null,null,null,null,null,null,null,"#4","7.7*3",{"$error":"#NAME?"}]
[null,280,"0.55*1*13.1",{"$f":"結構計算","v":{"$error":"#NAME?"}},"F","2.3*13.1",{"$f":"結構計算","v":{"$error":"#NAME?"}},"#4","3.3*88",{"$error":"#NAME?"},"#5","(13.1+0.89+2)*8",{"$f":"結構計算","v":{"$error":"#NAME?"}}]
[null,null,null,null,null,null,null,"#4","(13.1+0.71)*3",{"$error":"#NAME?"}]
["5F 過牆鋼樑包覆RC SG3",280,"0.5*1*2.8",{"$f":"結構計算","v":{"$error":"#NAME?"}},"F","2.25*2.8",{"$error":"#NAME?"},"#4","3.2*19",{"$error":"#NAME?"},"#5","(2.8+2)*8",{"$f":"結構計算","v":{"$error":"#NAME?"}}]
[null,null,null,null,null,null,null,"#4","2.8*3",{"$error":"#NAME?"}]
["5F 過牆鋼樑包覆RC SJ1",280,"0.4*0.8*5.2*2",{"$f":"結構計算","v":{"$error":"#NAME?"}},"F","1.8*5.2*2",{"$error":"#NAME?"},"#4","2.6*35*2",{"$error":"#NAME?"},"#5","(5.2+2)*8*2",{"$f":"結構計算","v":{"$error":"#NAME?"}}]
[null,null,null,null,null,null,null,"#4","5.2*3*2",{"$error":"#NAME?"}]
[null,280,"0.4*0.8*4.6*2",{"$f":"結構計算","v":{"$error":"#NAME?"}},"F","1.8*4.6*2",{"$error":"#NAME?"},"#4","2.6*31*2",{"$error":"#NAME?"},"#5","(4.6+2)*8*2",{"$f":"結構計算","v":{"$error":"#NAME?"}}]
[null,null,null,null,null,null,null,"#4","4.6*3*2",{"$error":"#NAME?"}]
[null,280,"0.4*0.8*5.9",{"$f":"結構計算","v":{"$error":"#NAME?"}},"F","1.8*5.9",{"$error":"#NAME?"},"#4","2.6*40",{"$error":"#NAME?"},"#5","(5.9+2)*8*2",{"$error":"#NAME?"}]
[null,null,null,null,null,null,null,"#4","5.9*3*2",{"$error":"#NAME?"}]
["5F 過牆鋼樑包覆RC SJ2",280,"0.4*0.7*6.3",{"$f":"結構計算","v":{"$error":"#NAME?"}},"F","1.6*6.3",{"$error":"#NAME?"},"#4","2.6*42",{"$error":"#NAME?"},"#5","(6.3+2)*8*2",{"$f":"結構計算","v":{"$error":"#NAME?"}}]
[null,null,null,null,null,null,null,"#4","6.3*3",{"$error":"#NAME?"}]
["5F 過牆鋼樑包覆RC SJ4",280,"0.4*0.65*2.8",{"$f":"結構計算","v":{"$error":"#NAME?"}},"F","1.4*2.8",{"$error":"#NAME?"},"#4","2.3*19",{"$error":"#NAME?"},"#5","(2.8+2)*8",{"$f":"結構計算","v":{"$error":"#NAME?"}}]
[null,null,null,null,null,null,null,"#4","2.8*3",{"$f":"結構計算","v":{"$error":"#NAME?"}}]
["5F 過牆鋼樑包覆RC SJ5",280,"0.38*0.55*3.75",{"$f":"結構計算","v":{"$error":"#NAME?"}},"F","1.5*3.75",{"$error":"#NAME?"},"#4","2.06*25",{"$error":"#NAME?"},"#5","(3.75+2)*8",{"$f":"結構計算","v":{"$error":"#NAME?"}}]
[null,null,null,null,null,null,null,"#4","3.75*3",{"$error":"#NAME?"}]
["5F 過牆鋼樑包覆RC SJ6",280,"0.33*0.45*2.2",{"$f":"結構計算","v":{"$error":"#NAME?"}},"F","1.1*2.2",{"$error":"#NAME?"},"#4","1.76*15",{"$error":"#NAME?"},"#5","(2.2+2)*8",{"$error":"#NAME?"}]
[null,null,null,null,null,null,null,"#4","2.2*3",{"$error":"#NAME?"}]
["以上4F,以下5F"]
["5F 15CM RC WALL",280,"0.15*277.64",{"$f":"結構計算","v":{"$error":"#NAME?"}},"F","277.64*2",{"$f":"結構計算","v":{"$error":"#NAME?"}},"#4","30.73*277.64",{"$f":"結構計算","v":{"$error":"#NAME?"}},null,null,null,{"$f":"4.5*(13.1+12.2+2.8*2+9.1+5.2*2+2.2+4.6*2+3.75)-2.2*2.4-1.1*2.1*2-1.55*2.4*2","v":277.63499999999999}]
["6F DS1",280,"0.16*735.15",{"$f":"結構計算","v":{"$error":"#NAME?"}},"DS1","735.15*1.1",{"$error":"#NAME?"},"W1","735.15*1.26",{"$error":"#NAME?"},"#4","6*735.15",{"$f":"結構計算","v":{"$error":"#NAME?"}},{"$f":"13*26.5-10.6*3.5+21.5*9.9+3.4*3.6+8.8*27.2+1.88*5.75-4*9.1-2.2*5.05","v":735.15}]
["6F 過牆鋼樑包覆RC SG2",280,"0.5*1*7.7",{"$f":"結構計算","v":{"$error":"#NAME?"}},"F","2.25*7.7",{"$error":"#NAME?"},"#4","3.2*52",{"$error":"#NAME?"},"#5","(7.7+2)*8",{"$error":"#NAME?"}]
[null,null,null,null,null,null,null,"#4","7.7*3",{"$error":"#NAME?"}]
[null,280,"0.5*1*13.1",{"$f":"結構計算","v":{"$error":"#NAME?"}},"F","2.25*13.1",{"$f":"結構計算","v":{"$error":"#NAME?"}},"#4","3.2*88",{"$error":"#NAME?"},"#5","(13.1+0.89+2)*8",{"$f":"結構計算","v":{"$error":"#NAME?"}}]
[null,null,null,null,null,null,null,"#4","(13.1+0.71)*3",{"$error":"#NAME?"}]
["6F 過牆鋼樑包覆RC SG3",280,"0.5*1*2.8",{"$f":"結構計算","v":{"$error":"#NAME?"}},"F","2.25*2.8",{"$error":"#NAME?"},"#4","3.2*19",{"$error":"#NAME?"},"#5","(2.8+2)*8",{"$f":"結構計算","v":{"$error":"#NAME?"}}]
[null,null,null,null,null,null,null,"#4","2.8*3",{"$error":"#NAME?"}]
["6F 過牆鋼樑包覆RC SJ1",280,"0.4*0.8*5.2*2",{"$f":"結構計算","v":{"$error":"#NAME?"}},"F","1.8*5.2*2",{"$error":"#NAME?"},"#4","2.6*35*2",{"$error":"#NAME?"},"#5","(5.2+2)*8*2",{"$f":"結構計算","v":{"$error":"#NAME?"}}]
[null,null,null,null,null,null,null,"#4","5.2*3*2",{"$error":"#NAME?"}]
[null,280,"0.4*0.8*4.6*2",{"$f":"結構計算","v":{"$error":"#NAME?"}},"F","1.8*4.6*2",{"$error":"#NAME?"},"#4","2.6*31*2",{"$error":"#NAME?"},"#5","(4.6+2)*8*2",{"$f":"結構計算","v":{"$error":"#NAME?"}}]
[null,null,null,null,null,null,null,"#4","4.6*3*2",{"$error":"#NAME?"}]
[null,280,"0.4*0.8*5.9",{"$f":"結構計算","v":{"$error":"#NAME?"}},"F","1.8*5.9",{"$error":"#NAME?"},"#4","2.6*40",{"$error":"#NAME?"},"#5","(5.9+2)*8*2",{"$error":"#NAME?"}]
[null,null,null,null,null,null,null,"#4","5.9*3*2",{"$error":"#NAME?"}]
["6F 過牆鋼樑包覆RC SJ2",280,"0.4*0.7*6.3",{"$f":"結構計算","v":{"$error":"#NAME?"}},"F","1.6*6.3",{"$error":"#NAME?"},"#4","2.6*42",{"$error":"#NAME?"},"#5","(6.3+2)*8*2",{"$f":"結構計算","v":{"$error":"#NAME?"}}]
[null,null,null,null,null,null,null,"#4","6.3*3",{"$error":"#NAME?"}]
["6F 過牆鋼樑包覆RC SJ4",280,"0.4*0.65*2.8",{"$f":"結構計算","v":{"$error":"#NAME?"}},"F","1.4*2.8",{"$error":"#NAME?"},"#4","2.3*19",{"$error":"#NAME?"},"#5","(2.8+2)*8",{"$f":"結構計算","v":{"$error":"#NAME?"}}]
[null,null,null,null,null,null,null,"#4","2.8*3",{"$error":"#NAME?"}]
["6F 過牆鋼樑包覆RC SJ5",280,"0.38*0.55*3.75",{"$f":"結構計算","v":{"$error":"#NAME?"}},"F","1.5*3.75",{"$error":"#NAME?"},"#4","2.06*25",{"$error":"#NAME?"},"#5","(3.75+2)*8",{"$f":"結構計算","v":{"$error":"#NAME?"}}]
[null,null,null,null,null,null,null,"#4","3.75*3",{"$error":"#NAME?"}]
["6F 過牆鋼樑包覆RC SJ6",280,"0.33*0.45*2.2",{"$f":"結構計算","v":{"$error":"#NAME?"}},"F","1.1*2.2",{"$error":"#NAME?"},"#4","1.76*15",{"$error":"#NAME?"},"#5","(2.2+2)*8",{"$error":"#NAME?"}]
[null,null,null,null,null,null,null,"#4","2.2*3",{"$error":"#NAME?"}]
["以上5F,以下6F"]
["6F 15CM RC WALL",280,"0.15*277.64",{"$f":"結構計算","v":{"$error":"#NAME?"}},"F","277.64*2",{"$f":"結構計算","v":{"$error":"#NAME?"}},"#4","30.73*277.64",{"$f":"結構計算","v":{"$error":"#NAME?"}},null,null,null,{"$f":"4.5*(13.1+12.2+2.8*2+9.1+5.2*2+2.2+4.6*2+3.75)-2.2*2.4-1.1*2.1*2-1.55*2.4*2","v":277.63499999999999}]
["7F DS1",280,"0.16*1907.12",{"$f":"結構計算","v":{"$error":"#NAME?"}},"DS1","1907.12*1.1",{"$error":"#NAME?"},"W1","1907.12*1.26",{"$error":"#NAME?"},"#4","6*1907.12",{"$f":"結構計算","v":{"$error":"#NAME?"}},{"$f":"28.2*52.75-5.3*3.5-4.7*5.5+1.9*5.75+5.3*10.2+37*8.66+3.6*25.95+3.64*3.6-2.2*5.2-5.9*2.8","v":1907.1190000000001}]
["7F 過牆鋼樑包覆RC SG2",280,"0.5*1*7.7",{"$f":"結構計算","v":{"$error":"#NAME?"}},"F","2.25*7.7",{"$error":"#NAME?"},"#4","3.2*52",{"$error":"#NAME?"},"#5","(7.7+2)*8",{"$error":"#NAME?"}]
[null,null,null,null,null,null,null,"#4","7.7*3",{"$error":"#NAME?"}]
[null,280,"0.5*1*13.1",{"$f":"結構計算","v":{"$error":"#NAME?"}},"F","2.25*13.1",{"$f":"結構計算","v":{"$error":"#NAME?"}},"#4","3.2*88",{"$error":"#NAME?"},"#5","(13.1+0.89+2)*8",{"$f":"結構計算","v":{"$error":"#NAME?"}}]
[null,null,null,null,null,null,null,"#4","(13.1+0.71)*3",{"$error":"#NAME?"}]
["7F 過牆鋼樑包覆RC SG3",280,"0.5*1*2.8",{"$f":"結構計算","v":{"$error":"#NAME?"}},"F","2.25*2.8",{"$error":"#NAME?"},"#4","3.2*19",{"$error":"#NAME?"},"#5","(2.8+2)*8",{"$f":"結構計算","v":{"$error":"#NAME?"}}]
[null,null,null,null,null,null,null,"#4","2.8*3",{"$error":"#NAME?"}]
["7F 過牆鋼樑包覆RC SJ1",280,"0.4*0.8*5.2*2",{"$f":"結構計算","v":{"$error":"#NAME?"}},"F","1.8*5.2*2",{"$error":"#NAME?"},"#4","2.6*35*2",{"$error":"#NAME?"},"#5","(5.2+2)*8*2",{"$f":"結構計算","v":{"$error":"#NAME?"}}]
[null,null,null,null,null,null,null,"#4","5.2*3*2",{"$error":"#NAME?"}]
[null,280,"0.4*0.8*4.6*2",{"$f":"結構計算","v":{"$error":"#NAME?"}},"F","1.8*4.6*2",{"$error":"#NAME?"},"#4","2.6*31*2",{"$error":"#NAME?"},"#5","(4.6+2)*8*2",{"$f":"結構計算","v":{"$error":"#NAME?"}}]
[null,null,null,null,null,null,null,"#4","4.6*3*2",{"$error":"#NAME?"}]
[null,280,"0.4*0.8*5.9",{"$f":"結構計算","v":{"$error":"#NAME?"}},"F","1.8*5.9",{"$error":"#NAME?"},"#4","2.6*40",{"$error":"#NAME?"},"#5","(5.9+2)*8*2",{"$error":"#NAME?"}]
[null,null,null,null,null,null,null,"#4","5.9*3*2",{"$error":"#NAME?"}]
["7F 過牆鋼樑包覆RC SJ2",280,"0.4*0.7*6.3",{"$f":"結構計算","v":{"$error":"#NAME?"}},"F","1.6*6.3",{"$error":"#NAME?"},"#4","2.6*42",{"$error":"#NAME?"},"#5","(6.3+2)*8*2",{"$f":"結構計算","v":{"$error":"#NAME?"}}]
[null,null,null,null,null,null,null,"#4","6.3*3",{"$error":"#NAME?"}]
["7F 過牆鋼樑包覆RC SJ4",280,"0.4*0.65*2.8",{"$f":"結構計算","v":{"$error":"#NAME?"}},"F","1.4*2.8",{"$error":"#NAME?"},"#4","2.3*19",{"$error":"#NAME?"},"#5","(2.8+2)*8",{"$f":"結構計算","v":{"$error":"#NAME?"}}]
[null,null,null,null,null,null,null,"#4","2.8*3",{"$error":"#NAME?"}]
["7F 過牆鋼樑包覆RC SJ5",280,"0.38*0.55*3.75",{"$f":"結構計算","v":{"$error":"#NAME?"}},"F","1.5*3.75",{"$error":"#NAME?"},"#4","2.06*25",{"$error":"#NAME?"},"#5","(3.75+2)*8",{"$f":"結構計算","v":{"$error":"#NAME?"}}]
[null,null,null,null,null,null,null,"#4","3.75*3",{"$error":"#NAME?"}]
["7F 過牆鋼樑包覆RC SJ6",280,"0.33*0.45*2.2",{"$f":"結構計算","v":{"$error":"#NAME?"}},"F","1.1*2.2",{"$error":"#NAME?"},"#4","1.76*15",{"$error":"#NAME?"},"#5","(2.2+2)*8",{"$error":"#NAME?"}]
[null,null,null,null,null,null,null,"#4","2.2*3",{"$error":"#NAME?"}]
["以上6F,以下7F"]
["7F 15CM RC WALL",280,"0.15*277.64",{"$f":"結構計算","v":{"$error":"#NAME?"}},"F","277.64*2",{"$f":"結構計算","v":{"$error":"#NAME?"}},"#4","30.73*277.64",{"$f":"結構計算","v":{"$error":"#NAME?"}},null,null,null,{"$f":"4.5*(13.1+12.2+2.8*2+9.1+5.2*2+2.2+4.6*2+3.75)-2.2*2.4-1.1*2.1*2-1.55*2.4*2","v":277.63499999999999}]
["8F DS1",280,"0.16*735.15",{"$f":"結構計算","v":{"$error":"#NAME?"}},"DS1","735.15*1.1",{"$error":"#NAME?"},"W1","735.15*1.26",{"$error":"#NAME?"},"#4","6*735.15",{"$f":"結構計算","v":{"$error":"#NAME?"}},{"$f":"13*26.5-10.6*3.5+21.5*9.9+3.4*3.6+8.8*27.2+1.88*5.75-4*9.1-2.2*5.05","v":735.15}]
["8F 過牆鋼樑包覆RC SG5",280,"0.55*1*7.7",{"$f":"結構計算","v":{"$error":"#NAME?"}},"F","2.25*7.7",{"$error":"#NAME?"},"#4","3.2*52",{"$error":"#NAME?"},"#5","(7.7+2)*8",{"$error":"#NAME?"}]
[null,null,null,null,null,null,null,"#4","7.7*3",{"$error":"#NAME?"}]
[null,280,"0.55*1*13.1",{"$f":"結構計算","v":{"$error":"#NAME?"}},"F","2.25*13.1",{"$f":"結構計算","v":{"$error":"#NAME?"}},"#4","3.2*88",{"$error":"#NAME?"},"#5","(13.1+0.89+2)*8",{"$f":"結構計算","v":{"$error":"#NAME?"}}]
[null,null,null,null,null,null,null,"#4","(13.1+0.71)*3",{"$error":"#NAME?"}]
["8F 過牆鋼樑包覆RC SG4",280,"0.5*1*2.8",{"$f":"結構計算","v":{"$error":"#NAME?"}},"F","2.25*2.8",{"$error":"#NAME?"},"#4","3.2*19",{"$error":"#NAME?"},"#5","(2.8+2)*8",{"$f":"結構計算","v":{"$error":"#NAME?"}}]
[null,null,null,null,null,null,null,"#4","2.8*3",{"$error":"#NAME?"}]
["8F 過牆鋼樑包覆RC SJ1",280,"0.4*0.8*5.2*2",{"$f":"結構計算","v":{"$error":"#NAME?"}},"F","1.8*5.2*2",{"$error":"#NAME?"},"#4","2.6*35*2",{"$error":"#NAME?"},"#5","(5.2+2)*8*2",{"$f":"結構計算","v":{"$error":"#NAME?"}}]
[null,null,null,null,null,null,null,"#4","5.2*3*2",{"$error":"#NAME?"}]
[null,280,"0.4*0.8*4.6*2",{"$f":"結構計算","v":{"$error":"#NAME?"}},"F","1.8*4.6*2",{"$error":"#NAME?"},"#4","2.6*31*2",{"$error":"#NAME?"},"#5","(4.6+2)*8*2",{"$f":"結構計算","v":{"$error":"#NAME?"}}]
[null,null,null,null,null,null,null,"#4","4.6*3*2",{"$error":"#NAME?"}]
[null,280,"0.4*0.8*5.9",{"$f":"結構計算","v":{"$error":"#NAME?"}},"F","1.8*5.9",{"$error":"#NAME?"},"#4","2.6*40",{"$error":"#NAME?"},"#5","(5.9+2)*8*2",{"$error":"#NAME?"}]
[null,null,null,null,null,null,null,"#4","5.9*3*2",{"$error":"#NAME?"}]
["8F 過牆鋼樑包覆RC SJ2",280,"0.4*0.7*6.3",{"$f":"結構計算","v":{"$error":"#NAME?"}},"F","1.6*6.3",{"$error":"#NAME?"},"#4","2.6*42",{"$error":"#NAME?"},"#5","(6.3+2)*8*2",{"$f":"結構計算","v":{"$error":"#NAME?"}}]
[null,null,null,null,null,null,null,"#4","6.3*3",{"$error":"#NAME?"}]
["8F 過牆鋼樑包覆RC SJ4",280,"0.4*0.65*2.8",{"$f":"結構計算","v":{"$error":"#NAME?"}},"F","1.4*2.8",{"$error":"#NAME?"},"#4","2.3*19",{"$error":"#NAME?"},"#5","(2.8+2)*8",{"$f":"結構計算","v":{"$error":"#NAME?"}}]
[null,null,null,null,null,null,null,"#4","2.8*3",{"$error":"#NAME?"}]
["8F 過牆鋼樑包覆RC SJ5",280,"0.38*0.55*3.75",{"$f":"結構計算","v":{"$error":"#NAME?"}},"F","1.5*3.75",{"$error":"#NAME?"},"#4","2.06*25",{"$error":"#NAME?"},"#5","(3.75+2)*8",{"$f":"結構計算","v":{"$error":"#NAME?"}}]
[null,null,null,null,null,null,null,"#4","3.75*3",{"$error":"#NAME?"}]
["8F 過牆鋼樑包覆RC SJ6",280,"0.33*0.45*2.2",{"$f":"結構計算","v":{"$error":"#NAME?"}},"F","1.1*2.2",{"$error":"#NAME?"},"#4","1.76*15",{"$error":"#NAME?"},"#5","(2.2+2)*8",{"$error":"#NAME?"}]
[null,null,null,null,null,null,null,"#4","2.2*3",{"$error":"#NAME?"}]
["以上7F,以下8F"]
["8F 15CM RC WALL",280,"0.15*277.64",{"$f":"結構計算","v":{"$error":"#NAME?"}},"F","277.64*2",{"$f":"結構計算","v":{"$error":"#NAME?"}},"#4","30.73*277.64",{"$f":"結構計算","v":{"$error":"#NAME?"}},null,null,null,{"$f":"4.5*(13.1+12.2+2.8*2+9.1+5.2*2+2.2+4.6*2+3.75)-2.2*2.4-1.1*2.1*2-1.55*2.4*2","v":277.63499999999999}]
["9F DS1",280,"0.16*1907.12",{"$f":"結構計算","v":{"$error":"#NAME?"}},"DS1","1907.12*1.1",{"$error":"#NAME?"},"W1","1907.12*1.26",{"$error":"#NAME?"},"#4","6*1907.12",{"$f":"結構計算","v":{"$error":"#NAME?"}},{"$f":"28.2*52.75-5.3*3.5-4.7*5.5+1.9*5.75+5.3*10.2+37*8.66+3.6*25.95+3.64*3.6-2.2*5.2-5.9*2.8","v":1907.1190000000001}]
["9F 過牆鋼樑包覆RC SG4",280,"0.5*1*7.7",{"$f":"結構計算","v":{"$error":"#NAME?"}},"F","2.25*7.7",{"$error":"#NAME?"},"#4","3.2*52",{"$error":"#NAME?"},"#5","(7.7+2)*8",{"$error":"#NAME?"}]
[null,null,null,null,null,null,null,"#4","7.7*3",{"$error":"#NAME?"}]
[null,280,"0.5*1*13.1",{"$f":"結構計算","v":{"$error":"#NAME?"}},"F","2.25*13.1",{"$f":"結構計算","v":{"$error":"#NAME?"}},"#4","3.2*88",{"$error":"#NAME?"},"#5","(13.1+0.89+2)*8",{"$f":"結構計算","v":{"$error":"#NAME?"}}]
[null,null,null,null,null,null,null,"#4","(13.1+0.71)*3",{"$error":"#NAME?"}]
["9F 過牆鋼樑包覆RC SG4",280,"0.5*1*2.8",{"$f":"結構計算","v":{"$error":"#NAME?"}},"F","2.25*2.8",{"$error":"#NAME?"},"#4","3.2*19",{"$error":"#NAME?"},"#5","(2.8+2)*8",{"$f":"結構計算","v":{"$error":"#NAME?"}}]
[null,null,null,null,null,null,null,"#4","2.8*3",{"$error":"#NAME?"}]
["9F 過牆鋼樑包覆RC SJ1",280,"0.4*0.8*5.2*2",{"$f":"結構計算","v":{"$error":"#NAME?"}},"F","1.8*5.2*2",{"$error":"#NAME?"},"#4","2.6*35*2",{"$error":"#NAME?"},"#5","(5.2+2)*8*2",{"$f":"結構計算","v":{"$error":"#NAME?"}}]
[null,null,null,null,null,null,null,"#4","5.2*3*2",{"$error":"#NAME?"}]
[null,280,"0.4*0.8*4.6*2",{"$f":"結構計算","v":{"$error":"#NAME?"}},"F","1.8*4.6*2",{"$error":"#NAME?"},"#4","2.6*31*2",{"$error":"#NAME?"},"#5","(4.6+2)*8*2",{"$f":"結構計算","v":{"$error":"#NAME?"}}]
[null,null,null,null,null,null,null,"#4","4.6*3*2",{"$error":"#NAME?"}]
[null,280,"0.4*0.8*5.9",{"$f":"結構計算","v":{"$error":"#NAME?"}},"F","1.8*5.9",{"$error":"#NAME?"},"#4","2.6*40",{"$error":"#NAME?"},"#5","(5.9+2)*8*2",{"$error":"#NAME?"}]
[null,null,null,null,null,null,null,"#4","5.9*3*2",{"$error":"#NAME?"}]
["9F 過牆鋼樑包覆RC SJ2",280,"0.4*0.7*6.3",{"$f":"結構計算","v":{"$error":"#NAME?"}},"F","1.6*6.3",{"$error":"#NAME?"},"#4","2.6*42",{"$error":"#NAME?"},"#5","(6.3+2)*8*2",{"$f":"結構計算","v":{"$error":"#NAME?"}}]
[null,null,null,null,null,null,null,"#4","6.3*3",{"$error":"#NAME?"}]
["9F 過牆鋼樑包覆RC SJ4",280,"0.4*0.65*2.8",{"$f":"結構計算","v":{"$error":"#NAME?"}},"F","1.4*2.8",{"$error":"#NAME?"},"#4","2.3*19",{"$error":"#NAME?"},"#5","(2.8+2)*8",{"$f":"結構計算","v":{"$error":"#NAME?"}}]
[null,null,null,null,null,null,null,"#4","2.8*3",{"$error":"#NAME?"}]
["9F 過牆鋼樑包覆RC SJ5",280,"0.38*0.55*3.75",{"$f":"結構計算","v":{"$error":"#NAME?"}},"F","1.5*3.75",{"$error":"#NAME?"},"#4","2.06*25",{"$error":"#NAME?"},"#5","(3.75+2)*8",{"$f":"結構計算","v":{"$error":"#NAME?"}}]
[null,null,null,null,null,null,null,"#4","3.75*3",{"$error":"#NAME?"}]
["9F 過牆鋼樑包覆RC SJ6",280,"0.33*0.45*2.2",{"$f":"結構計算","v":{"$error":"#NAME?"}},"F","1.1*2.2",{"$error":"#NAME?"},"#4","1.76*15",{"$error":"#NAME?"},"#5","(2.2+2)*8",{"$error":"#NAME?"}]
[null,null,null,null,null,null,null,"#4","2.2*3",{"$error":"#NAME?"}]
["以上8F,以下9F"]
["9F 15CM RC WALL",280,"0.15*277.64",{"$f":"結構計算","v":{"$error":"#NAME?"}},"F","277.64*2",{"$f":"結構計算","v":{"$error":"#NAME?"}},"#4","30.73*277.64",{"$error":"#NAME?"},null,null,null,{"$f":"4.5*(13.1+12.2+2.8*2+9.1+5.2*2+2.2+4.6*2+3.75)-2.2*2.4-1.1*2.1*2-1.55*2.4*2","v":277.63499999999999}]
["10F DS1",280,"0.16*735.15",{"$f":"結構計算","v":{"$error":"#NAME?"}},"DS1","735.15*1.1",{"$error":"#NAME?"},"W1","735.15*1.26",{"$error":"#NAME?"},"#4","6*735.15",{"$f":"結構計算","v":{"$error":"#NAME?"}},{"$f":"13*26.5-10.6*3.5+21.5*9.9+3.4*3.6+8.8*27.2+1.88*5.75-4*9.1-2.2*5.05","v":735.15}]
["10F S1",280,"0.16*35.5",{"$f":"結構計算","v":{"$error":"#NAME?"}},"A","35.5*1",{"$error":"#NAME?"},"#4","52*35.5",{"$error":"#NAME?"},null,null,null,{"$f":"6.4*4.75+1.5*3.4","v":35.5}]
["10F 25CM撐牆",280,"0.35*26.93",{"$f":"結構計算","v":{"$error":"#NAME?"}},"F","26.93*2",{"$error":"#NAME?"},"#4","13.75*23.93",{"$error":"#NAME?"},"#5","35.44*23.93",{"$f":"結構計算","v":{"$error":"#NAME?"}},{"$f":"0.8*(6.4*3+4.8+5.7+2.65+1.31)","v":26.928000000000004}]
["10F 過牆鋼樑包覆RC SG4",280,"0.5*1*7.7",{"$f":"結構計算","v":{"$error":"#NAME?"}},"F","2.25*7.7",{"$error":"#NAME?"},"#4","3.2*52",{"$error":"#NAME?"},"#5","(7.7+2)*8",{"$error":"#NAME?"}]
[null,null,null,null,null,null,null,"#4","7.7*3",{"$error":"#NAME?"}]
[null,280,"0.5*1*13.1",{"$f":"結構計算","v":{"$error":"#NAME?"}},"F","2.25*13.1",{"$f":"結構計算","v":{"$error":"#NAME?"}},"#4","3.2*88",{"$error":"#NAME?"},"#5","(13.1+0.89+2)*8",{"$f":"結構計算","v":{"$error":"#NAME?"}}]
[null,null,null,null,null,null,null,"#4","(13.1+0.71)*3",{"$error":"#NAME?"}]
["10F 過牆鋼樑包覆RC SG4",280,"0.5*1*5.7",{"$f":"結構計算","v":{"$error":"#NAME?"}},"F","2.25*5.7",{"$error":"#NAME?"},"#4","3.2*38",{"$error":"#NAME?"},"#5","(5.7+2)*8",{"$f":"結構計算","v":{"$error":"#NAME?"}}]
[null,null,null,null,null,null,null,"#4","5.7*3",{"$error":"#NAME?"}]
["10F 過牆鋼樑包覆RC SG4+T",280,"0.35*0.8*5.9*4",{"$f":"結構計算","v":{"$error":"#NAME?"}},"F","0.8*5.9*4",{"$error":"#NAME?"},"#4","0.8*2*40*4",{"$error":"#NAME?"},"#5","(5.9+2)*8*4",{"$error":"#NAME?"}]
[null,null,null,null,null,null,null,"#4","5.9*3*4",{"$error":"#NAME?"},"S19*200","20*3*4",{"$error":"#NAME?"}]
["10F 過牆鋼樑包覆RC SJ1",280,"0.4*0.8*5.2*2",{"$f":"結構計算","v":{"$error":"#NAME?"}},"F","1.8*5.2*2",{"$error":"#NAME?"},"#4","2.6*35*2",{"$error":"#NAME?"},"#5","(5.2+2)*8*2",{"$f":"結構計算","v":{"$error":"#NAME?"}}]
[null,null,null,null,null,null,null,"#4","5.2*3*2",{"$error":"#NAME?"}]
[null,280,"0.4*0.8*4.6*2",{"$f":"結構計算","v":{"$error":"#NAME?"}},"F","1.8*4.6*2",{"$error":"#NAME?"},"#4","2.6*31*2",{"$error":"#NAME?"},"#5","(4.6+2)*8*2",{"$f":"結構計算","v":{"$error":"#NAME?"}}]
[null,null,null,null,null,null,null,"#4","4.6*3*2",{"$error":"#NAME?"}]
[null,280,"0.4*0.8*5.9",{"$f":"結構計算","v":{"$error":"#NAME?"}},"F","1.8*5.9",{"$error":"#NAME?"},"#4","2.6*40",{"$error":"#NAME?"},"#5","(5.9+2)*8",{"$error":"#NAME?"}]
[null,null,null,null,null,null,null,"#4","5.9*3",{"$error":"#NAME?"}]
["10F 過牆鋼樑包覆RC SJ4+T",280,"0.25*0.8*5.9",{"$f":"結構計算","v":{"$error":"#NAME?"}},"F","0.8*5.9",{"$error":"#NAME?"},"#4","0.8*2*40",{"$error":"#NAME?"},"#5","(5.9+2)*8",{"$f":"結構計算","v":{"$error":"#NAME?"}}]
[null,null,null,null,null,null,null,"#4","5.9*3",{"$error":"#NAME?"},"S19*200","20*3",{"$error":"#NAME?"}]
["10F 過牆鋼樑包覆RC SJ2",280,"0.4*0.7*6.3",{"$f":"結構計算","v":{"$error":"#NAME?"}},"F","1.6*6.3",{"$error":"#NAME?"},"#4","2.6*42",{"$error":"#NAME?"},"#5","(6.3+2)*8*2",{"$f":"結構計算","v":{"$error":"#NAME?"}}]
[null,null,null,null,null,null,null,"#4","6.3*3",{"$error":"#NAME?"}]
["10F 過牆鋼樑包覆RC SJ4",280,"0.4*0.65*2.8",{"$f":"結構計算","v":{"$error":"#NAME?"}},"F","1.4*2.8",{"$error":"#NAME?"},"#4","2.3*19",{"$error":"#NAME?"},"#5","(2.8+2)*8",{"$f":"結構計算","v":{"$error":"#NAME?"}}]
[null,null,null,null,null,null,null,"#4","2.8*3",{"$error":"#NAME?"}]
["10F 過牆鋼樑包覆RC SJ5",280,"0.38*0.55*3.75",{"$f":"結構計算","v":{"$error":"#NAME?"}},"F","1.5*3.75",{"$error":"#NAME?"},"#4","2.06*25",{"$error":"#NAME?"},"#5","(3.75+2)*8",{"$f":"結構計算","v":{"$error":"#NAME?"}}]
[null,null,null,null,null,null,null,"#4","3.75*3",{"$error":"#NAME?"}]
["10F 過牆鋼樑包覆RC SJ6",280,"0.33*0.45*2.2",{"$f":"結構計算","v":{"$error":"#NAME?"}},"F","1.1*2.2",{"$error":"#NAME?"},"#4","1.76*15",{"$error":"#NAME?"},"#5","(2.2+2)*8",{"$error":"#NAME?"}]
[null,null,null,null,null,null,null,"#4","2.2*3",{"$error":"#NAME?"}]
["以上9F,以下10F"]
["10F 15CM RC WALL",280,"0.15*277.64",{"$f":"結構計算","v":{"$error":"#NAME?"}},"F","277.64*2",{"$f":"結構計算","v":{"$error":"#NAME?"}},"#4","30.73*277.64",{"$error":"#NAME?"},null,null,null,{"$f":"4.5*(13.1+12.2+2.8*2+9.1+5.2*2+2.2+4.6*2+3.75)-2.2*2.4-1.1*2.1*2-1.55*2.4*2","v":277.63499999999999}]
["R1F DS1",280,"0.16*1833.12",{"$f":"結構計算","v":{"$error":"#NAME?"}},"DS1","183312*1.1",{"$error":"#NAME?"},"W1","1833.12*1.26",{"$error":"#NAME?"},"#4","6*1833.12",{"$f":"結構計算","v":{"$error":"#NAME?"}},{"$f":"52.7*28.1-4*9.1+1.9*5.76+3.2*5.9+8.6*41.9+1.9*9.56+3.4*3.6-5.7*5.6","v":1833.1179999999999}]
["R1F S1",280,"0.16*31.92",{"$f":"結構計算","v":{"$error":"#NAME?"}},"A","31.92*1",{"$error":"#NAME?"},"#4","52*31.92",{"$error":"#NAME?"},null,null,null,{"$f":"5.7*5.6","v":31.919999999999998}]
["RF 過牆鋼樑包覆RC SG4",280,"0.5*1*7.7",{"$f":"結構計算","v":{"$error":"#NAME?"}},"F","2.25*7.7",{"$error":"#NAME?"},"#4","3.2*52",{"$error":"#NAME?"},"#5","(7.7+2)*8",{"$f":"結構計算","v":{"$error":"#NAME?"}}]
[null,null,null,null,null,null,null,"#4","7.7*3",{"$error":"#NAME?"}]
["R1F 過牆鋼樑包覆RC SJ1",280,"0.4*0.8*5.2*2",{"$f":"結構計算","v":{"$error":"#NAME?"}},"F","1.8*5.2*2",{"$error":"#NAME?"},"#4","2.6*35*2",{"$error":"#NAME?"},"#5","(5.2+2)*8*2",{"$error":"#NAME?"}]
[null,null,null,null,null,null,null,"#4","5.2*3*2",{"$error":"#NAME?"}]
[null,280,"0.4*0.8*5.65*2",{"$f":"結構計算","v":{"$error":"#NAME?"}},"F","1.8*5.965*2",{"$f":"結構計算","v":{"$error":"#NAME?"}},"#4","2.6*38*2",{"$error":"#NAME?"},"#5","(5.65+2)*8*2",{"$f":"結構計算","v":{"$error":"#NAME?"}}]
[null,null,null,null,null,null,null,"#4","5.65*3*2",{"$error":"#NAME?"}]
["R1F 過牆鋼樑包覆RC SJ5",280,"0.38*0.55*3.75",{"$f":"結構計算","v":{"$error":"#NAME?"}},"F","1.5*3.75",{"$f":"結構計算","v":{"$error":"#NAME?"}},"#4","2.06*25",{"$error":"#NAME?"},"#5","(3.75+2)*8",{"$f":"結構計算","v":{"$error":"#NAME?"}}]
[null,null,null,null,null,null,null,"#4","3.75*3",{"$f":"結構計算","v":{"$error":"#NAME?"}}]
["10F 過牆鋼樑包覆RC SG4+T",280,"0.35*0.46*5.9",{"$f":"結構計算","v":{"$error":"#NAME?"}},"F","0.46*5.9",{"$f":"結構計算","v":{"$error":"#NAME?"}},"#4","0.5*2*40",{"$error":"#NAME?"},"#5","(5.9+2)*8",{"$f":"結構計算","v":{"$error":"#NAME?"}}]
[null,null,null,null,null,null,null,"#4","5.9*3*4",{"$f":"結構計算","v":{"$error":"#NAME?"}},"S19*200","20*3",{"$error":"#NAME?"}]
["10F 過牆鋼樑包覆RC SJ5+T",280,"0.15*0.46*5.9",{"$f":"結構計算","v":{"$error":"#NAME?"}},"F","0.46*5.9",{"$f":"結構計算","v":{"$error":"#NAME?"}},"#4","0.4*2*40",{"$error":"#NAME?"},"#5","(5.9+2)*8",{"$error":"#NAME?"}]
[null,null,null,null,null,null,null,"#4","5.9*3",{"$f":"結構計算","v":{"$error":"#NAME?"}},"S19*200","20*3",{"$error":"#NAME?"}]
["以上10F,以下R1F"]
["R1F 25CM撐牆",280,"0.25*12.7",{"$f":"結構計算","v":{"$error":"#NAME?"}},"F","12.7*2",{"$f":"結構計算","v":{"$error":"#NAME?"}},"#4","13.75*12.7",{"$f":"結構計算","v":{"$error":"#NAME?"}},"#5","35.44*12.7",{"$f":"結構計算","v":{"$error":"#NAME?"}},{"$f":"0.46*(5.65*3+5.7+2.48*2)","v":12.700600000000001}]
["R1F 15CM RC WALL",280,"0.15*144.23",{"$f":"結構計算","v":{"$error":"#NAME?"}},"F","144.23*2",{"$f":"結構計算","v":{"$error":"#NAME?"}},"#4","30.73*144.23",{"$f":"結構計算","v":{"$error":"#NAME?"}},null,null,null,{"$f":"4.5*(4.6*2+3.75+7.7+5.7+5.7)","v":144.22499999999999}]
["R1F 15CM 女兒牆",280,"0.15*142.68",{"$f":"結構計算","v":{"$error":"#NAME?"}},"F","142.58*2",{"$error":"#NAME?"},"#3","30*142.58",{"$error":"#NAME?"},null,null,null,{"$f":"1.2*(10.1*4+8.3*3+2.45+3.85+4.9+10.1*3+8.3+3.8)","v":142.67999999999998}]
["R1F 女兒牆包樑",280,"0.3*1*118.9",{"$f":"結構計算","v":{"$error":"#NAME?"}},"F","1.2*118.9",{"$error":"#NAME?"},"#3","30*118.9",{"$error":"#NAME?"},"#4","(118.9*1.1)*4",{"$f":"結構計算","v":{"$error":"#NAME?"}}]
[null,null,null,null,null,null,null,"#4","1.6*795",{"$error":"#NAME?"},"S19*200","396*3",{"$error":"#NAME?"}]
["R2F DS1",280,"0.16*190.23",{"$f":"結構計算","v":{"$error":"#NAME?"}},"DS1","190.23*1.1",{"$error":"#NAME?"},"W1","190.23*1.26",{"$error":"#NAME?"},"#4","6*190.23",{"$error":"#NAME?"},{"$f":"2.8*3.4+9.1*6.6+9.5*12.7","v":190.23}]
["R2F 15CM RC WALL",280,"0.15*37.3",{"$f":"結構計算","v":{"$error":"#NAME?"}},"F","37.3*2",{"$error":"#NAME?"},"#4","30.73*37.3",{"$error":"#NAME?"},null,null,null,{"$f":"4.5*8.4","v":37.800000000000004}]
["R2F 15CM 女兒牆",280,"0.15*55.08",{"$f":"結構計算","v":{"$error":"#NAME?"}},"F","55.08*2",{"$error":"#NAME?"},"#3","30*55.08",{"$error":"#NAME?"},null,null,null,{"$f":"1.2*(8.2+3.8+8.3+2.65)*2","v":55.08}]
["R2F 女兒牆包樑",280,"0.3*1*45.9",{"$f":"結構計算","v":{"$error":"#NAME?"}},"F","1.2*45.9",{"$error":"#NAME?"},"#3","30*45.9",{"$error":"#NAME?"},"#4","(45.9*1.1)*4",{"$f":"結構計算","v":{"$error":"#NAME?"}}]
[null,null,null,null,null,null,null,"#4","1.6*306",{"$error":"#NAME?"},"S19*200","154*3",{"$error":"#NAME?"}]
["PRF DS1",280,"0.16*68.47",{"$f":"結構計算","v":{"$error":"#NAME?"}},"DS1","68.47*1.1",{"$error":"#NAME?"},"W1","68.48*1.26",{"$error":"#NAME?"},"#4","6*68.47",{"$error":"#NAME?"},{"$f":"9.1*3+8.2*3.86+2.8*3.4","v":68.471999999999994}]
["PRF DS1a",280,"0.2*32.85",{"$f":"結構計算","v":{"$error":"#NAME?"}},"DS1","32.85*1.1",{"$error":"#NAME?"},"W2","32.85*1.26",{"$error":"#NAME?"},"#5","6*32.85",{"$error":"#NAME?"},{"$f":"3.61*9.1","v":32.850999999999999}]
["PRF DS2",280,"0.25*78.85",{"$f":"結構計算","v":{"$error":"#NAME?"}},"DS1","78.85*1.1",{"$error":"#NAME?"},"W1","78.85*1.1",{"$error":"#NAME?"},"#5","6*78.85",{"$error":"#NAME?"},{"$f":"9.5*8.3","v":78.850000000000009}]
["PRF 15CM 女兒牆",280,"0.15*47.04",{"$f":"結構計算","v":{"$error":"#NAME?"}},"F","47.04*2",{"$error":"#NAME?"},"#3","30*47.04",{"$error":"#NAME?"},null,null,null,{"$f":"1.2*(9.5+10.1)*2","v":47.04}]
["R2F 女兒牆包樑",280,"0.3*1*32",{"$f":"結構計算","v":{"$error":"#NAME?"}},"F","1.2*32",{"$error":"#NAME?"},"#3","30*32",{"$error":"#NAME?"},"#4","(32*1.1)*4",{"$f":"結構計算","v":{"$error":"#NAME?"}}]
[null,null,null,null,null,null,null,"#4","1.6*214",{"$error":"#NAME?"},"S19*200","107*3",{"$error":"#NAME?"}]
["警衛室S50",280,"0.5*18",{"$f":"結構計算","v":{"$error":"#NAME?"}},"F","0.5*(4.5+4)*2",{"$error":"#NAME?"},"#5","(4.5+0.5)*17*2",{"$error":"#NAME?"},"#5","(4+0.5)*23*2",{"$error":"#NAME?"},{"$f":"4.5*4","v":18}]
["警衛室 RS1",280,"0.15*18",{"$error":"#NAME?"},"A","18*1",{"$error":"#NAME?"},"#4","(4.5+0.4)*41*2",{"$error":"#NAME?"},"#4","(4+0.4)*46*2",{"$error":"#NAME?"}]
["警衛室 RB1",280,"0.3*0.45*4*2",{"$error":"#NAME?"},"F","1.05*4*2",{"$error":"#NAME?"},"#4","1.8*40*2",{"$error":"#NAME?"},"#8","(4+0.4*2)*8*2",{"$error":"#NAME?"}]
["警衛室 RB2",280,"0.3*0.45*3.9*2",{"$error":"#NAME?"},"F","1.05*3.9*2",{"$error":"#NAME?"},"#4","1.8*27*2",{"$error":"#NAME?"},"#7","(4.5+0.35*2)*6*2",{"$error":"#NAME?"}]
["警衛室 W30",280,"0.3*4.5*2.5",{"$error":"#NAME?"},"F","4.5*2.5*2+2.5*0.3*2",{"$error":"#NAME?"},"#4","3.9*31*2",{"$error":"#NAME?"},"#4","(4.5+0.4)*17*2",{"$error":"#NAME?"}]
["警衛室 W25",280,"0.25*11",{"$error":"#NAME?"},"F","11*2",{"$error":"#NAME?"},"#4","57.2*11",{"$error":"#NAME?"}]
["警衛室 W15",280,"0.15*12.45",{"$error":"#NAME?"},"F","12.45*2",{"$error":"#NAME?"},"#4","57.2*12.45",{"$error":"#NAME?"}]
["女兒牆,窗台",280,"0.15*10.2",{"$error":"#NAME?"},"F","10.2*2",{"$error":"#NAME?"},"#4","57.2*10.2",{"$error":"#NAME?"}]
[]
[null,null,null,{"$f":"SUM(D6:D851)","v":{"$error":"#VALUE!"}},null,null,{"$f":"SUM(G16:G851)","v":{"$error":"#VALUE!"}},null,null,{"$f":"SUM(J16:J851)","v":{"$error":"#VALUE!"}},null,null,{"$f":"SUM(M6:M851)","v":{"$error":"#VALUE!"}}]
["編  號","型式","混   凝   土","RC","型式","模        板","FW","鋼筋","數 量 計 算","ST1","鋼筋","數 量 計 算","ST2"]
[null,280,null,{"$f":"SUMIF(B$6:B$851,$B854,D$6:D$851)","v":{"$error":"#VALUE!"}},"F",null,{"$f":"SUMIF(E$6:E$851,$E854,G$6:G$851)","v":{"$error":"#VALUE!"}},"#3",null,{"$f":"SUMIF(H$6:H$851,$H854,J$6:J$851)","v":{"$error":"#VALUE!"}},"#3",null,{"$f":"SUMIF(K$6:K$851,$K854,M$6:M$851)","v":0}]
[null,null,null,null,"A","清水板",{"$f":"SUMIF(E$6:E$851,$E855,G$6:G$851)","v":{"$error":"#VALUE!"}},"#4",null,{"$error":"#VALUE!"},"#4",null,{"$error":"#VALUE!"}]
[null,null,null,null,"DS1",null,{"$f":"SUMIF(E$6:E$851,$E856,G$6:G$851)","v":{"$error":"#VALUE!"}},"#5",null,{"$error":"#VALUE!"},"#5",null,{"$error":"#VALUE!"}]
[null,null,null,null,null,null,null,"#6",null,{"$error":"#VALUE!"},"#6",null,{"$error":"#VALUE!"}]
[null,null,null,null,null,null,null,"#7",null,0,"#7",null,{"$error":"#VALUE!"}]
[null,null,null,null,null,null,null,"#8",null,0,"#8",null,{"$error":"#VALUE!"}]
[null,null,null,{"$f":"SUM(D854:D859)","v":{"$error":"#VALUE!"}},null,null,{"$f":"SUM(G854:G859)","v":{"$error":"#VALUE!"}},"#10",null,0,"#10",null,{"$error":"#VALUE!"}]
[null,null,null,null,null,null,null,"W1",null,{"$error":"#VALUE!"},"S19*200",null,{"$error":"#VALUE!"}]
[null,null,null,null,null,null,null,"W2",null,{"$error":"#VALUE!"},"#8C",null,{"$error":"#VALUE!"}]
[null,null,null,null,null,null,null,"#6T",null,{"$error":"#VALUE!"},"#10C",null,{"$error":"#VALUE!"}]
[null,null,null,null,null,null,null,null,null,null,"#8T",null,{"$error":"#VALUE!"}]
[null,null,null,null,null,null,null,null,null,null,"#10T",null,{"$error":"#VALUE!"}]
[null,null,null,null,null,null,null,null,null,null,"#10S",null,{"$error":"#VALUE!"}]
[null,null,null,null,null,null,null,null,null,{"$f":"SUM(J854:J866)","v":{"$error":"#VALUE!"}},null,null,{"$f":"SUM(M854:M866)","v":{"$error":"#VALUE!"}}]
[null,"#3",{"$f":"J854+M854","v":{"$error":"#VALUE!"}},null,null,"0.56*1.03",null,"#3",{"$f":"+C868*0.56*1.03","v":{"$error":"#VALUE!"}}]
[null,"#4",{"$error":"#VALUE!"},null,null,"0.994*1.04",null,"#4",{"$f":"C869*0.994*1.04","v":{"$error":"#VALUE!"}}]
[null,"#5",{"$error":"#VALUE!"},null,null,"1.56*1.05",null,"#5",{"$f":"C870*1.56*1.05","v":{"$error":"#VALUE!"}},null,null,null,null,{"$f":"+L869+L873+L875","v":{"$error":"#VALUE!"}}]
[null,"#6",{"$error":"#VALUE!"},null,null,"2.24*1.06",null,"#6",{"$f":"C871*2.24*1.06","v":{"$error":"#VALUE!"}}]
[null,"#7",{"$error":"#VALUE!"},null,null,"3.05*1.07",null,"#7",{"$f":"C872*3.05*1.07","v":{"$error":"#VALUE!"}},null,null,"4200KG/CM2鋼筋 #3~#10"]
[null,"#8",{"$error":"#VALUE!"},null,null,"3.98*1.08",null,"#8",{"$f":"C873*3.98*1.08","v":{"$error":"#VALUE!"}},null,null,{"$f":"SUM(I868:I874)/1000","v":{"$error":"#VALUE!"}},"公噸"]
[null,"#10",{"$error":"#VALUE!"},null,null,"3.98*1.1",null,"#10",{"$f":"C874*3.98*1.1","v":{"$error":"#VALUE!"}},null,null,"鋼筋網"]
[null,"W1",{"$f":"+J861","v":{"$error":"#VALUE!"}},null,null,"10.12*1","10/8*/100*100",null,{"$f":"C875*10.12","v":{"$error":"#VALUE!"}},null,null,{"$f":"(+I875+I876)/1000","v":{"$error":"#VALUE!"}},"公噸"]
[null,"W2",{"$f":"+J862","v":{"$error":"#VALUE!"}},null,null,"12.32*1","10/10*/100*100",null,{"$f":"C876*12.32","v":{"$error":"#VALUE!"}}]
[null,"#8C",{"$f":"+M862","v":{"$error":"#VALUE!"}},null,null,1]
[null,"#10C",{"$f":"+M863","v":{"$error":"#VALUE!"}},null,null,1]
[null,"#10S",{"$f":"+M866","v":{"$error":"#VALUE!"}},null,null,1]
[null,"#6T",{"$f":"+J863","v":{"$error":"#VALUE!"}},null,null,1]
[null,"#8T",{"$f":"+M864","v":{"$error":"#VALUE!"}},null,null,1]
[null,"#10T",{"$f":"+M865","v":{"$error":"#VALUE!"}}]
[null,"S19*200",{"$f":"+M861","v":{"$error":"#VALUE!"}}]

{"sheet":"鋼構","index":5,"n_rows":1095,"n_cols":13,"rows_kept":1095,"cut":false,"hidden":false,"merged":[]}
[]
["鋼 結 構 數 量 計 算 表"]
["業 主: 樂迦再生科技股份有限公司",null,null,null,null,"日    期:2022-"]
["工程名稱:竹北生醫園區廠房新建工程",null,null,null,null," 施工地點:"]
["項目編號","鋼料型類","類別","數       量       計       算","數  量","重量","損耗","總重","防火漆","位置","面積",null,"被襯板12*35"]
[" B1~2F+120 SC1 -255~+815","口-700*700*42","口-SN490YC","10.7*29",{"$f":"鋼構","v":{"$error":"#NAME?"}},877,1.06,{"$f":"E6*F6*G6","v":{"$error":"#VALUE!"}},2.8,2.1,{"$f":"2.8*29*2.1","v":170.51999999999998},{"$f":"(0.7*2+0.616*2)*42*7.85*1+9.42","v":877.19039999999984},{"$f":"0.012*0.025*7850*4","v":9.4200000000000017}]
[null,"底板 PL-40","PL-A36","0.7*0.7*29",{"$f":"鋼構","v":{"$error":"#NAME?"}},{"$f":"40*7.85","v":314},1.06,{"$error":"#VALUE!"}]
[null,"變斷面加勁PL-25","PL-SN490B","0.616*0.616*29",{"$f":"鋼構","v":{"$error":"#NAME?"}},{"$f":"25*7.85","v":196.25},1.06,{"$error":"#VALUE!"}]
[null,"背襯板 PL-25*47","PL-SN490B","0.047*0.616*6*29",{"$f":"鋼構","v":{"$error":"#NAME?"}},{"$f":"25*7.85","v":196.25},1.06,{"$error":"#VALUE!"}]
[null,"M-36 預埋螺栓 L=700","M-36A.B","4*29",{"$f":"鋼構","v":{"$error":"#NAME?"}},1,1,{"$error":"#VALUE!"}]
[null,"不收縮砂漿","N.C","0.05*0.75*0.75*29",{"$f":"鋼構","v":{"$error":"#NAME?"}},1,1.1000000000000001,{"$error":"#VALUE!"}]
[null,"1F接樑加勁板 PL-35","PL-SN490B","0.616*0.616*(2*29+1*5)",{"$f":"鋼構","v":{"$error":"#NAME?"}},{"$f":"35*7.85","v":274.75},1.06,{"$f":"E12*F12*G12","v":{"$error":"#VALUE!"}}]
[null,"2F接樑加勁板 PL-35","PL-SN490B","0.616*0.616*2*3",{"$f":"鋼構","v":{"$error":"#NAME?"}},{"$f":"35*7.85","v":274.75},1.06,{"$f":"E13*F13*G13","v":{"$error":"#VALUE!"}}]
[null,"2F接樑加勁板 PL-32","PL-SN490B","0.616*0.616*2*26",{"$f":"鋼構","v":{"$error":"#NAME?"}},{"$f":"32*7.85","v":251.2},1.06,{"$f":"E14*F14*G14","v":{"$error":"#VALUE!"}}]
[null,"1,2F背襯板 PL-25*47","PL-SN490B","0.047*0.616*6*29*4",{"$f":"鋼構","v":{"$error":"#NAME?"}},{"$f":"25*7.85","v":196.25},1.06,{"$error":"#VALUE!"}]
[null,"B1 剪力釘","19∮*76","(7*4+12*3*4)*19",{"$f":"鋼構","v":{"$error":"#NAME?"}},1,1,{"$f":"E16*F16*G16","v":{"$error":"#VALUE!"}}]
[null,"1F 剪力釘","19∮*76","(34*3*4)*19",{"$f":"鋼構","v":{"$error":"#NAME?"}},1,1,{"$f":"E17*F17*G17","v":{"$error":"#VALUE!"}}]
[null,"25∮TIE BOLT","25∮TIE","2*21*29",{"$f":"鋼構","v":{"$error":"#NAME?"}},1,1,{"$f":"E18*F18*G18","v":{"$error":"#VALUE!"}}]
[null,"灌漿孔補強板 PL-21","PL-SN490B","0.4*0.4*29",{"$f":"鋼構","v":{"$error":"#NAME?"}},{"$f":"21*7.85","v":164.85},1.06,{"$f":"E19*F19*G19","v":{"$error":"#VALUE!"}}]
[null,"柱內灌漿 ","SSC","0.616*0.616*10.7*29",{"$f":"鋼構","v":{"$error":"#NAME?"}},1,1.05,{"$error":"#VALUE!"}]
["1F WB2","BH-550*300*16*35","BH-SN490B","7.7+10.1*4+8.3*7",{"$f":"鋼構","v":{"$error":"#NAME?"}},226.2,1.06,{"$error":"#VALUE!"},null,null,null,{"$f":"(0.3*2*35*7.85+0.48*16*7.85)*1.005","v":226.26368999999994}]
[null,"接合板 PL-25*170*430","PL-SN490B","0.17*0.43*2*12",{"$f":"鋼構","v":{"$error":"#NAME?"}},{"$f":"25*7.85","v":196.25},1.06,{"$error":"#VALUE!"}]
[null,"FB PL-9*25*36","PL-SN490B","0.025*0.36*2*2*12",{"$f":"鋼構","v":{"$error":"#NAME?"}},{"$f":"9*7.85","v":70.649999999999991},1.06,{"$error":"#VALUE!"}]
[null,"S-10T","M-24","12*2*12",{"$f":"鋼構","v":{"$error":"#NAME?"}},1,1,{"$error":"#VALUE!"}]
[null,"B1 剪力釘","19∮*100","2*(42+55*4+45*7)",{"$f":"鋼構","v":{"$error":"#NAME?"}},1,1,{"$f":"E25*F25*G25","v":{"$error":"#VALUE!"}}]
["1F G2a,G3a-,G4,G5,B1~B4","BH-550*300*16*35","BH-SN490B","7.7*4+10.1*12+8.3*15",{"$f":"鋼構","v":{"$error":"#NAME?"}},226.2,1.06,{"$f":"E26*F26*G26","v":{"$error":"#VALUE!"}}]
[null,"接合板 PL-25*170*430","PL-SN490B","0.17*0.43*2*31",{"$f":"鋼構","v":{"$error":"#NAME?"}},{"$f":"25*7.85","v":196.25},1.06,{"$error":"#VALUE!"}]
[null,"FB PL-9*25*36","PL-SN490B","0.025*0.36*2*2*31",{"$f":"鋼構","v":{"$error":"#NAME?"}},{"$f":"9*7.85","v":70.649999999999991},1.06,{"$error":"#VALUE!"}]
[null,"S-10T","M-24","12*2*31",{"$f":"鋼構","v":{"$error":"#NAME?"}},1,1,{"$error":"#VALUE!"}]
[null,"B1 剪力釘","19∮*100","2*(42*4+55*12+45*15)",{"$f":"鋼構","v":{"$error":"#NAME?"}},1,1,{"$error":"#VALUE!"}]
["1F G2, G3 WB2","BH-550*300*16*35","BH-SN490B","2*2+2.35",{"$f":"鋼構","v":{"$error":"#NAME?"}},226.2,1.06,{"$f":"E31*F31*G31","v":{"$error":"#VALUE!"}}]
[null,"接合板 PL-25*170*430","PL-SN490B","0.17*0.43*3",{"$f":"鋼構","v":{"$error":"#NAME?"}},{"$f":"25*7.85","v":196.25},1.06,{"$error":"#VALUE!"}]
[null,"FB PL-9*25*36","PL-SN490B","0.025*0.36*3",{"$f":"鋼構","v":{"$error":"#NAME?"}},{"$f":"9*7.85","v":70.649999999999991},1.06,{"$error":"#VALUE!"}]
[null,"S-10T","M-24","12*3",{"$f":"鋼構","v":{"$error":"#NAME?"}},1,1,{"$error":"#VALUE!"}]
[null,"B1 剪力釘","19∮*100","2*(11*2+13)",{"$f":"鋼構","v":{"$error":"#NAME?"}},1,1,{"$error":"#VALUE!"}]
["1F G2b~d B4c","BH-1600*300*16*35","BH-SN490B","10.1*3+8.3*1",{"$f":"鋼構","v":{"$error":"#NAME?"}},358.8,1.06,{"$f":"E36*F36*G36","v":{"$error":"#VALUE!"}},null,null,null,{"$f":"(0.3*2*35*7.85+1.53*16*7.85)*1.005","v":358.80309}]
[null,"接合板 PL-25*170*1480","PL-SN490B","0.17*1.48*2*4",{"$f":"鋼構","v":{"$error":"#NAME?"}},{"$f":"25*7.85","v":196.25},1.06,{"$error":"#VALUE!"}]
[null,"FB PL-9*25*36","PL-SN490B","0.025*0.36*2*2*4",{"$f":"鋼構","v":{"$error":"#NAME?"}},{"$f":"9*7.85","v":70.649999999999991},1.06,{"$error":"#VALUE!"}]
[null,"S-10T","M-24","21*2*4",{"$f":"鋼構","v":{"$error":"#NAME?"}},1,1,{"$error":"#VALUE!"}]
[null,"B1 剪力釘","19∮*100","2*(55*3+45*1)",{"$f":"鋼構","v":{"$error":"#NAME?"}},1,1,{"$error":"#VALUE!"}]
["1F G2e","BH-550*550*20*35","BH-SN490B","0.35*1",{"$f":"鋼構","v":{"$error":"#NAME?"}},379.4,1,{"$f":"E41*F41*G41","v":{"$error":"#VALUE!"}},null,null,null,{"$f":"(0.55*2*35*7.85+0.48*20*7.85)*1.005","v":379.47292499999992}]
["1F B1b,B2b,B3b,B4b","BH-550*400*20*35","BH-SN490B","0.35*4",{"$f":"鋼構","v":{"$error":"#NAME?"}},296.60000000000002,1,{"$error":"#VALUE!"},null,null,null,{"$f":"(0.4*2*35*7.85+0.48*20*7.85)*1.005","v":296.63579999999996}]
["1F WB1a","BH-550*300*20*35","BH-SN490B","0.35*2",{"$f":"鋼構","v":{"$error":"#NAME?"}},241.4,1,{"$error":"#VALUE!"},null,null,null,{"$f":"(0.3*2*35*7.85+0.48*20*7.85)*1.005","v":241.41104999999996}]
[null,"B1 剪力釘","19∮*76","6*7",{"$f":"鋼構","v":{"$error":"#NAME?"}},1,1,{"$error":"#VALUE!"}]
[null,null,"19∮*100","6*7",{"$f":"鋼構","v":{"$error":"#NAME?"}},1,1,{"$error":"#VALUE!"}]
["1MF SJ4 A梯","RH-450*200*9*14","RH-A572","3.5+3.1+2.8",{"$f":"鋼構","v":{"$error":"#NAME?"}},74.900000000000006,1.06,{"$f":"E46*F46*G46","v":{"$error":"#VALUE!"}},{"$f":"0.45*2+0.2*3","v":1.5},null,{"$f":"+I46*E46","v":{"$error":"#VALUE!"}}]
["接樑,柱","接合板 PL-14","PL-SN490B","0.285*0.1*6",{"$f":"鋼構","v":{"$error":"#NAME?"}},{"$f":"14*7.85","v":109.89999999999999},1.06,{"$error":"#VALUE!"}]
[null,"S-10T","M-20","4*2*3",{"$f":"鋼構","v":{"$error":"#NAME?"}},1,1,{"$error":"#VALUE!"}]
[null,"B1 剪力釘","19∮*100","2*(19+17+16)",{"$f":"鋼構","v":{"$error":"#NAME?"}},1,1,{"$error":"#VALUE!"}]
[null,"柱內鋼板 PL-25","PL-SN490B","0.616*0.616*2",{"$f":"鋼構","v":{"$error":"#NAME?"}},{"$f":"25*7.85","v":196.25},1.06,{"$error":"#VALUE!"}]
[null,"SC7 補強 PL-20","PL-SN490B","0.4*0.4*2",{"$f":"鋼構","v":{"$error":"#NAME?"}},{"$f":"20*7.85","v":157},1.06,{"$error":"#VALUE!"}]
[null,"SC8 補強 PL-20","PL-SN490B","0.3*0.3*2",{"$f":"鋼構","v":{"$error":"#NAME?"}},{"$f":"20*7.85","v":157},1.06,{"$error":"#VALUE!"}]
["1MF SJ1 B梯","RH-600*200*11*17","RH-A572","3.5*2",{"$f":"鋼構","v":{"$error":"#NAME?"}},103,1,{"$error":"#VALUE!"},{"$f":"0.6*2+0.2*3","v":1.8},null,{"$f":"+I53*E53","v":{"$error":"#VALUE!"}}]
[null,"接合板 PL-16 ","PL-SN490B","0.1*0.465*4",{"$f":"鋼構","v":{"$error":"#NAME?"}},{"$f":"16*7.85","v":125.6},1.06,{"$error":"#VALUE!"}]
[null,"柱內鋼板 PL-25","PL-SN490B","0.616*0.616*2",{"$f":"鋼構","v":{"$error":"#NAME?"}},{"$f":"25*7.85","v":196.25},1.06,{"$error":"#VALUE!"}]
[null,"SC8 補強 PL-20","PL-SN490B","0.3*0.3*2*3",{"$f":"鋼構","v":{"$error":"#NAME?"}},{"$f":"20*7.85","v":157},1.06,{"$f":"E56*F56*G56","v":{"$error":"#VALUE!"}}]
[null,"S-10T","M-24","6*2*2",{"$f":"鋼構","v":{"$error":"#NAME?"}},1,1,{"$error":"#VALUE!"}]
[null,"B1 剪力釘","19∮*100","2*20*2",{"$f":"鋼構","v":{"$error":"#NAME?"}},1,1,{"$error":"#VALUE!"}]
["1MF SJ4","RH-450*200*9*14","RH-A572","3*1",{"$f":"鋼構","v":{"$error":"#NAME?"}},74.900000000000006,1.06,{"$error":"#VALUE!"},{"$f":"0.45*2+0.2*3","v":1.5},null,{"$f":"+I59*E59","v":{"$error":"#VALUE!"}}]
["接樑,柱","接合板 PL-14","PL-SN490B","0.285*0.1*2",{"$f":"鋼構","v":{"$error":"#NAME?"}},{"$f":"14*7.85","v":109.89999999999999},1.06,{"$error":"#VALUE!"}]
[null,"S-10T","M-20","4*2*2",{"$f":"鋼構","v":{"$error":"#NAME?"}},1,1,{"$error":"#VALUE!"}]
[null,"B1 剪力釘","19∮*100","2*16",{"$f":"鋼構","v":{"$error":"#NAME?"}},1,1,{"$error":"#VALUE!"}]
["1MF SJ5","RH-350*175*7*11","RH-A36","3.3*1",{"$f":"鋼構","v":{"$error":"#NAME?"}},47.4,1.06,{"$error":"#VALUE!"},{"$f":"0.35*2+0.175*3","v":1.2249999999999999},null,{"$f":"+I63*E63","v":{"$error":"#VALUE!"}}]
["接樑,柱","接合板 PL-12","PL-A36","0.566*0.295*2",{"$f":"鋼構","v":{"$error":"#NAME?"}},{"$f":"12*7.85","v":94.199999999999989},1.06,{"$error":"#VALUE!"}]
[null,"S-10T","M-20","4*2",{"$f":"鋼構","v":{"$error":"#NAME?"}},1,1,{"$error":"#VALUE!"}]
[null,"B1 剪力釘","19∮*100","18*1",{"$f":"鋼構","v":{"$error":"#NAME?"}},1,1,{"$error":"#VALUE!"}]
["1MF SJ4 C梯","RH-450*200*9*14","RH-A572","2.65*2.8",{"$f":"鋼構","v":{"$error":"#NAME?"}},74.900000000000006,1.06,{"$error":"#VALUE!"},{"$f":"0.45*2+0.2*3","v":1.5},null,{"$f":"+I67*E67","v":{"$error":"#VALUE!"}}]
["接樑,柱","接合板 PL-14","PL-SN490B","0.285*0.1*2",{"$f":"鋼構","v":{"$error":"#NAME?"}},{"$f":"14*7.85","v":109.89999999999999},1.06,{"$error":"#VALUE!"}]
[null,"S-10T","M-20","4*2*2",{"$f":"鋼構","v":{"$error":"#NAME?"}},1,1,{"$error":"#VALUE!"}]
[null,"B1 剪力釘","19∮*100","2*(15+16)",{"$f":"鋼構","v":{"$error":"#NAME?"}},1,1,{"$error":"#VALUE!"}]
[null,"柱內鋼板 PL-25","PL-SN490B","0.616*0.616*2",{"$f":"鋼構","v":{"$error":"#NAME?"}},{"$f":"25*7.85","v":196.25},1.06,{"$error":"#VALUE!"}]
[null,"SC7 補強 PL-20","PL-SN490B","0.4*0.4*2",{"$f":"鋼構","v":{"$error":"#NAME?"}},{"$f":"20*7.85","v":157},1.06,{"$error":"#VALUE!"}]
[null,"SC8 補強 PL-20","PL-SN490B","0.3*0.3*2",{"$f":"鋼構","v":{"$error":"#NAME?"}},{"$f":"20*7.85","v":157},1.06,{"$error":"#VALUE!"}]
["1F SC7","RH-400*400*13*21","RH-SN490B","5.2*1",{"$f":"鋼構","v":{"$error":"#NAME?"}},172,1.06,{"$error":"#VALUE!"},{"$f":"0.4*6*5.2","v":12.480000000000002},null,{"$f":"+I74*E74","v":{"$error":"#VALUE!"}}]
[null,"底板 PL-25","PL-SN490B","0.4*0.4*1",{"$f":"鋼構","v":{"$error":"#NAME?"}},{"$f":"25*7.85","v":196.25},1.06,{"$error":"#VALUE!"}]
[null,"M-24 預埋螺栓 L=600","M24 A.B","6*1",{"$f":"鋼構","v":{"$error":"#NAME?"}},1,1,{"$error":"#VALUE!"}]
[null,"PL-15","PL-SN490B","0.1*0.29*2",{"$f":"鋼構","v":{"$error":"#NAME?"}},{"$f":"15*7.85","v":117.75},1.06,{"$f":"E77*F77*G77","v":{"$error":"#VALUE!"}}]
[null,"S-10T","M-22","4*2",{"$f":"鋼構","v":{"$error":"#NAME?"}},1,1,{"$error":"#VALUE!"}]
["1F SC8","RH-300*300*10*15","RH-SN490B","5.2*12",{"$f":"鋼構","v":{"$error":"#NAME?"}},172,1.06,{"$error":"#VALUE!"},{"$f":"0.3*6","v":1.7999999999999998},null,{"$f":"+I79*E79","v":{"$error":"#VALUE!"}}]
[null,"底板 PL-20","PL-SN490B","0.3*0.3*1",{"$f":"鋼構","v":{"$error":"#NAME?"}},{"$f":"20*7.85","v":157},1.06,{"$error":"#VALUE!"}]
[null,"M-24 預埋螺栓 L=600","M24 A.B","6*1",{"$f":"鋼構","v":{"$error":"#NAME?"}},1,1,{"$error":"#VALUE!"}]
[null,"PL-15","PL-SN490B","0.1*0.29*2*12",{"$f":"鋼構","v":{"$error":"#NAME?"}},{"$f":"15*7.85","v":117.75},1.06,{"$f":"E82*F82*G82","v":{"$error":"#VALUE!"}}]
[null,"S-10T","M-22","4*2*12",{"$f":"鋼構","v":{"$error":"#NAME?"}},1,1,{"$error":"#VALUE!"}]
["2F SG1a","BH-800*350*15*35","BH-SN490B","7.7+3.65",{"$f":"鋼構","v":{"$error":"#NAME?"}},279.7,1,{"$error":"#VALUE!"},{"$f":"0.8*2+0.3*3","v":2.5},null,{"$f":"+I84*E84","v":{"$error":"#VALUE!"}},{"$f":"(0.35*2*35*7.85+0.73*15*7.85)*1.005","v":279.67391249999991}]
[null,"接合板 PL-28*185*615","PL-SN490B","0.185*0.615*3",{"$f":"鋼構","v":{"$error":"#NAME?"}},{"$f":"28*7.85","v":219.79999999999998},1.06,{"$error":"#VALUE!"}]
[null,"FB PL-9*25*36","PL-SN490B","0.025*0.41*6",{"$f":"鋼構","v":{"$error":"#NAME?"}},{"$f":"9*7.85","v":70.649999999999991},1.06,{"$error":"#VALUE!"}]
[null,"S-10T","M-24","16*2*3",{"$f":"鋼構","v":{"$error":"#NAME?"}},1,1,{"$error":"#VALUE!"}]
[null,"B1 剪力釘","19∮*100","2*(42+20)",{"$f":"鋼構","v":{"$error":"#NAME?"}},1,1,{"$error":"#VALUE!"}]
["2F SG1","BH-800*300*15*32","BH-SN490B","7.7*4+10.1*19+1.9*2",{"$f":"鋼構","v":{"$error":"#NAME?"}},238.6,1,{"$f":"E89*F89*G89","v":{"$error":"#VALUE!"}},{"$f":"0.8*2+0.3*3","v":2.5},null,{"$f":"+I89*E89","v":{"$error":"#VALUE!"}},{"$f":"(0.3*2*32*7.85+0.736*15*7.85)*1.005","v":238.57091999999997}]
[null,"接合板 PL-26*185*615","PL-SN490B","0.185*0.615*(4*2+19*2+2*1)",{"$f":"鋼構","v":{"$error":"#NAME?"}},{"$f":"26*7.85","v":204.1},1.06,{"$error":"#VALUE!"}]
[null,"FB PL-9*25*36","PL-SN490B","0.025*0.36*2*(4*2+19*2+2*1)",{"$f":"鋼構","v":{"$error":"#NAME?"}},{"$f":"9*7.85","v":70.649999999999991},1.06,{"$error":"#VALUE!"}]
[null,"S-10T","M-24","16*2*(4*2+19*2+2*1)",{"$f":"鋼構","v":{"$error":"#NAME?"}},1,1,{"$error":"#VALUE!"}]
[null,"B1 剪力釘","19∮*100","2*(42*4+55*19+11*2)",{"$f":"鋼構","v":{"$error":"#NAME?"}},1,1,{"$error":"#VALUE!"}]
["2F SG3","BH-800*300*14*28","BH-SN490B","8.3*23+3.5*2+1.5",{"$f":"鋼構","v":{"$error":"#NAME?"}},214.7,1,{"$f":"E94*F94*G94","v":{"$error":"#VALUE!"}},{"$f":"0.8*2+0.3*3","v":2.5},null,{"$f":"+I94*E94","v":{"$error":"#VALUE!"}},{"$f":"(0.3*2*28*7.85+0.744*14*7.85)*1.005","v":214.71382799999998}]
[null,"接合板 PL-25*185*615","PL-SN490B","0.185*0.615*(23*2+3*1)",{"$f":"鋼構","v":{"$error":"#NAME?"}},{"$f":"25*7.85","v":196.25},1.06,{"$error":"#VALUE!"}]
[null,"FB PL-9*25*36","PL-SN490B","0.025*0.36*2*(23*2+3*1)",{"$f":"鋼構","v":{"$error":"#NAME?"}},{"$f":"9*7.85","v":70.649999999999991},1.06,{"$error":"#VALUE!"}]
[null,"S-10T","M-24","16*2*(23*2+3*1)",{"$f":"鋼構","v":{"$error":"#NAME?"}},1,1,{"$error":"#VALUE!"}]
[null,"B1 剪力釘","19∮*100","2*(45*23+19*2+8)",{"$f":"鋼構","v":{"$error":"#NAME?"}},1,1,{"$error":"#VALUE!"}]
["2F SG8","BH-800-300*200*10*20","BH-SN490B","5.15*2",{"$f":"鋼構","v":{"$error":"#NAME?"}},123,1,{"$f":"E99*F99*G99","v":{"$error":"#VALUE!"}},{"$f":"0.8*2+0.3*3","v":2.5},null,{"$f":"+I99*E99","v":{"$error":"#VALUE!"}},{"$f":"(0.2*2*20*7.85+0.76*10*7.85)*1.005","v":123.07229999999998}]
[null,"接合板 PL-18*185*615","PL-SN490B","0.185*0.615*2",{"$f":"鋼構","v":{"$error":"#NAME?"}},{"$f":"18*7.85","v":141.29999999999998},1.06,{"$error":"#VALUE!"}]
[null,"FB PL-9*25*36","PL-SN490B","0.025*0.36*2*2",{"$f":"鋼構","v":{"$error":"#NAME?"}},{"$f":"9*7.85","v":70.649999999999991},1.06,{"$error":"#VALUE!"}]
[null,"S-10T","M-24","16*2*2",{"$f":"鋼構","v":{"$error":"#NAME?"}},1,1,{"$error":"#VALUE!"}]
[null,"B1 剪力釘","19∮*100","2*28*2",{"$f":"鋼構","v":{"$error":"#NAME?"}},1,1,{"$error":"#VALUE!"}]
["2F SJ1","RH-600*200*11*17","RH-A572","8.7*48+8.1*2+10.5*2+5.85",{"$f":"鋼構","v":{"$error":"#NAME?"}},103,1,{"$f":"E104*F104*G104","v":{"$error":"#VALUE!"}},{"$f":"0.6*2+0.2*3","v":1.8},null,{"$f":"+I104*E104","v":{"$error":"#VALUE!"}}]
["接SG1","接合板 PL-16 243*736","PL-SN490B","0.243*0.736*2*(48+2+2+1)",{"$f":"鋼構","v":{"$error":"#NAME?"}},{"$f":"16*7.85","v":125.6},1.06,{"$error":"#VALUE!"}]
["外側補強","PL-16 143*736","PL-SN490B","0.143*0.736*36",{"$f":"鋼構","v":{"$error":"#NAME?"}},{"$f":"16*7.85","v":125.6},1.06,{"$f":"E106*F106*G106","v":{"$error":"#VALUE!"}}]
[null,"S-10T","M-24","6*2*(48+2+2+1)",{"$f":"鋼構","v":{"$error":"#NAME?"}},1,1,{"$error":"#VALUE!"}]
[null,"B1 剪力釘","19∮*100","2*(49*48+45*2+55*2+32)",{"$f":"鋼構","v":{"$error":"#NAME?"}},1,1,{"$error":"#VALUE!"}]
["2F SJ1*","RH-600*200*11*17","RH-A572","8.1*1",{"$f":"鋼構","v":{"$error":"#NAME?"}},103,1,{"$f":"E109*F109*G109","v":{"$error":"#VALUE!"}},{"$f":"0.6*2+0.2*3","v":1.8},null,{"$f":"+I109*E109","v":{"$error":"#VALUE!"}}]
[null,"側封板 PL-12","PL-SN490B","0.566*8.1*2",{"$f":"鋼構","v":{"$error":"#NAME?"}},{"$f":"12*7.85","v":94.199999999999989},1.06,{"$f":"E110*F110*G110","v":{"$error":"#VALUE!"}}]
["接SG1","接合板 PL-16 243*736","PL-SN490B","0.243*0.736*2",{"$f":"鋼構","v":{"$error":"#NAME?"}},{"$f":"16*7.85","v":125.6},1.06,{"$error":"#VALUE!"}]
["外側補強","PL-16 143*736","PL-SN490B","0.143*0.736",{"$f":"鋼構","v":{"$error":"#NAME?"}},{"$f":"16*7.85","v":125.6},1.06,{"$error":"#VALUE!"}]
[null,"S-10T","M-24","6*2",{"$f":"鋼構","v":{"$error":"#NAME?"}},1,1,{"$error":"#VALUE!"}]
[null,"B1 剪力釘","19∮*100","46*1",{"$f":"鋼構","v":{"$error":"#NAME?"}},1,1,{"$error":"#VALUE!"}]
["2F SJ2","RH-500*200*10*16","RH-A572","1.9*2+2+6",{"$f":"鋼構","v":{"$error":"#NAME?"}},88.2,1,{"$f":"E115*F115*G115","v":{"$error":"#VALUE!"}},{"$f":"0.5*2+0.2*3","v":1.6},null,{"$f":"+I115*E115","v":{"$error":"#VALUE!"}}]
["接柱","接合板 PL-16*170*360","PL-SN490B","0.17*0.36*3",{"$f":"鋼構","v":{"$error":"#NAME?"}},{"$f":"16*7.85","v":125.6},1.06,{"$error":"#VALUE!"}]
["接樑","接合板 PL-14","PL-SN490B","0.4*0.4*2+0.5*0.1+0.744*0.243",{"$f":"鋼構","v":{"$error":"#NAME?"}},{"$f":"14*7.85","v":109.89999999999999},1.06,{"$f":"E117*F117*G117","v":{"$error":"#VALUE!"}}]
[null,"FB PL-9*25*26","PL-SN490B","0.025*0.26*2*3",{"$f":"鋼構","v":{"$error":"#NAME?"}},{"$f":"9*7.85","v":70.649999999999991},1.06,{"$error":"#VALUE!"}]
[null,"S-10T","M-24","10*3+5*2",{"$f":"鋼構","v":{"$error":"#NAME?"}},1,1,{"$error":"#VALUE!"}]
[null,"B1 剪力釘","19∮*100","10*2+11+33",{"$f":"鋼構","v":{"$error":"#NAME?"}},1,1,{"$error":"#VALUE!"}]
["2F SJ3","RH-496*199*9*14","RH-A572","8.7*3+2.8+1.4*5+7.8+10.5*2+4+5.65+10.1",{"$f":"鋼構","v":{"$error":"#NAME?"}},77.900000000000006,1.06,{"$f":"E121*F121*G121","v":{"$error":"#VALUE!"}},{"$f":"0.5*2+0.2*3","v":1.6},null,{"$f":"+I121*E121","v":{"$error":"#VALUE!"}}]
["接樑,柱","接合板 PL-14","PL-SN490B","0.736*0.243*15+0.468*0.195*7+0.43*0.17*2",{"$f":"鋼構","v":{"$error":"#NAME?"}},{"$f":"14*7.85","v":109.89999999999999},1.06,{"$f":"E122*F122*G122","v":{"$error":"#VALUE!"}}]
[null,"FB PL-9*25*26","PL-SN490B","0.025*0.26*4",{"$f":"鋼構","v":{"$error":"#NAME?"}},{"$f":"9*7.85","v":70.649999999999991},1.06,{"$error":"#VALUE!"}]
[null,"S-10T","M-24","4*2*13+12*2",{"$f":"鋼構","v":{"$error":"#NAME?"}},1,1,{"$error":"#VALUE!"}]
[null,"B1 剪力釘","19∮*100","1*(49*3+15+8*5+42+59*2+22+31)",{"$f":"鋼構","v":{"$error":"#NAME?"}},1,1,{"$error":"#VALUE!"}]
["2F SJ4","RH-450*200*9*14","RH-A572","2.1*2+3.3+3.2+2.8+3.15+3.35+4.55+6.4+2.7+8.7",{"$f":"鋼構","v":{"$error":"#NAME?"}},74.900000000000006,1.06,{"$error":"#VALUE!"},{"$f":"0.45*2+0.2*3","v":1.5},null,{"$f":"+I126*E126","v":{"$error":"#VALUE!"}}]
["接樑,柱","接合板 PL-14","PL-SN490B","0.736*0.243*10+0.566*0.195*2+0.495*0.195*5",{"$f":"鋼構","v":{"$error":"#NAME?"}},{"$f":"14*7.85","v":109.89999999999999},1.06,{"$f":"E127*F127*G127","v":{"$error":"#VALUE!"}}]
[null,"接合板 PL-14","PL-SN490B","0.736*0.143*4+0.566*0.095*6",{"$f":"鋼構","v":{"$error":"#NAME?"}},{"$f":"14*7.85","v":109.89999999999999},1.06,{"$f":"E128*F128*G128","v":{"$error":"#VALUE!"}}]
[null,"FB PL-9*25*26","PL-SN490B","0.025*0.26*4",{"$f":"鋼構","v":{"$error":"#NAME?"}},{"$f":"9*7.85","v":70.649999999999991},1.06,{"$error":"#VALUE!"}]
[null,"S-10T","M-20","4*2*11",{"$f":"鋼構","v":{"$error":"#NAME?"}},1,1,{"$error":"#VALUE!"}]
[null,"B1 剪力釘","19∮*100","2*(12*2+18+18+16+18+18+24+35+15+47)",{"$f":"鋼構","v":{"$error":"#NAME?"}},1,1,{"$error":"#VALUE!"}]
["2F SJ5","RH-350*175*7*11","RH-A36","1.2+2.15+2.32+7.75+3.3+3.45*2+2.35+2.9*2",{"$f":"鋼構","v":{"$error":"#NAME?"}},47.4,1.06,{"$error":"#VALUE!"},{"$f":"0.35*2+0.175*3","v":1.2249999999999999},null,{"$f":"+I132*E132","v":{"$error":"#VALUE!"}}]
["接樑,柱","接合板 PL-12","PL-A36","0.17*0.29+0.736*0.243*4+0.566*0.195*9",{"$f":"鋼構","v":{"$error":"#NAME?"}},{"$f":"12*7.85","v":94.199999999999989},1.06,{"$error":"#VALUE!"}]
[null,"接合板 PL-12","PL-A36","0.566*0.095*8+0.736*0.143*2",{"$f":"鋼構","v":{"$error":"#NAME?"}},{"$f":"12*7.85","v":94.199999999999989},1.06,{"$f":"E134*F134*G134","v":{"$error":"#VALUE!"}}]
[null,"S-10T","M-24","8*1",{"$f":"鋼構","v":{"$error":"#NAME?"}},1,1,{"$error":"#VALUE!"}]
[null,"S-10T","M-20","4*2*9",{"$f":"鋼構","v":{"$error":"#NAME?"}},1,1,{"$f":"E136*F136*G136","v":{"$error":"#VALUE!"}}]
[null,"B1 剪力釘","19∮*100","1*(7+12+13+42+18+19*2+13+16*2)",{"$f":"鋼構","v":{"$error":"#NAME?"}},1,1,{"$error":"#VALUE!"}]
["2F SJ6","RH-250*125*6*9","RH-A36","2.15+2.4+2.35",{"$f":"鋼構","v":{"$error":"#NAME?"}},29,1.06,{"$f":"E138*F138*G138","v":{"$error":"#VALUE!"}},{"$f":"0.25*2+0.125*3","v":0.875},null,{"$f":"+I138*E138","v":{"$error":"#VALUE!"}}]
["接樑","接合板 PL-12","PL-A36","0.736*0.243*2+0.736*0.143*1+0.566*0.195*3",{"$f":"鋼構","v":{"$error":"#NAME?"}},{"$f":"12*7.85","v":94.199999999999989},1.06,{"$error":"#VALUE!"}]
[null,"接合板 PL-12","PL-A36","0.339*0.184+0.339*0.084",{"$f":"鋼構","v":{"$error":"#NAME?"}},{"$f":"12*7.85","v":94.199999999999989},1.06,{"$error":"#VALUE!"}]
[null,"S-10T","M-20","2*2*3",{"$f":"鋼構","v":{"$error":"#NAME?"}},1,1,{"$error":"#VALUE!"}]
[null,"B1 剪力釘","19∮*100","1*(12+13*2)",{"$f":"鋼構","v":{"$error":"#NAME?"}},1,1,{"$error":"#VALUE!"}]
["2F SJ7*","RH-500~294*200*8*12","RH-A572","4*3",{"$f":"鋼構","v":{"$error":"#NAME?"}},67.599999999999994,1.06,{"$f":"E143*F143*G143","v":{"$error":"#VALUE!"}},{"$f":"0.5*2+0.2*1","v":1.2},null,{"$f":"+I143*E143","v":{"$error":"#VALUE!"}},{"$f":"0.2*2*12*7.85+0.476*8*7.85","v":67.572800000000001}]
["接樑","腹板 PL-12","PL-SN490B","0.476*4*2*3",{"$f":"鋼構","v":{"$error":"#NAME?"}},{"$f":"12*7.85","v":94.199999999999989},1.06,{"$error":"#VALUE!"}]
[null,"接合板 PL-12","PL-SN490B","0.468*0.195*3+0.469*0.095*3+0.27*0.296*3",{"$f":"鋼構","v":{"$error":"#NAME?"}},{"$f":"12*7.85","v":94.199999999999989},1.06,{"$error":"#VALUE!"}]
[null,"S-10T","M-20","3*2*3",{"$f":"鋼構","v":{"$error":"#NAME?"}},1,1,{"$error":"#VALUE!"}]
["2F SJ7","RH-294*200*8*12","RH-A572","10.8*1",{"$f":"鋼構","v":{"$error":"#NAME?"}},55.8,1.06,{"$f":"E147*F147*G147","v":{"$error":"#VALUE!"}},{"$f":"0.294*2+0.2*3","v":1.1880000000000002},null,{"$f":"+I147*E147","v":{"$error":"#VALUE!"}},{"$f":"0.2*2*12*7.85+0.476*8*7.85","v":67.572800000000001}]
["接樑","腹板 PL-12","PL-SN490B","0.26*0.195*2+0.26*0.095*2",{"$f":"鋼構","v":{"$error":"#NAME?"}},{"$f":"12*7.85","v":94.199999999999989},1.06,{"$error":"#VALUE!"}]
[null,"S-10T","M-20","3*2",{"$f":"鋼構","v":{"$error":"#NAME?"}},1,1,{"$error":"#VALUE!"}]
["2F 大樑側撐","L-75*75*9","L-A36","1.3*54",{"$f":"鋼構","v":{"$error":"#NAME?"}},9.9600000000000009,1.06,{"$f":"E150*F150*G150","v":{"$error":"#VALUE!"}},{"$f":"0.075*3","v":0.22499999999999998},null,{"$f":"+I150*E150","v":{"$error":"#VALUE!"}}]
[null,"L-100-100*10","L-A36","0.25*54",{"$f":"鋼構","v":{"$error":"#NAME?"}},14.9,1.06,{"$f":"E151*F151*G151","v":{"$error":"#VALUE!"}},{"$f":"0.1*3","v":0.30000000000000004},null,{"$f":"+I151*E151","v":{"$error":"#VALUE!"}}]
[null,"PL-12","PL-A36","0.143*0.143*54",{"$f":"鋼構","v":{"$error":"#NAME?"}},{"$f":"12*7.85","v":94.199999999999989},1.06,{"$f":"E152*F152*G152","v":{"$error":"#VALUE!"}}]
[null,"S-10T","M-16","(2+4)*54",{"$f":"鋼構","v":{"$error":"#NAME?"}},1,1,{"$error":"#VALUE!"}]
["2MF SJ4 A梯","RH-450*200*9*14","RH-A572","3.5+3.1*2+2.8",{"$f":"鋼構","v":{"$error":"#NAME?"}},74.900000000000006,1.06,{"$error":"#VALUE!"},{"$f":"0.45*2+0.2*3","v":1.5},null,{"$f":"+I154*E154","v":{"$error":"#VALUE!"}}]
["接樑,柱","接合板 PL-14","PL-SN490B","0.285*0.1*6",{"$f":"鋼構","v":{"$error":"#NAME?"}},{"$f":"14*7.85","v":109.89999999999999},1.06,{"$error":"#VALUE!"}]
[null,"S-10T","M-20","4*2*3",{"$f":"鋼構","v":{"$error":"#NAME?"}},1,1,{"$error":"#VALUE!"}]
[null,"B1 剪力釘","19∮*100","2*(19+17+16)",{"$f":"鋼構","v":{"$error":"#NAME?"}},1,1,{"$error":"#VALUE!"}]
[null,"柱內鋼板 PL-25","PL-SN490B","0.616*0.616*2",{"$f":"鋼構","v":{"$error":"#NAME?"}},{"$f":"25*7.85","v":196.25},1.06,{"$error":"#VALUE!"}]
[null,"SC7 補強 PL-20","PL-SN490B","0.4*0.4*2",{"$f":"鋼構","v":{"$error":"#NAME?"}},{"$f":"20*7.85","v":157},1.06,{"$error":"#VALUE!"}]
[null,"SC8 補強 PL-20","PL-SN490B","0.3*0.3*2",{"$f":"鋼構","v":{"$error":"#NAME?"}},{"$f":"20*7.85","v":157},1.06,{"$error":"#VALUE!"}]
["2F SJ2","RH-500*200*10*16","RH-A572","1.9*1",{"$f":"鋼構","v":{"$error":"#NAME?"}},88.2,1,{"$f":"E161*F161*G161","v":{"$error":"#VALUE!"}},{"$f":"0.5*2+0.2*3","v":1.6},null,{"$f":"+I161*E161","v":{"$error":"#VALUE!"}}]
["接柱","接合板 PL-16*170*360","PL-SN490B","0.17*0.36*1",{"$f":"鋼構","v":{"$error":"#NAME?"}},{"$f":"16*7.85","v":125.6},1.06,{"$f":"E162*F162*G162","v":{"$error":"#VALUE!"}}]
["2MF SJ1 B梯","RH-600*200*11*17","RH-A572","3.5*2",{"$f":"鋼構","v":{"$error":"#NAME?"}},103,1,{"$error":"#VALUE!"},{"$f":"0.6*2+0.2*3","v":1.8},null,{"$f":"+I163*E163","v":{"$error":"#VALUE!"}}]
[null,"接合板 PL-16 ","PL-SN490B","0.1*0.465*4",{"$f":"鋼構","v":{"$error":"#NAME?"}},{"$f":"16*7.85","v":125.6},1.06,{"$error":"#VALUE!"}]
[null,"柱內鋼板 PL-25","PL-SN490B","0.616*0.616*2",{"$f":"鋼構","v":{"$error":"#NAME?"}},{"$f":"25*7.85","v":196.25},1.06,{"$error":"#VALUE!"}]
[null,"SC8 補強 PL-20","PL-SN490B","0.3*0.3*2*3",{"$f":"鋼構","v":{"$error":"#NAME?"}},{"$f":"20*7.85","v":157},1.06,{"$error":"#VALUE!"}]
[null,"S-10T","M-24","6*2*2",{"$f":"鋼構","v":{"$error":"#NAME?"}},1,1,{"$error":"#VALUE!"}]
[null,"B1 剪力釘","19∮*100","2*20*2",{"$f":"鋼構","v":{"$error":"#NAME?"}},1,1,{"$error":"#VALUE!"}]
["2MF SJ4","RH-450*200*9*14","RH-A572","3+2.6",{"$f":"鋼構","v":{"$error":"#NAME?"}},74.900000000000006,1.06,{"$error":"#VALUE!"},{"$f":"0.45*2+0.2*3","v":1.5},null,{"$f":"+I169*E169","v":{"$error":"#VALUE!"}}]
["接樑,柱","接合板 PL-14","PL-SN490B","0.285*0.1*2*2",{"$f":"鋼構","v":{"$error":"#NAME?"}},{"$f":"14*7.85","v":109.89999999999999},1.06,{"$error":"#VALUE!"}]
[null,"柱內鋼板 PL-25","PL-SN490B","0.616*0.616*2",{"$f":"鋼構","v":{"$error":"#NAME?"}},{"$f":"25*7.85","v":196.25},1.06,{"$f":"E171*F171*G171","v":{"$error":"#VALUE!"}}]
[null,"S-10T","M-20","4*2*2",{"$f":"鋼構","v":{"$error":"#NAME?"}},1,1,{"$error":"#VALUE!"}]
[null,"B1 剪力釘","19∮*100","2*(16+15)",{"$f":"鋼構","v":{"$error":"#NAME?"}},1,1,{"$error":"#VALUE!"}]
["2MF SJ5","RH-350*175*7*11","RH-A36","3.3*1",{"$f":"鋼構","v":{"$error":"#NAME?"}},47.4,1.06,{"$error":"#VALUE!"},{"$f":"0.35*2+0.175*3","v":1.2249999999999999},null,{"$f":"+I174*E174","v":{"$error":"#VALUE!"}}]
["接樑,柱","接合板 PL-12","PL-A36","0.566*0.295*2",{"$f":"鋼構","v":{"$error":"#NAME?"}},{"$f":"12*7.85","v":94.199999999999989},1.06,{"$error":"#VALUE!"}]
[null,"S-10T","M-20","4*2",{"$f":"鋼構","v":{"$error":"#NAME?"}},1,1,{"$error":"#VALUE!"}]
[null,"B1 剪力釘","19∮*100","18*1",{"$f":"鋼構","v":{"$error":"#NAME?"}},1,1,{"$error":"#VALUE!"}]
["2MF SJ4 C梯","RH-450*200*9*14","RH-A572","2.65*2.8",{"$f":"鋼構","v":{"$error":"#NAME?"}},74.900000000000006,1.06,{"$error":"#VALUE!"},{"$f":"0.45*2+0.2*3","v":1.5},null,{"$f":"+I178*E178","v":{"$error":"#VALUE!"}}]
["接樑,柱","接合板 PL-14","PL-SN490B","0.285*0.1*2",{"$f":"鋼構","v":{"$error":"#NAME?"}},{"$f":"14*7.85","v":109.89999999999999},1.06,{"$error":"#VALUE!"}]
[null,"S-10T","M-20","4*2*2",{"$f":"鋼構","v":{"$error":"#NAME?"}},1,1,{"$error":"#VALUE!"}]
[null,"B1 剪力釘","19∮*100","2*(15+16)",{"$f":"鋼構","v":{"$error":"#NAME?"}},1,1,{"$error":"#VALUE!"}]
[null,"柱內鋼板 PL-25","PL-SN490B","0.616*0.616*2",{"$f":"鋼構","v":{"$error":"#NAME?"}},{"$f":"25*7.85","v":196.25},1.06,{"$error":"#VALUE!"}]
[null,"SC7 補強 PL-20","PL-SN490B","0.4*0.4*2",{"$f":"鋼構","v":{"$error":"#NAME?"}},{"$f":"20*7.85","v":157},1.06,{"$error":"#VALUE!"}]
[null,"SC8 補強 PL-20","PL-SN490B","0.3*0.3*2",{"$f":"鋼構","v":{"$error":"#NAME?"}},{"$f":"20*7.85","v":157},1.06,{"$error":"#VALUE!"}]
["2F SC7","RH-400*400*13*21","RH-SN490B","5.8+6.1",{"$f":"鋼構","v":{"$error":"#NAME?"}},172,1.06,{"$error":"#VALUE!"},{"$f":"0.4*6","v":2.4000000000000004},null,{"$f":"+I185*E185","v":{"$error":"#VALUE!"}}]
[null,"PL-15","PL-SN490B","0.1*0.29*2*2",{"$f":"鋼構","v":{"$error":"#NAME?"}},{"$f":"15*7.85","v":117.75},1.06,{"$error":"#VALUE!"}]
[null,"S-10T","M-22","4*2*2",{"$f":"鋼構","v":{"$error":"#NAME?"}},1,1,{"$error":"#VALUE!"}]
["2F SC8","RH-300*300*10*15","RH-SN490B","5.8*15+6*1",{"$f":"鋼構","v":{"$error":"#NAME?"}},172,1.06,{"$error":"#VALUE!"},{"$f":"0.3*6","v":1.7999999999999998},null,{"$f":"+I188*E188","v":{"$error":"#VALUE!"}}]
[null,"底板 PL-20","PL-SN490B","0.3*0.3*1",{"$f":"鋼構","v":{"$error":"#NAME?"}},{"$f":"20*7.85","v":157},1.06,{"$error":"#VALUE!"}]
[null,"M-24 預埋螺栓 L=600","M24 A.B","6*1",{"$f":"鋼構","v":{"$error":"#NAME?"}},1,1,{"$error":"#VALUE!"}]
[null,"PL-15","PL-SN490B","0.1*0.29*2*16",{"$f":"鋼構","v":{"$error":"#NAME?"}},{"$f":"15*7.85","v":117.75},1.06,{"$error":"#VALUE!"}]
[null,"S-10T","M-22","4*2*16",{"$f":"鋼構","v":{"$error":"#NAME?"}},1,1,{"$error":"#VALUE!"}]
[]
[" 2F+120 SC1+SC2 +815~+1925","口-700*700*42","口-SN490YC","6.6*16",{"$f":"鋼構","v":{"$error":"#NAME?"}},877,1.06,{"$f":"E194*F194*G194","v":{"$error":"#VALUE!"}},2.8,null,{"$f":"+I194*E194","v":{"$error":"#VALUE!"}},{"$f":"(0.7*2+0.616*2)*42*7.85*1+9.42","v":877.19039999999984},{"$f":"0.012*0.025*7850*4","v":9.4200000000000017}]
[null,"口-700*700*38","口-SN490B","4.5*16",{"$f":"鋼構","v":{"$error":"#NAME?"}},799.3,1.06,{"$f":"E195*F195*G195","v":{"$error":"#VALUE!"}},2.8,null,{"$f":"+I195*E195","v":{"$error":"#VALUE!"}},{"$f":"(0.7*2+0.624*2)*38*7.85*1+9.42","v":799.31839999999988},{"$f":"0.012*0.025*7850*4","v":9.4200000000000017}]
[null,"變斷面加勁PL-16","PL-SN490B","0.616*0.616*16",{"$f":"鋼構","v":{"$error":"#NAME?"}},{"$f":"16*7.85","v":125.6},1.06,{"$error":"#VALUE!"}]
[null,"背襯板 PL-12*35","PL-SN490B","0.035*0.624*4*16",{"$f":"鋼構","v":{"$error":"#NAME?"}},{"$f":"12*7.85","v":94.199999999999989},1.06,{"$error":"#VALUE!"}]
[" 2F+120 SC1 +815~+1925","口-700*700*42","口-SN490YC","11.1*13",{"$f":"鋼構","v":{"$error":"#NAME?"}},877,1.06,{"$error":"#VALUE!"},2.8,null,{"$f":"+I198*E198","v":{"$error":"#VALUE!"}},{"$f":"(0.7*2+0.616*2)*42*7.85*1+9.42","v":877.19039999999984},{"$f":"0.012*0.025*7850*4","v":9.4200000000000017}]
[null,"柱續接FB 16*25","PL-SN490B","0.616*4*0.025*29",{"$f":"鋼構","v":{"$error":"#NAME?"}},{"$f":"16*7.85","v":125.6},1.06,{"$f":"E199*F199*G199","v":{"$error":"#VALUE!"}}]
[null,"柱續接FB 9*25","PL-SN490B","0.616*4*0.025*29",{"$f":"鋼構","v":{"$error":"#NAME?"}},{"$f":"9*7.85","v":70.649999999999991},1.06,{"$error":"#VALUE!"}]
["鋼柱現場對接","PL-18","PL-SN490B","0.125*0.24*429",{"$f":"鋼構","v":{"$error":"#NAME?"}},{"$f":"18*7.85","v":141.29999999999998},1.06,{"$error":"#VALUE!"}]
[null,"PL-12","PL-SN490B","0.08*0.63*4*29",{"$f":"鋼構","v":{"$error":"#NAME?"}},{"$f":"12*7.85","v":94.199999999999989},1.06,{"$error":"#VALUE!"}]
["  螺栓","M20 S10T","M-20","12*29",{"$f":"鋼構","v":{"$error":"#NAME?"}},1,1,{"$error":"#VALUE!"}]
["柱內接頭加勁板","3F接樑柱內加勁板 PL-35","PL-SN490B","0.616*0.616*2*21",{"$f":"鋼構","v":{"$error":"#NAME?"}},{"$f":"35*7.85","v":274.75},1.06,{"$error":"#VALUE!"}]
[null,"3F接樑柱內加勁板 PL-32","PL-SN490B","0.616*0.616*2*8",{"$f":"鋼構","v":{"$error":"#NAME?"}},{"$f":"32*7.85","v":251.2},1.06,{"$error":"#VALUE!"}]
[null,"3F接樑柱內加勁板 PL-25","PL-SN490B","0.616*0.616*1+0.624*0.624*(2+1)",{"$f":"鋼構","v":{"$error":"#NAME?"}},{"$f":"32*7.85","v":251.2},2.06,{"$f":"E206*F206*G206","v":{"$error":"#VALUE!"}}]
[null,"3F背襯板 PL-25*47","PL-SN490B","0.047*0.616*6*29*2+0.047*0.616*6*2*2",{"$f":"鋼構","v":{"$error":"#NAME?"}},{"$f":"25*7.85","v":196.25},1.06,{"$error":"#VALUE!"}]
[null,"4F接樑柱內加勁板 PL-35","PL-SN490B","0.624*0.624*2*7",{"$f":"鋼構","v":{"$error":"#NAME?"}},{"$f":"35*7.85","v":274.75},1.06,{"$f":"E208*F208*G208","v":{"$error":"#VALUE!"}}]
[null,"4F接樑柱內加勁板 PL-32","PL-SN490B","0.624*0.624*2*9+0.616*0.616*2*5",{"$f":"鋼構","v":{"$error":"#NAME?"}},{"$f":"32*7.85","v":251.2},1.06,{"$error":"#VALUE!"}]
[null,"4F接樑柱內加勁板 PL-28","PL-SN490B","0.624*0.624*2*2",{"$f":"鋼構","v":{"$error":"#NAME?"}},{"$f":"28*7.85","v":219.79999999999998},1.06,{"$error":"#VALUE!"}]
[null,"4F接樑柱內加勁板 PL-25","PL-SN490B","0.616*0.616*1+0.624*0.624*(2+1)",{"$f":"鋼構","v":{"$error":"#NAME?"}},{"$f":"32*7.85","v":251.2},2.06,{"$error":"#VALUE!"}]
[null,"4F背襯板 PL-25*47","PL-SN490B","0.047*0.616*6*(23*2+2*2)",{"$f":"鋼構","v":{"$error":"#NAME?"}},{"$f":"25*7.85","v":196.25},1.06,{"$error":"#VALUE!"}]
[null,"25∮TIE BOLT","25∮TIE","2*22*29",{"$f":"鋼構","v":{"$error":"#NAME?"}},1,1,{"$error":"#VALUE!"}]
[null,"灌漿孔補強板 PL-21","PL-SN490B","0.4*0.4*29",{"$f":"鋼構","v":{"$error":"#NAME?"}},{"$f":"21*7.85","v":164.85},1.06,{"$error":"#VALUE!"}]
[null,"柱內灌漿 ","SSC","0.616*0.616*(6.6*16+11.1*13)+0.624*0.624*4.5*16",{"$f":"鋼構","v":{"$error":"#NAME?"}},1,1.05,123.63245664]
["3F SG1a","BH-800*350*15*35","BH-SN490B","10.1*15+3.65+7.7*2",{"$f":"鋼構","v":{"$error":"#NAME?"}},279.7,1,{"$error":"#VALUE!"},{"$f":"0.8*2+0.3*3","v":2.5},null,{"$f":"+I216*E216","v":{"$error":"#VALUE!"}},{"$f":"(0.35*2*35*7.85+0.73*15*7.85)*1.005","v":279.67391249999991}]
[null,"接合板 PL-28*185*615","PL-SN490B","0.185*0.615*(2*17+1)",{"$f":"鋼構","v":{"$error":"#NAME?"}},{"$f":"28*7.85","v":219.79999999999998},1.06,{"$error":"#VALUE!"}]
[null,"FB PL-9*25*36","PL-SN490B","0.025*0.41*(4*17+2)",{"$f":"鋼構","v":{"$error":"#NAME?"}},{"$f":"9*7.85","v":70.649999999999991},1.06,{"$error":"#VALUE!"}]
[null,"S-10T","M-24","16*(2*17+1)",{"$f":"鋼構","v":{"$error":"#NAME?"}},1,1,{"$error":"#VALUE!"}]
[null,"B1 剪力釘","19∮*100","2*(55*15+20+42*2)",{"$f":"鋼構","v":{"$error":"#NAME?"}},1,1,{"$error":"#VALUE!"}]
["3F SG1","BH-800*300*15*32","BH-SN490B","7.7*3+10.1*4+1.9*2+8.3*8",{"$f":"鋼構","v":{"$error":"#NAME?"}},238.6,1,{"$error":"#VALUE!"},{"$f":"0.8*2+0.3*3","v":2.5},null,{"$f":"+I221*E221","v":{"$error":"#VALUE!"}},{"$f":"(0.3*2*32*7.85+0.736*15*7.85)*1.005","v":238.57091999999997}]
[null,"接合板 PL-26*185*615","PL-SN490B","0.185*0.615*(15*2+1*2)",{"$f":"鋼構","v":{"$error":"#NAME?"}},{"$f":"26*7.85","v":204.1},1.06,{"$error":"#VALUE!"}]
[null,"FB PL-9*25*36","PL-SN490B","0.025*0.36*2*(15*2+1*2)",{"$f":"鋼構","v":{"$error":"#NAME?"}},{"$f":"9*7.85","v":70.649999999999991},1.06,{"$error":"#VALUE!"}]
[null,"S-10T","M-24","16*2*(15*2+1*2)",{"$f":"鋼構","v":{"$error":"#NAME?"}},1,1,{"$error":"#VALUE!"}]
[null,"B1 剪力釘","19∮*100","2*(42*3+55*4+11*2+45*8)",{"$f":"鋼構","v":{"$error":"#NAME?"}},1,1,{"$error":"#VALUE!"}]
["3F SG3","BH-800*300*14*28","BH-SN490B","8.3*15+3.5*2+1.4*3",{"$f":"鋼構","v":{"$error":"#NAME?"}},214.7,1,{"$error":"#VALUE!"},{"$f":"0.8*2+0.3*3","v":2.5},null,{"$f":"+I226*E226","v":{"$error":"#VALUE!"}},{"$f":"(0.3*2*28*7.85+0.744*14*7.85)*1.005","v":214.71382799999998}]
[null,"接合板 PL-25*185*615","PL-SN490B","0.185*0.615*(15*2+5*1)",{"$f":"鋼構","v":{"$error":"#NAME?"}},{"$f":"25*7.85","v":196.25},1.06,{"$error":"#VALUE!"}]
[null,"FB PL-9*25*36","PL-SN490B","0.025*0.36*2*(15*2+5*1)",{"$f":"鋼構","v":{"$error":"#NAME?"}},{"$f":"9*7.85","v":70.649999999999991},1.06,{"$error":"#VALUE!"}]
[null,"S-10T","M-24","16*2*(15*2+5*1)",{"$f":"鋼構","v":{"$error":"#NAME?"}},1,1,{"$error":"#VALUE!"}]
[null,"B1 剪力釘","19∮*100","2*(45*15+19*2+8*3)",{"$f":"鋼構","v":{"$error":"#NAME?"}},1,1,{"$error":"#VALUE!"}]
["3F SJ1","RH-600*200*11*17","RH-A572","8.7*48+8.1*2+10.5*2+5.85",{"$f":"鋼構","v":{"$error":"#NAME?"}},103,1,{"$error":"#VALUE!"},{"$f":"0.6*2+0.2*3","v":1.8},null,{"$f":"+I231*E231","v":{"$error":"#VALUE!"}}]
["接SG1","接合板 PL-16 243*736","PL-SN490B","0.243*0.736*2*(48+2+2+1)",{"$f":"鋼構","v":{"$error":"#NAME?"}},{"$f":"16*7.85","v":125.6},1.06,{"$error":"#VALUE!"}]
["外側補強","PL-16 143*736","PL-SN490B","0.143*0.736*39+0.566*0.095",{"$f":"鋼構","v":{"$error":"#NAME?"}},{"$f":"16*7.85","v":125.6},1.06,{"$error":"#VALUE!"}]
[null,"S-10T","M-24","6*2*(48+2+2+1)",{"$f":"鋼構","v":{"$error":"#NAME?"}},1,1,{"$error":"#VALUE!"}]
[null,"B1 剪力釘","19∮*100","2*(49*48+45*2+55*2+32)",{"$f":"鋼構","v":{"$error":"#NAME?"}},1,1,{"$error":"#VALUE!"}]
["3F SJ1*","RH-600*200*11*17","RH-A572","8.1*1",{"$f":"鋼構","v":{"$error":"#NAME?"}},103,1,{"$error":"#VALUE!"},{"$f":"0.6*2+0.2*3","v":1.8},null,{"$f":"+I236*E236","v":{"$error":"#VALUE!"}}]
[null,"側封板 PL-12","PL-SN490B","0.566*8.1*2",{"$f":"鋼構","v":{"$error":"#NAME?"}},{"$f":"12*7.85","v":94.199999999999989},1.06,{"$error":"#VALUE!"}]
["接SG1","接合板 PL-16 243*736","PL-SN490B","0.243*0.736*2",{"$f":"鋼構","v":{"$error":"#NAME?"}},{"$f":"16*7.85","v":125.6},1.06,{"$error":"#VALUE!"}]
["外側補強","PL-16 143*736","PL-SN490B","0.143*0.736",{"$f":"鋼構","v":{"$error":"#NAME?"}},{"$f":"16*7.85","v":125.6},1.06,{"$error":"#VALUE!"}]
[null,"S-10T","M-24","6*2",{"$f":"鋼構","v":{"$error":"#NAME?"}},1,1,{"$error":"#VALUE!"}]
[null,"B1 剪力釘","19∮*100","46*1",{"$f":"鋼構","v":{"$error":"#NAME?"}},1,1,{"$error":"#VALUE!"}]
["3F SJ2","RH-500*200*10*16","RH-A572","1.9+2.3+2+6+2.75",{"$f":"鋼構","v":{"$error":"#NAME?"}},88.2,1,{"$error":"#VALUE!"},{"$f":"0.5*2+0.2*3","v":1.6},null,{"$f":"+I242*E242","v":{"$error":"#VALUE!"}}]
["接柱","接合板 PL-16*170*360","PL-SN490B","0.17*0.36*1",{"$f":"鋼構","v":{"$error":"#NAME?"}},{"$f":"16*7.85","v":125.6},1.06,{"$error":"#VALUE!"}]
["接樑","接合板 PL-14","PL-SN490B","0.744*0.243*3+0.566*0.195*2",{"$f":"鋼構","v":{"$error":"#NAME?"}},{"$f":"14*7.85","v":109.89999999999999},1.06,{"$error":"#VALUE!"}]
[null,"FB PL-9*25*26","PL-SN490B","0.025*0.26*2",{"$f":"鋼構","v":{"$error":"#NAME?"}},{"$f":"9*7.85","v":70.649999999999991},1.06,{"$error":"#VALUE!"}]
[null,"S-10T","M-24","10+5*5",{"$f":"鋼構","v":{"$error":"#NAME?"}},1,1,{"$error":"#VALUE!"}]
[null,"B1 剪力釘","19∮*100","2*(11+13+11+33+15)",{"$f":"鋼構","v":{"$error":"#NAME?"}},1,1,{"$error":"#VALUE!"}]
["3F SJ3","RH-496*199*9*14","RH-A572","8.7+5.75+1.7+5.65+10.5*2+4",{"$f":"鋼構","v":{"$error":"#NAME?"}},77.900000000000006,1.06,{"$error":"#VALUE!"},{"$f":"0.5*2+0.2*3","v":1.6},null,{"$f":"+I248*E248","v":{"$error":"#VALUE!"}}]
["接樑","接合板 PL-14","PL-SN490B","0.736*0.243*9+0.468*0.195*4",{"$f":"鋼構","v":{"$error":"#NAME?"}},{"$f":"14*7.85","v":109.89999999999999},1.06,{"$error":"#VALUE!"}]
[null,"接合板 PL-14","PL-SN490B","0.736*0.143*4+0.468*0.095*3",{"$f":"鋼構","v":{"$error":"#NAME?"}},{"$f":"9*7.85","v":70.649999999999991},1.06,{"$error":"#VALUE!"}]
[null,"S-10T","M-24","4*2*7",{"$f":"鋼構","v":{"$error":"#NAME?"}},1,1,{"$error":"#VALUE!"}]
[null,"B1 剪力釘","19∮*100","1*(47+31+9+31+57*2+22)",{"$f":"鋼構","v":{"$error":"#NAME?"}},1,1,{"$error":"#VALUE!"}]
["3F SJ4","RH-450*200*9*14","RH-A572","3.3+8.7+4+3.15*2+3.35+4.55+6.4+2.7+3.2+2.8",{"$f":"鋼構","v":{"$error":"#NAME?"}},74.900000000000006,1.06,{"$error":"#VALUE!"},{"$f":"0.45*2+0.2*3","v":1.5},null,{"$f":"+I253*E253","v":{"$error":"#VALUE!"}}]
["接樑,柱","接合板 PL-14","PL-SN490B","0.736*0.243*10+0.566*0.195*4+0.495*0.195*9",{"$f":"鋼構","v":{"$error":"#NAME?"}},{"$f":"14*7.85","v":109.89999999999999},1.06,{"$error":"#VALUE!"}]
[null,"接合板 PL-14","PL-SN490B","0.736*0.143*8+0.566*0.095*6",{"$f":"鋼構","v":{"$error":"#NAME?"}},{"$f":"14*7.85","v":109.89999999999999},1.06,{"$error":"#VALUE!"}]
[null,"S-10T","M-20","4*2*10",{"$f":"鋼構","v":{"$error":"#NAME?"}},1,1,{"$error":"#VALUE!"}]
[null,"B1 剪力釘","19∮*100","2*(18+47+22+17*2+18+25+35+15+18)",{"$f":"鋼構","v":{"$error":"#NAME?"}},1,1,{"$error":"#VALUE!"}]
["3F SJ5","RH-350*175*7*11","RH-A36","1.2+3.3+3.45*2+2.35+2.9*2+1.2",{"$f":"鋼構","v":{"$error":"#NAME?"}},47.4,1.06,{"$error":"#VALUE!"},{"$f":"0.35*2+0.175*3","v":1.2249999999999999},null,{"$f":"+I258*E258","v":{"$error":"#VALUE!"}}]
["接樑,柱","接合板 PL-12","PL-A36","0.17*0.29*2+0.736*0.243*3+0.566*0.195*9",{"$f":"鋼構","v":{"$error":"#NAME?"}},{"$f":"12*7.85","v":94.199999999999989},1.06,{"$error":"#VALUE!"}]
[null,"接合板 PL-12","PL-A36","0.566*0.095*8+0.736*0.143*3",{"$f":"鋼構","v":{"$error":"#NAME?"}},{"$f":"12*7.85","v":94.199999999999989},1.06,{"$error":"#VALUE!"}]
[null,"S-10T","M-24","8*2",{"$f":"鋼構","v":{"$error":"#NAME?"}},1,1,{"$error":"#VALUE!"}]
[null,"S-10T","M-20","4*2*8",{"$f":"鋼構","v":{"$error":"#NAME?"}},1,1,{"$error":"#VALUE!"}]
[null,"B1 剪力釘","19∮*100","1*(7+19*2+18+13+16*2+6)",{"$f":"鋼構","v":{"$error":"#NAME?"}},1,1,{"$error":"#VALUE!"}]
["3F SJ6","RH-250*125*6*9","RH-A36","2.4+2.35",{"$f":"鋼構","v":{"$error":"#NAME?"}},29,1.06,{"$error":"#VALUE!"},{"$f":"0.25*2+0.125*3","v":0.875},null,{"$f":"+I264*E264","v":{"$error":"#VALUE!"}}]
["接樑","接合板 PL-12","PL-A36","0.736*0.243*2+0.736*0.143*1+0.566*0.195*3",{"$f":"鋼構","v":{"$error":"#NAME?"}},{"$f":"12*7.85","v":94.199999999999989},1.06,{"$error":"#VALUE!"}]
[null,"S-10T","M-20","2*2",{"$f":"鋼構","v":{"$error":"#NAME?"}},1,1,{"$error":"#VALUE!"}]
[null,"B1 剪力釘","19∮*100","1*(13*2)",{"$f":"鋼構","v":{"$error":"#NAME?"}},1,1,{"$error":"#VALUE!"}]
["3F 大樑側撐","L-75*75*9","L-A36","1.3*54",{"$f":"鋼構","v":{"$error":"#NAME?"}},9.9600000000000009,1.06,{"$error":"#VALUE!"},{"$f":"0.075*3","v":0.22499999999999998},null,{"$f":"+I268*E268","v":{"$error":"#VALUE!"}}]
[null,"L-100-100*10","L-A36","0.25*54",{"$f":"鋼構","v":{"$error":"#NAME?"}},14.9,1.06,{"$error":"#VALUE!"},{"$f":"0.1*3","v":0.30000000000000004},null,{"$f":"+I269*E269","v":{"$error":"#VALUE!"}}]
[null,"PL-12","PL-A36","0.143*0.143*54",{"$f":"鋼構","v":{"$error":"#NAME?"}},{"$f":"12*7.85","v":94.199999999999989},1.06,{"$error":"#VALUE!"}]
[null,"S-10T","M-16","(2+4)*54",{"$f":"鋼構","v":{"$error":"#NAME?"}},1,1,{"$error":"#VALUE!"}]
["3F SC7","RH-400*400*13*21","RH-SN490B","3.7+4",{"$f":"鋼構","v":{"$error":"#NAME?"}},172,1.06,{"$error":"#VALUE!"},{"$f":"0.4*6","v":2.4000000000000004},null,{"$f":"+I272*E272","v":{"$error":"#VALUE!"}}]
[null,"PL-15","PL-SN490B","0.1*0.29*2*2",{"$f":"鋼構","v":{"$error":"#NAME?"}},{"$f":"15*7.85","v":117.75},1.06,{"$error":"#VALUE!"}]
[null,"S-10T","M-22","4*2*2",{"$f":"鋼構","v":{"$error":"#NAME?"}},1,1,{"$f":"E274*F274*G274","v":{"$error":"#VALUE!"}}]
["3F SC8","RH-300*300*10*15","RH-SN490B","3.7*14+4*1",{"$f":"鋼構","v":{"$error":"#NAME?"}},172,1.06,{"$error":"#VALUE!"},{"$f":"0.3*6","v":1.7999999999999998},null,{"$f":"+I275*E275","v":{"$error":"#VALUE!"}}]
[null,"底板 PL-20","PL-SN490B","0.3*0.3*1",{"$f":"鋼構","v":{"$error":"#NAME?"}},{"$f":"20*7.85","v":157},1.06,{"$error":"#VALUE!"}]
[null,"M-24 預埋螺栓 L=600","M24 A.B","6*1",{"$f":"鋼構","v":{"$error":"#NAME?"}},1,1,{"$error":"#VALUE!"}]
[null,"PL-15","PL-SN490B","0.1*0.29*2*15",{"$f":"鋼構","v":{"$error":"#NAME?"}},{"$f":"15*7.85","v":117.75},1.06,{"$error":"#VALUE!"}]
[null,"S-10T","M-22","4*2*15",{"$f":"鋼構","v":{"$error":"#NAME?"}},1,1,{"$error":"#VALUE!"}]
[]
["4F SG1a","BH-800*350*15*35","BH-SN490B","10.1*3+4.25+7.7*2",{"$f":"鋼構","v":{"$error":"#NAME?"}},279.7,1,{"$f":"E281*F281*G281","v":{"$error":"#VALUE!"}},{"$f":"0.8*2+0.3*3","v":2.5},null,{"$f":"+I281*E281","v":{"$error":"#VALUE!"}},{"$f":"(0.35*2*35*7.85+0.73*15*7.85)*1.005","v":279.67391249999991}]
[null,"接合板 PL-28*185*615","PL-SN490B","0.185*0.615*(2*5+1)",{"$f":"鋼構","v":{"$error":"#NAME?"}},{"$f":"28*7.85","v":219.79999999999998},1.06,{"$error":"#VALUE!"}]
[null,"FB PL-9*25*36","PL-SN490B","0.025*0.41*(4*5+2)",{"$f":"鋼構","v":{"$error":"#NAME?"}},{"$f":"9*7.85","v":70.649999999999991},1.06,{"$error":"#VALUE!"}]
[null,"S-10T","M-24","16*(2*5+1)",{"$f":"鋼構","v":{"$error":"#NAME?"}},1,1,{"$error":"#VALUE!"}]
[null,"B1 剪力釘","19∮*100","2*(55*3+20+42*2)",{"$f":"鋼構","v":{"$error":"#NAME?"}},1,1,{"$error":"#VALUE!"}]
["4F SG1","BH-800*300*15*32","BH-SN490B","7.7*3+10.1*3+1.9*2+8.3*4",{"$f":"鋼構","v":{"$error":"#NAME?"}},238.6,1,{"$error":"#VALUE!"},{"$f":"0.8*2+0.3*3","v":2.5},null,{"$f":"+I286*E286","v":{"$error":"#VALUE!"}},{"$f":"(0.3*2*32*7.85+0.736*15*7.85)*1.005","v":238.57091999999997}]
["4F SG1*","BH-800*300*15*32","BH-SN490B","10.1*5",{"$f":"鋼構","v":{"$error":"#NAME?"}},238.6,1,{"$f":"E287*F287*G287","v":{"$error":"#VALUE!"}},{"$f":"0.8*2+0.3*1","v":1.9000000000000001},null,{"$f":"+I287*E287","v":{"$error":"#VALUE!"}},{"$f":"(0.3*2*32*7.85+0.736*15*7.85)*1.005","v":238.57091999999997}]
[null,"PL-12","PL-SN490B","0.736*10.1*2*5",{"$f":"鋼構","v":{"$error":"#NAME?"}},{"$f":"12*7.85","v":94.199999999999989},1.06,{"$error":"#VALUE!"}]
[null,"接合板 PL-26*185*615","PL-SN490B","0.185*0.615*(15*2+1*2)",{"$f":"鋼構","v":{"$error":"#NAME?"}},{"$f":"26*7.85","v":204.1},1.06,{"$error":"#VALUE!"}]
[null,"FB PL-9*25*36","PL-SN490B","0.025*0.36*2*(15*2+1*2)",{"$f":"鋼構","v":{"$error":"#NAME?"}},{"$f":"9*7.85","v":70.649999999999991},1.06,{"$error":"#VALUE!"}]
[null,"S-10T","M-24","16*2*(15*2+1*2)",{"$f":"鋼構","v":{"$error":"#NAME?"}},1,1,{"$error":"#VALUE!"}]
[null,"B1 剪力釘","19∮*100","2*(42*3+55*8+11*2+45*4)",{"$f":"鋼構","v":{"$error":"#NAME?"}},1,1,{"$error":"#VALUE!"}]
["4F SG3","BH-800*300*14*28","BH-SN490B","8.3*7+4.75+3.2*2+3.6*2",{"$f":"鋼構","v":{"$error":"#NAME?"}},214.7,1,{"$error":"#VALUE!"},{"$f":"0.8*2+0.3*3","v":2.5},null,{"$f":"+I293*E293","v":{"$error":"#VALUE!"}},{"$f":"(0.3*2*28*7.85+0.744*14*7.85)*1.005","v":214.71382799999998}]
["4F SG3*","BH-800*300*14*28","BH-SN490B","8.3*3",{"$f":"鋼構","v":{"$error":"#NAME?"}},214.7,1,{"$f":"E294*F294*G294","v":{"$error":"#VALUE!"}},{"$f":"0.8*2+0.3*1","v":1.9000000000000001},null,{"$f":"+I294*E294","v":{"$error":"#VALUE!"}},{"$f":"(0.3*2*28*7.85+0.744*14*7.85)*1.005","v":214.71382799999998}]
[null,"PL-12","PL-SN490B","0.744*8.3*2*3",{"$f":"鋼構","v":{"$error":"#NAME?"}},{"$f":"12*7.85","v":94.199999999999989},1.06,{"$error":"#VALUE!"}]
[null,"接合板 PL-25*185*615","PL-SN490B","0.185*0.615*(10*2+5*1)",{"$f":"鋼構","v":{"$error":"#NAME?"}},{"$f":"25*7.85","v":196.25},1.06,{"$error":"#VALUE!"}]
[null,"FB PL-9*25*36","PL-SN490B","0.025*0.36*2*(10*2+5*1)",{"$f":"鋼構","v":{"$error":"#NAME?"}},{"$f":"9*7.85","v":70.649999999999991},1.06,{"$error":"#VALUE!"}]
[null,"S-10T","M-24","16*2*(10*2+5*1)",{"$f":"鋼構","v":{"$error":"#NAME?"}},1,1,{"$error":"#VALUE!"}]
[null,"B1 剪力釘","19∮*100","2*(45*10+18*3+20*2)",{"$f":"鋼構","v":{"$error":"#NAME?"}},1,1,{"$error":"#VALUE!"}]
["4F SJ1","RH-600*200*11*17","RH-A572","8.7*11+8.1*2+10.5*2+5.85",{"$f":"鋼構","v":{"$error":"#NAME?"}},103,1,{"$error":"#VALUE!"},{"$f":"0.6*2+0.2*3","v":1.8},null,{"$f":"+I300*E300","v":{"$error":"#VALUE!"}}]
["4F SJ1*","RH-600*200*11*17","RH-A572","8.1*1",{"$f":"鋼構","v":{"$error":"#NAME?"}},103,1,{"$f":"E301*F301*G301","v":{"$error":"#VALUE!"}},{"$f":"0.6*2+0.2*3","v":1.8},null,{"$f":"+I301*E301","v":{"$error":"#VALUE!"}}]
[null,"側封板 PL-12","PL-SN490B","0.566*8.1*2",{"$f":"鋼構","v":{"$error":"#NAME?"}},{"$f":"12*7.85","v":94.199999999999989},1.06,{"$error":"#VALUE!"}]
["接SG1","接合板 PL-16 243*736","PL-SN490B","0.243*0.736*(2*17)",{"$f":"鋼構","v":{"$error":"#NAME?"}},{"$f":"16*7.85","v":125.6},1.06,{"$error":"#VALUE!"}]
["外側補強","PL-16 143*736","PL-SN490B","0.143*0.736*25+0.566*0.095",{"$f":"鋼構","v":{"$error":"#NAME?"}},{"$f":"16*7.85","v":125.6},1.06,{"$error":"#VALUE!"}]
[null,"S-10T","M-24","6*2*17",{"$f":"鋼構","v":{"$error":"#NAME?"}},1,1,{"$error":"#VALUE!"}]
[null,"B1 剪力釘","19∮*100","2*(47*11+44*2+57*2+32+44)",{"$f":"鋼構","v":{"$error":"#NAME?"}},1,1,{"$error":"#VALUE!"}]
["4F SJ2","RH-500*200*10*16","RH-A572","2.1+2.25+3+2+6",{"$f":"鋼構","v":{"$error":"#NAME?"}},88.2,1,{"$error":"#VALUE!"},{"$f":"0.5*2+0.2*3","v":1.6},null,{"$f":"+I307*E307","v":{"$error":"#VALUE!"}}]
["接柱","接合板 PL-16*170*360","PL-SN490B","0.17*0.36*1",{"$f":"鋼構","v":{"$error":"#NAME?"}},{"$f":"16*7.85","v":125.6},1.06,{"$error":"#VALUE!"}]
["接樑","接合板 PL-14","PL-SN490B","0.744*0.243*3+0.566*0.195*2",{"$f":"鋼構","v":{"$error":"#NAME?"}},{"$f":"14*7.85","v":109.89999999999999},1.06,{"$error":"#VALUE!"}]
[null,"FB PL-9*25*26","PL-SN490B","0.025*0.26*2",{"$f":"鋼構","v":{"$error":"#NAME?"}},{"$f":"9*7.85","v":70.649999999999991},1.06,{"$error":"#VALUE!"}]
[null,"S-10T","M-24","10+5*5",{"$f":"鋼構","v":{"$error":"#NAME?"}},1,1,{"$error":"#VALUE!"}]
[null,"B1 剪力釘","19∮*100","2*(12+13+17+11+33)",{"$f":"鋼構","v":{"$error":"#NAME?"}},1,1,{"$error":"#VALUE!"}]
["4F SJ3","RH-496*199*9*14","RH-A572","8.7+10.5*2+4+5.65+3.5+5.75",{"$f":"鋼構","v":{"$error":"#NAME?"}},77.900000000000006,1.06,{"$error":"#VALUE!"},{"$f":"0.5*2+0.2*3","v":1.6},null,{"$f":"+I313*E313","v":{"$error":"#VALUE!"}}]
["接樑","接合板 PL-14","PL-SN490B","0.736*0.243*9+0.468*0.195*4",{"$f":"鋼構","v":{"$error":"#NAME?"}},{"$f":"14*7.85","v":109.89999999999999},1.06,{"$error":"#VALUE!"}]
[null,"接合板 PL-14","PL-SN490B","0.736*0.143*4+0.468*0.095*3",{"$f":"鋼構","v":{"$error":"#NAME?"}},{"$f":"9*7.85","v":70.649999999999991},1.06,{"$error":"#VALUE!"}]
[null,"S-10T","M-24","4*2*7",{"$f":"鋼構","v":{"$error":"#NAME?"}},1,1,{"$error":"#VALUE!"}]
[null,"B1 剪力釘","19∮*100","1*(47+57*2+22+31+20+31)",{"$f":"鋼構","v":{"$error":"#NAME?"}},1,1,{"$error":"#VALUE!"}]
["4F SJ4","RH-450*200*9*14","RH-A572","3.3+8.7+3.2+3.35+4.55+3.15*2+4+2.8",{"$f":"鋼構","v":{"$error":"#NAME?"}},74.900000000000006,1.06,{"$error":"#VALUE!"},{"$f":"0.45*2+0.2*3","v":1.5},null,{"$f":"+I318*E318","v":{"$error":"#VALUE!"}}]
["接樑,柱","接合板 PL-14","PL-SN490B","0.736*0.243*9+0.566*0.195*6+0.495*0.195*5",{"$f":"鋼構","v":{"$error":"#NAME?"}},{"$f":"14*7.85","v":109.89999999999999},1.06,{"$error":"#VALUE!"}]
[null,"接合板 PL-14","PL-SN490B","0.736*0.143*8+0.566*0.095*6",{"$f":"鋼構","v":{"$error":"#NAME?"}},{"$f":"14*7.85","v":109.89999999999999},1.06,{"$error":"#VALUE!"}]
[null,"S-10T","M-20","4*2*9",{"$f":"鋼構","v":{"$error":"#NAME?"}},1,1,{"$error":"#VALUE!"}]
[null,"B1 剪力釘","19∮*100","2*(18+47+18+19+25+18*2+22)",{"$f":"鋼構","v":{"$error":"#NAME?"}},1,1,{"$error":"#VALUE!"}]
["4F SJ5","RH-350*175*7*11","RH-A36","1.2*2+3.3+3.45*2+2.35+2.9*2+3.35*7+6.4+1.7",{"$f":"鋼構","v":{"$error":"#NAME?"}},47.4,1.06,{"$error":"#VALUE!"},{"$f":"0.35*2+0.175*3","v":1.2249999999999999},null,{"$f":"+I323*E323","v":{"$error":"#VALUE!"}}]
["接樑,柱","接合板 PL-12","PL-A36","0.17*0.29*2+0.736*0.243*12+0.566*0.195*9",{"$f":"鋼構","v":{"$error":"#NAME?"}},{"$f":"12*7.85","v":94.199999999999989},1.06,{"$error":"#VALUE!"}]
[null,"接合板 PL-12","PL-A36","0.566*0.095*6+0.736*0.143*12+0.468*0.295*8",{"$f":"鋼構","v":{"$error":"#NAME?"}},{"$f":"12*7.85","v":94.199999999999989},1.06,{"$error":"#VALUE!"}]
[null,"S-10T","M-24","8*2",{"$f":"鋼構","v":{"$error":"#NAME?"}},1,1,{"$error":"#VALUE!"}]
[null,"S-10T","M-20","4*2*15",{"$f":"鋼構","v":{"$error":"#NAME?"}},1,1,{"$error":"#VALUE!"}]
[null,"B1 剪力釘","19∮*100","1*(18+19*2+13+16*2+19*7)",{"$f":"鋼構","v":{"$error":"#NAME?"}},1,1,{"$error":"#VALUE!"}]
["4F SJ6","RH-250*125*6*9","RH-A36","2.4+2.35",{"$f":"鋼構","v":{"$error":"#NAME?"}},29,1.06,{"$error":"#VALUE!"},{"$f":"0.25*2+0.125*3","v":0.875},null,{"$f":"+I329*E329","v":{"$error":"#VALUE!"}}]
["接樑","接合板 PL-12","PL-A36","0.736*0.243*2+0.736*0.143*1+0.566*0.195*3",{"$f":"鋼構","v":{"$error":"#NAME?"}},{"$f":"12*7.85","v":94.199999999999989},1.06,{"$error":"#VALUE!"}]
[null,"S-10T","M-20","2*2",{"$f":"鋼構","v":{"$error":"#NAME?"}},1,1,{"$error":"#VALUE!"}]
[null,"B1 剪力釘","19∮*100","1*(13*2)",{"$f":"鋼構","v":{"$error":"#NAME?"}},1,1,{"$error":"#VALUE!"}]
["4F 大樑側撐","L-75*75*9","L-A36","1.3*21",{"$f":"鋼構","v":{"$error":"#NAME?"}},9.9600000000000009,1.06,{"$error":"#VALUE!"},{"$f":"0.075*3","v":0.22499999999999998},null,{"$f":"+I333*E333","v":{"$error":"#VALUE!"}}]
[null,"L-100-100*10","L-A36","0.25*21",{"$f":"鋼構","v":{"$error":"#NAME?"}},14.9,1.06,{"$error":"#VALUE!"},{"$f":"0.1*3","v":0.30000000000000004},null,{"$f":"+I334*E334","v":{"$error":"#VALUE!"}}]
[null,"PL-12","PL-A36","0.143*0.143*21",{"$f":"鋼構","v":{"$error":"#NAME?"}},{"$f":"12*7.85","v":94.199999999999989},1.06,{"$error":"#VALUE!"}]
[null,"S-10T","M-16","(2+4)*21",{"$f":"鋼構","v":{"$error":"#NAME?"}},1,1,{"$error":"#VALUE!"}]
["4F SC7","RH-400*400*13*21","RH-SN490B","3.7+4",{"$f":"鋼構","v":{"$error":"#NAME?"}},172,1.06,{"$error":"#VALUE!"},{"$f":"0.4*6","v":2.4000000000000004},null,{"$f":"+I337*E337","v":{"$error":"#VALUE!"}}]
[null,"PL-15","PL-SN490B","0.1*0.29*2*2",{"$f":"鋼構","v":{"$error":"#NAME?"}},{"$f":"15*7.85","v":117.75},1.06,{"$error":"#VALUE!"}]
[null,"S-10T","M-22","4*2*2",{"$f":"鋼構","v":{"$error":"#NAME?"}},1,1,{"$error":"#VALUE!"}]
["4F SC8","RH-300*300*10*15","RH-SN490B","3.7*12+4*1",{"$f":"鋼構","v":{"$error":"#NAME?"}},172,1.06,{"$error":"#VALUE!"},{"$f":"0.3*6","v":1.7999999999999998},null,{"$f":"+I340*E340","v":{"$error":"#VALUE!"}}]
[null,"底板 PL-20","PL-SN490B","0.3*0.3*1",{"$f":"鋼構","v":{"$error":"#NAME?"}},{"$f":"20*7.85","v":157},1.06,{"$error":"#VALUE!"}]
[null,"M-24 預埋螺栓 L=600","M24 A.B","6*1",{"$f":"鋼構","v":{"$error":"#NAME?"}},1,1,{"$error":"#VALUE!"}]
[null,"PL-15","PL-SN490B","0.1*0.29*2*13",{"$f":"鋼構","v":{"$error":"#NAME?"}},{"$f":"15*7.85","v":117.75},1.06,{"$error":"#VALUE!"}]
[null,"S-10T","M-22","4*2*13",{"$f":"鋼構","v":{"$error":"#NAME?"}},1,1,{"$error":"#VALUE!"}]
[]
["4F+120 SC1+SC2 +1925~+3275","口-700*700*42","口-SN490YC","4.5*13",{"$f":"鋼構","v":{"$error":"#NAME?"}},877,1.06,{"$f":"E346*F346*G346","v":{"$error":"#VALUE!"}},2.8,null,{"$f":"+I346*E346","v":{"$error":"#VALUE!"}},{"$f":"(0.7*2+0.616*2)*42*7.85*1+9.42","v":877.19039999999984},{"$f":"0.012*0.025*7850*4","v":9.4200000000000017}]
[null,"口-700*700*38","口-SN490B","9*13",{"$f":"鋼構","v":{"$error":"#NAME?"}},799.3,1.06,{"$error":"#VALUE!"},2.8,null,{"$f":"+I347*E347","v":{"$error":"#VALUE!"}},{"$f":"(0.7*2+0.624*2)*38*7.85*1+9.42","v":799.31839999999988},{"$f":"0.012*0.025*7850*4","v":9.4200000000000017}]
[null,"變斷面加勁PL-16","PL-SN490B","0.616*0.616*13",{"$f":"鋼構","v":{"$error":"#NAME?"}},{"$f":"16*7.85","v":125.6},1.06,{"$error":"#VALUE!"}]
[null,"背襯板 PL-12*35","PL-SN490B","0.035*0.624*4*13",{"$f":"鋼構","v":{"$error":"#NAME?"}},{"$f":"12*7.85","v":94.199999999999989},1.06,{"$error":"#VALUE!"}]
["4F+120 SC2+SC3 +1925~+3275","口-700*700*38","口-SN490B","4.5*16",{"$f":"鋼構","v":{"$error":"#NAME?"}},877,1.06,{"$error":"#VALUE!"},2.8,null,{"$f":"+I350*E350","v":{"$error":"#VALUE!"}},{"$f":"(0.7*2+0.616*2)*42*7.85*1+9.42","v":877.19039999999984},{"$f":"0.012*0.025*7850*4","v":9.4200000000000017}]
[null,"口-700*700*32","口-SN490B","9*16",{"$f":"鋼構","v":{"$error":"#NAME?"}},877,1.06,{"$f":"E351*F351*G351","v":{"$error":"#VALUE!"}},3.8,null,{"$f":"+I351*E351","v":{"$error":"#VALUE!"}},{"$f":"(0.7*2+0.616*2)*42*7.85*1+9.42","v":877.19039999999984},{"$f":"0.012*0.025*7850*4","v":9.4200000000000017}]
[null,"變斷面加勁PL-16","PL-SN490B","0.624*0.624*16",{"$f":"鋼構","v":{"$error":"#NAME?"}},{"$f":"16*7.85","v":125.6},1.06,{"$error":"#VALUE!"}]
[null,"背襯板 PL-12*35","PL-SN490B","0.035*0.636*4*16",{"$f":"鋼構","v":{"$error":"#NAME?"}},{"$f":"12*7.85","v":94.199999999999989},1.06,{"$error":"#VALUE!"}]
["鋼柱現場對接","PL-18","PL-SN490B","0.125*0.24*4*29",{"$f":"鋼構","v":{"$error":"#NAME?"}},{"$f":"18*7.85","v":141.29999999999998},1.06,{"$error":"#VALUE!"}]
[null,"PL-12","PL-SN490B","0.08*0.63*4*29",{"$f":"鋼構","v":{"$error":"#NAME?"}},{"$f":"12*7.85","v":94.199999999999989},1.06,{"$error":"#VALUE!"}]
["  螺栓","M20 S10T","M-20","12*29",{"$f":"鋼構","v":{"$error":"#NAME?"}},1,1,{"$error":"#VALUE!"}]
["柱內接頭加勁板","5F接樑柱內加勁板 PL-35","PL-SN490B","0.616*0.616*2+0.624*0.624*2*5",{"$f":"鋼構","v":{"$error":"#NAME?"}},{"$f":"35*7.85","v":274.75},1.06,{"$error":"#VALUE!"}]
[null,"5F接樑柱內加勁板 PL-32","PL-SN490B","0.616*0.616*2*12+0.624*0.624*2*11",{"$f":"鋼構","v":{"$error":"#NAME?"}},{"$f":"32*7.85","v":251.2},1.06,{"$error":"#VALUE!"}]
[null,"5F接樑柱內加勁板 PL-25","PL-SN490B","0.616*0.616*1+0.624*0.624*(2+1)",{"$f":"鋼構","v":{"$error":"#NAME?"}},{"$f":"32*7.85","v":251.2},1.06,{"$error":"#VALUE!"}]
[null,"5F背襯板 PL-25*47","PL-SN490B","0.047*0.624*6*29*2+0.047*0.624*6*2*4",{"$f":"鋼構","v":{"$error":"#NAME?"}},{"$f":"25*7.85","v":196.25},1.06,{"$error":"#VALUE!"}]
[null,"6F接樑柱內加勁板 PL-35","PL-SN490B","0.644*0.644*2",{"$f":"鋼構","v":{"$error":"#NAME?"}},{"$f":"35*7.85","v":274.75},1.06,{"$f":"E361*F361*G361","v":{"$error":"#VALUE!"}}]
[null,"6F接樑柱內加勁板 PL-30","PL-SN490B","0.624*0.624*2*7+0.636*0.636*2*14",{"$f":"鋼構","v":{"$error":"#NAME?"}},{"$f":"35*7.85","v":274.75},1.06,{"$error":"#VALUE!"}]
[null,"6F接樑柱內加勁板 PL-25","PL-SN490B","0.624*0.624*2*2+0.626*0.626*(2+2)",{"$f":"鋼構","v":{"$error":"#NAME?"}},{"$f":"32*7.85","v":251.2},1.06,{"$error":"#VALUE!"}]
[null,"6F背襯板 PL-25*47","PL-SN490B","0.047*0.616*6*(23*2+2*2)",{"$f":"鋼構","v":{"$error":"#NAME?"}},{"$f":"25*7.85","v":196.25},1.06,{"$error":"#VALUE!"}]
[null,"7F接樑柱內加勁板 PL-35","PL-SN490B","0.644*0.644*2",{"$f":"鋼構","v":{"$error":"#NAME?"}},{"$f":"35*7.85","v":274.75},1.06,{"$error":"#VALUE!"}]
[null,"7F接樑柱內加勁板 PL-32","PL-SN490B","0.636*0.636*2+0.644*0.644*2*4",{"$f":"鋼構","v":{"$error":"#NAME?"}},{"$f":"32*7.85","v":251.2},1.06,{"$f":"E366*F366*G366","v":{"$error":"#VALUE!"}}]
[null,"7F接樑柱內加勁板 PL-28","PL-SN490B","0.636*0.636*2*12+0.644*0.644*2*10",{"$f":"鋼構","v":{"$error":"#NAME?"}},{"$f":"28*7.85","v":219.79999999999998},1.06,{"$f":"E367*F367*G367","v":{"$error":"#VALUE!"}}]
[null,"7F接樑柱內加勁板 PL-25","PL-SN490B","0.636*0.636*1+0.644*0.6446*1",{"$f":"鋼構","v":{"$error":"#NAME?"}},{"$f":"25*7.85","v":196.25},1.06,{"$error":"#VALUE!"}]
[null,"7F背襯板 PL-25*47","PL-SN490B","0.047*0.616*6*(29*2+2*2)",{"$f":"鋼構","v":{"$error":"#NAME?"}},{"$f":"25*7.85","v":196.25},1.06,{"$error":"#VALUE!"}]
[null,"25∮TIE BOLT","25∮TIE","2*27*29",{"$f":"鋼構","v":{"$error":"#NAME?"}},1,1,{"$error":"#VALUE!"}]
[null,"灌漿孔補強板 PL-21","PL-SN490B","0.4*0.4*29",{"$f":"鋼構","v":{"$error":"#NAME?"}},{"$f":"21*7.85","v":164.85},1.06,{"$error":"#VALUE!"}]
[null,"柱內灌漿 ","SSC","0.616*0.616*4.5*13+0.624*0.624*(9*13+4.5*16)",{"$f":"鋼構","v":{"$error":"#NAME?"}},1,1.05,{"$error":"#VALUE!"}]
[null,"柱內灌漿 ","SSC","0.636*0.636*9*16",{"$f":"鋼構","v":{"$error":"#NAME?"}},1,1.05,{"$f":"E373*F373*G373","v":{"$error":"#VALUE!"}}]
["5F SG1a","BH-800*350*15*35","BH-SN490B","10.1*4+4.25",{"$f":"鋼構","v":{"$error":"#NAME?"}},279.7,1,{"$error":"#VALUE!"},{"$f":"0.8*2+0.3*3","v":2.5},null,{"$f":"+I374*E374","v":{"$error":"#VALUE!"}},{"$f":"(0.35*2*35*7.85+0.73*15*7.85)*1.005","v":279.67391249999991}]
[null,"接合板 PL-28*185*615","PL-SN490B","0.185*0.615*(2*4+1)",{"$f":"鋼構","v":{"$error":"#NAME?"}},{"$f":"28*7.85","v":219.79999999999998},1.06,{"$error":"#VALUE!"}]
[null,"FB PL-9*25*36","PL-SN490B","0.025*0.41*(4*5+2)",{"$f":"鋼構","v":{"$error":"#NAME?"}},{"$f":"9*7.85","v":70.649999999999991},1.06,{"$error":"#VALUE!"}]
[null,"S-10T","M-24","16*(2*4+1)",{"$f":"鋼構","v":{"$error":"#NAME?"}},1,1,{"$error":"#VALUE!"}]
[null,"B1 剪力釘","19∮*100","2*(55*4+20)",{"$f":"鋼構","v":{"$error":"#NAME?"}},1,1,{"$error":"#VALUE!"}]
["5F SG1","BH-800*300*15*32","BH-SN490B","10.1*15+7.7*5+8.3*4+2.1*2",{"$f":"鋼構","v":{"$error":"#NAME?"}},238.6,1,{"$error":"#VALUE!"},{"$f":"0.8*2+0.3*3","v":2.5},null,{"$f":"+I379*E379","v":{"$error":"#VALUE!"}},{"$f":"(0.3*2*32*7.85+0.736*15*7.85)*1.005","v":238.57091999999997}]
[null,"接合板 PL-26*185*615","PL-SN490B","0.185*0.615*(15*2+5*2+4*2+2*1)",{"$f":"鋼構","v":{"$error":"#NAME?"}},{"$f":"26*7.85","v":204.1},1.06,{"$error":"#VALUE!"}]
[null,"FB PL-9*25*36","PL-SN490B","0.025*0.36*2*(15*2+5*2+4*2+2*1)",{"$f":"鋼構","v":{"$error":"#NAME?"}},{"$f":"9*7.85","v":70.649999999999991},1.06,{"$error":"#VALUE!"}]
[null,"S-10T","M-24","16*2*(15*2+5*2+4*2+2*1)",{"$f":"鋼構","v":{"$error":"#NAME?"}},1,1,{"$error":"#VALUE!"}]
[null,"B1 剪力釘","19∮*100","2*(55*15+42*5+45*4+12*2)",{"$f":"鋼構","v":{"$error":"#NAME?"}},1,1,{"$error":"#VALUE!"}]
["5F SG3","BH-800*300*14*28","BH-SN490B","8.3*19+3.5+3.2+4.85+3.2*2",{"$f":"鋼構","v":{"$error":"#NAME?"}},214.7,1,{"$error":"#VALUE!"},{"$f":"0.8*2+0.3*3","v":2.5},null,{"$f":"+I384*E384","v":{"$error":"#VALUE!"}},{"$f":"(0.3*2*28*7.85+0.744*14*7.85)*1.005","v":214.71382799999998}]
[null,"接合板 PL-25*185*615","PL-SN490B","0.185*0.615*(19*2+1*5)",{"$f":"鋼構","v":{"$error":"#NAME?"}},{"$f":"25*7.85","v":196.25},1.06,{"$error":"#VALUE!"}]
[null,"FB PL-9*25*36","PL-SN490B","0.025*0.36*2*(19*2+1*5)",{"$f":"鋼構","v":{"$error":"#NAME?"}},{"$f":"9*7.85","v":70.649999999999991},1.06,{"$error":"#VALUE!"}]
[null,"S-10T","M-24","16*2*(19*2+1*5)",{"$f":"鋼構","v":{"$error":"#NAME?"}},1,1,{"$error":"#VALUE!"}]
[null,"B1 剪力釘","19∮*100","2*(45*19+19+18*3+26)",{"$f":"鋼構","v":{"$error":"#NAME?"}},1,1,{"$error":"#VALUE!"}]
["5F SJ1","RH-600*200*11*17","RH-A572","8.7*48+8.1*2+10.5*2+5.85",{"$f":"鋼構","v":{"$error":"#NAME?"}},103,1,{"$error":"#VALUE!"},{"$f":"0.6*2+0.2*3","v":1.8},null,{"$f":"+I389*E389","v":{"$error":"#VALUE!"}}]
["接SG1","接合板 PL-16 243*736","PL-SN490B","0.243*0.736*2*(48+2+2+1)",{"$f":"鋼構","v":{"$error":"#NAME?"}},{"$f":"16*7.85","v":125.6},1.06,{"$error":"#VALUE!"}]
["外側補強","PL-16 143*736","PL-SN490B","0.143*0.736*39+0.566*0.095",{"$f":"鋼構","v":{"$error":"#NAME?"}},{"$f":"16*7.85","v":125.6},1.06,{"$error":"#VALUE!"}]
[null,"S-10T","M-24","6*2*(48+2+2+1)",{"$f":"鋼構","v":{"$error":"#NAME?"}},1,1,{"$error":"#VALUE!"}]
[null,"B1 剪力釘","19∮*100","2*(49*48+45*2+55*2+32)",{"$f":"鋼構","v":{"$error":"#NAME?"}},1,1,{"$error":"#VALUE!"}]
["5F SJ1*","RH-600*200*11*17","RH-A572","8.1*1",{"$f":"鋼構","v":{"$error":"#NAME?"}},103,1,{"$error":"#VALUE!"},{"$f":"0.6*2+0.2*3","v":1.8},null,{"$f":"+I394*E394","v":{"$error":"#VALUE!"}}]
[null,"側封板 PL-12","PL-SN490B","0.566*8.1*2",{"$f":"鋼構","v":{"$error":"#NAME?"}},{"$f":"12*7.85","v":94.199999999999989},1.06,{"$error":"#VALUE!"}]
["接SG1","接合板 PL-16 243*736","PL-SN490B","0.243*0.736*2",{"$f":"鋼構","v":{"$error":"#NAME?"}},{"$f":"16*7.85","v":125.6},1.06,{"$error":"#VALUE!"}]
["外側補強","PL-16 143*736","PL-SN490B","0.143*0.736",{"$f":"鋼構","v":{"$error":"#NAME?"}},{"$f":"16*7.85","v":125.6},1.06,{"$error":"#VALUE!"}]
[null,"S-10T","M-24","6*2",{"$f":"鋼構","v":{"$error":"#NAME?"}},1,1,{"$error":"#VALUE!"}]
[null,"B1 剪力釘","19∮*100","46*1",{"$f":"鋼構","v":{"$error":"#NAME?"}},1,1,{"$error":"#VALUE!"}]
["5F SJ2","RH-500*200*10*16","RH-A572","2+2.3+2+6+2.75",{"$f":"鋼構","v":{"$error":"#NAME?"}},88.2,1,{"$error":"#VALUE!"},{"$f":"0.5*2+0.2*3","v":1.6},null,{"$f":"+I400*E400","v":{"$error":"#VALUE!"}}]
["接柱","接合板 PL-16*170*360","PL-SN490B","0.17*0.36*1",{"$f":"鋼構","v":{"$error":"#NAME?"}},{"$f":"16*7.85","v":125.6},1.06,{"$error":"#VALUE!"}]
[null,"柱內 PL-25","PL-SN490B","0.636*0.636*1",{"$f":"鋼構","v":{"$error":"#NAME?"}},{"$f":"25*7.85","v":196.25},2.06,{"$f":"E402*F402*G402","v":{"$error":"#VALUE!"}}]
["接樑","接合板 PL-14","PL-SN490B","0.744*0.243*3+0.566*0.195*2",{"$f":"鋼構","v":{"$error":"#NAME?"}},{"$f":"14*7.85","v":109.89999999999999},1.06,{"$error":"#VALUE!"}]
[null,"FB PL-9*25*26","PL-SN490B","0.025*0.26*2",{"$f":"鋼構","v":{"$error":"#NAME?"}},{"$f":"9*7.85","v":70.649999999999991},1.06,{"$error":"#VALUE!"}]
[null,"S-10T","M-24","10+5*2*4",{"$f":"鋼構","v":{"$error":"#NAME?"}},1,1,{"$error":"#VALUE!"}]
[null,"B1 剪力釘","19∮*100","2*(11+13+11+33+15)",{"$f":"鋼構","v":{"$error":"#NAME?"}},1,1,{"$error":"#VALUE!"}]
["5F SJ3","RH-496*199*9*14","RH-A572","8.7+4.9+10.5*2+4+3.5+5.5",{"$f":"鋼構","v":{"$error":"#NAME?"}},77.900000000000006,1.06,{"$error":"#VALUE!"},{"$f":"0.5*2+0.2*3","v":1.6},null,{"$f":"+I407*E407","v":{"$error":"#VALUE!"}}]
["接樑","接合板 PL-14","PL-SN490B","0.736*0.243*9+0.468*0.195*4",{"$f":"鋼構","v":{"$error":"#NAME?"}},{"$f":"14*7.85","v":109.89999999999999},1.06,{"$error":"#VALUE!"}]
[null,"接合板 PL-14","PL-SN490B","0.736*0.143*4+0.468*0.095*3",{"$f":"鋼構","v":{"$error":"#NAME?"}},{"$f":"9*7.85","v":70.649999999999991},1.06,{"$error":"#VALUE!"}]
[null,"S-10T","M-24","4*2*7",{"$f":"鋼構","v":{"$error":"#NAME?"}},1,1,{"$error":"#VALUE!"}]
[null,"B1 剪力釘","19∮*100","1*(47+31+57*2+22+20+30)",{"$f":"鋼構","v":{"$error":"#NAME?"}},1,1,{"$error":"#VALUE!"}]
["5F SJ4","RH-450*200*9*14","RH-A572","3+3.3+8.7+3.2*2+3.15*2+3.35+4.55+4+6.4+2.7",{"$f":"鋼構","v":{"$error":"#NAME?"}},74.900000000000006,1.06,{"$error":"#VALUE!"},{"$f":"0.45*2+0.2*3","v":1.5},null,{"$f":"+I412*E412","v":{"$error":"#VALUE!"}}]
["接樑,柱","接合板 PL-14","PL-SN490B","0.736*0.243*11+0.566*0.195*6+0.495*0.195*5",{"$f":"鋼構","v":{"$error":"#NAME?"}},{"$f":"14*7.85","v":109.89999999999999},1.06,{"$error":"#VALUE!"}]
[null,"接合板 PL-14","PL-SN490B","0.736*0.143*8+0.566*0.095*6",{"$f":"鋼構","v":{"$error":"#NAME?"}},{"$f":"14*7.85","v":109.89999999999999},1.06,{"$error":"#VALUE!"}]
[null,"S-10T","M-20","4*2*12",{"$f":"鋼構","v":{"$error":"#NAME?"}},1,1,{"$error":"#VALUE!"}]
[null,"B1 剪力釘","19∮*100","2*(18+47+22+17*2+18+25+35+15+18)",{"$f":"鋼構","v":{"$error":"#NAME?"}},1,1,{"$error":"#VALUE!"}]
["5F SJ5","RH-350*175*7*11","RH-A36","1.2*2+3.3+3.45*2+2.35+2.9*2+3.4*7",{"$f":"鋼構","v":{"$error":"#NAME?"}},47.4,1.06,{"$error":"#VALUE!"},{"$f":"0.35*2+0.175*3","v":1.2249999999999999},null,{"$f":"+I417*E417","v":{"$error":"#VALUE!"}}]
["接樑,柱","接合板 PL-12","PL-A36","0.17*0.29*2+0.736*0.243*10+0.566*0.195*9",{"$f":"鋼構","v":{"$error":"#NAME?"}},{"$f":"12*7.85","v":94.199999999999989},1.06,{"$error":"#VALUE!"}]
[null,"接合板 PL-12","PL-A36","0.566*0.095*8+0.736*0.143*3+0.468*0.2*7",{"$f":"鋼構","v":{"$error":"#NAME?"}},{"$f":"12*7.85","v":94.199999999999989},1.06,{"$f":"E419*F419*G419","v":{"$error":"#VALUE!"}}]
[null,"S-10T","M-24","8*2",{"$f":"鋼構","v":{"$error":"#NAME?"}},1,1,{"$error":"#VALUE!"}]
[null,"S-10T","M-20","4*2*15",{"$f":"鋼構","v":{"$error":"#NAME?"}},1,1,{"$error":"#VALUE!"}]
[null,"B1 剪力釘","19∮*100","1*(7+19*2+18+13+16*2+6+19*7)",{"$f":"鋼構","v":{"$error":"#NAME?"}},1,1,{"$error":"#VALUE!"}]
["5F SJ6","RH-250*125*6*9","RH-A36","2.4+2.35",{"$f":"鋼構","v":{"$error":"#NAME?"}},29,1.06,{"$error":"#VALUE!"},{"$f":"0.25*2+0.125*3","v":0.875},null,{"$f":"+I423*E423","v":{"$error":"#VALUE!"}}]
["接樑","接合板 PL-12","PL-A36","0.736*0.243*2+0.736*0.143*1+0.566*0.195*3",{"$f":"鋼構","v":{"$error":"#NAME?"}},{"$f":"12*7.85","v":94.199999999999989},1.06,{"$error":"#VALUE!"}]
[null,"S-10T","M-20","2*2",{"$f":"鋼構","v":{"$error":"#NAME?"}},1,1,{"$error":"#VALUE!"}]
[null,"B1 剪力釘","19∮*100","1*(13*2)",{"$f":"鋼構","v":{"$error":"#NAME?"}},1,1,{"$error":"#VALUE!"}]
["5F 大樑側撐","L-75*75*9","L-A36","1.3*54",{"$f":"鋼構","v":{"$error":"#NAME?"}},9.9600000000000009,1.06,{"$error":"#VALUE!"},{"$f":"0.075*3","v":0.22499999999999998},null,{"$f":"+I427*E427","v":{"$error":"#VALUE!"}}]
[null,"L-100-100*10","L-A36","0.25*54",{"$f":"鋼構","v":{"$error":"#NAME?"}},14.9,1.06,{"$error":"#VALUE!"},{"$f":"0.1*3","v":0.30000000000000004},null,{"$f":"+I428*E428","v":{"$error":"#VALUE!"}}]
[null,"PL-12","PL-A36","0.143*0.143*54",{"$f":"鋼構","v":{"$error":"#NAME?"}},{"$f":"12*7.85","v":94.199999999999989},1.06,{"$error":"#VALUE!"}]
[null,"S-10T","M-16","(2+4)*54",{"$f":"鋼構","v":{"$error":"#NAME?"}},1,1,{"$error":"#VALUE!"}]
["5F SC7","RH-400*400*13*21","RH-SN490B","3.7+4",{"$f":"鋼構","v":{"$error":"#NAME?"}},172,1.06,{"$error":"#VALUE!"},{"$f":"0.4*6","v":2.4000000000000004},null,{"$f":"+I431*E431","v":{"$error":"#VALUE!"}}]
[null,"PL-15","PL-SN490B","0.1*0.29*2*2",{"$f":"鋼構","v":{"$error":"#NAME?"}},{"$f":"15*7.85","v":117.75},1.06,{"$error":"#VALUE!"}]
[null,"S-10T","M-22","4*2*2",{"$f":"鋼構","v":{"$error":"#NAME?"}},1,1,{"$error":"#VALUE!"}]
["5F SC8","RH-300*300*10*15","RH-SN490B","3.7*13",{"$f":"鋼構","v":{"$error":"#NAME?"}},172,1.06,{"$error":"#VALUE!"},{"$f":"0.3*6","v":1.7999999999999998},null,{"$f":"+I434*E434","v":{"$error":"#VALUE!"}}]
[null,"底板 PL-20","PL-SN490B","0.3*0.3*1",{"$f":"鋼構","v":{"$error":"#NAME?"}},{"$f":"20*7.85","v":157},1.06,{"$error":"#VALUE!"}]
[null,"M-24 預埋螺栓 L=600","M24 A.B","6*1",{"$f":"鋼構","v":{"$error":"#NAME?"}},1,1,{"$error":"#VALUE!"}]
[null,"PL-15","PL-SN490B","0.1*0.29*2*13",{"$f":"鋼構","v":{"$error":"#NAME?"}},{"$f":"15*7.85","v":117.75},1.06,{"$error":"#VALUE!"}]
[null,"S-10T","M-22","4*2*13",{"$f":"鋼構","v":{"$error":"#NAME?"}},1,1,{"$error":"#VALUE!"}]
[]
["6F SG1a","BH-800*350*15*35","BH-SN490B","4.35*1",{"$f":"鋼構","v":{"$error":"#NAME?"}},279.7,1,{"$f":"E440*F440*G440","v":{"$error":"#VALUE!"}},{"$f":"0.8*2+0.3*3","v":2.5},null,{"$f":"+I440*E440","v":{"$error":"#VALUE!"}},{"$f":"(0.35*2*35*7.85+0.73*15*7.85)*1.005","v":279.67391249999991}]
[null,"接合板 PL-28*185*615","PL-SN490B","0.185*0.615*1",{"$f":"鋼構","v":{"$error":"#NAME?"}},{"$f":"28*7.85","v":219.79999999999998},1.06,{"$error":"#VALUE!"}]
[null,"FB PL-9*25*36","PL-SN490B","0.025*0.41*2",{"$f":"鋼構","v":{"$error":"#NAME?"}},{"$f":"9*7.85","v":70.649999999999991},1.06,{"$error":"#VALUE!"}]
[null,"S-10T","M-24","16*1",{"$f":"鋼構","v":{"$error":"#NAME?"}},1,1,{"$error":"#VALUE!"}]
[null,"B1 剪力釘","19∮*100","2*24",{"$f":"鋼構","v":{"$error":"#NAME?"}},1,1,{"$error":"#VALUE!"}]
["6F SG2*","BH-800*300*14*30","BH-SN490B","10.1*5",{"$f":"鋼構","v":{"$error":"#NAME?"}},223.7,1,{"$f":"E445*F445*G445","v":{"$error":"#VALUE!"}},{"$f":"0.8*2+0.3*3","v":2.5},null,{"$f":"+I445*E445","v":{"$error":"#VALUE!"}},{"$f":"(0.3*2*30*7.85+0.74*14*7.85)*1.005","v":223.73912999999996}]
[null,"側封板 PL-12","PL-SN490B","0.74*2*10.1*5",{"$f":"鋼構","v":{"$error":"#NAME?"}},{"$f":"12*7.85","v":94.199999999999989},1.06,{"$error":"#VALUE!"}]
[null,"接合板 PL-25*185*615","PL-SN490B","0.185*0.615*(2*5)",{"$f":"鋼構","v":{"$error":"#NAME?"}},{"$f":"25*7.85","v":196.25},1.06,{"$error":"#VALUE!"}]
[null,"FB PL-9*25*36","PL-SN490B","0.025*0.41*(4*5)",{"$f":"鋼構","v":{"$error":"#NAME?"}},{"$f":"9*7.85","v":70.649999999999991},1.06,{"$error":"#VALUE!"}]
[null,"S-10T","M-24","16*(2*5)",{"$f":"鋼構","v":{"$error":"#NAME?"}},1,1,{"$error":"#VALUE!"}]
[null,"B1 剪力釘","19∮*100","2*(55*5)",{"$f":"鋼構","v":{"$error":"#NAME?"}},1,1,{"$error":"#VALUE!"}]
["6F SG2","BH-800*300*14*30","BH-SN490B","10.1*6+7.7*5+2.1*2",{"$f":"鋼構","v":{"$error":"#NAME?"}},223.7,1,{"$f":"E451*F451*G451","v":{"$error":"#VALUE!"}},{"$f":"0.8*2+0.3*3","v":2.5},null,{"$f":"+I451*E451","v":{"$error":"#VALUE!"}},{"$f":"(0.3*2*30*7.85+0.74*14*7.85)*1.005","v":223.73912999999996}]
[null,"接合板 PL-25*185*615","PL-SN490B","0.185*0.615*(2*11+1*2)",{"$f":"鋼構","v":{"$error":"#NAME?"}},{"$f":"25*7.85","v":196.25},1.06,{"$error":"#VALUE!"}]
[null,"FB PL-9*25*36","PL-SN490B","0.025*0.36*2*(11*2+2*1)",{"$f":"鋼構","v":{"$error":"#NAME?"}},{"$f":"9*7.85","v":70.649999999999991},1.06,{"$error":"#VALUE!"}]
[null,"S-10T","M-24","16*2*(11*2+2*1)",{"$f":"鋼構","v":{"$error":"#NAME?"}},1,1,{"$error":"#VALUE!"}]
[null,"B1 剪力釘","19∮*100","2*(55*6+42*5+12*2)",{"$f":"鋼構","v":{"$error":"#NAME?"}},1,1,{"$error":"#VALUE!"}]
["6F SG3","BH-800*300*14*28","BH-SN490B","8.3*1",{"$f":"鋼構","v":{"$error":"#NAME?"}},214.7,1,{"$error":"#VALUE!"},{"$f":"0.8*2+0.3*3","v":2.5},null,{"$f":"+I456*E456","v":{"$error":"#VALUE!"}},{"$f":"(0.3*2*28*7.85+0.744*14*7.85)*1.005","v":214.71382799999998}]
[null,"接合板 PL-25*185*615","PL-SN490B","0.185*0.615*(1*2)",{"$f":"鋼構","v":{"$error":"#NAME?"}},{"$f":"25*7.85","v":196.25},1.06,{"$error":"#VALUE!"}]
[null,"FB PL-9*25*36","PL-SN490B","0.025*0.36*2*(1*2)",{"$f":"鋼構","v":{"$error":"#NAME?"}},{"$f":"9*7.85","v":70.649999999999991},1.06,{"$error":"#VALUE!"}]
[null,"S-10T","M-24","16*2*(1*2)",{"$f":"鋼構","v":{"$error":"#NAME?"}},1,1,{"$error":"#VALUE!"}]
[null,"B1 剪力釘","19∮*100","2*(45*1)",{"$f":"鋼構","v":{"$error":"#NAME?"}},1,1,{"$error":"#VALUE!"}]
["6F SG4*","BH-800*300*12*25","BH-SN490B","8.3*3",{"$f":"鋼構","v":{"$error":"#NAME?"}},189.3,1,{"$f":"E461*F461*G461","v":{"$error":"#VALUE!"}},{"$f":"0.8*2+0.3*3","v":2.5},null,{"$f":"+I461*E461","v":{"$error":"#VALUE!"}},{"$f":"(0.3*2*25*7.85+0.75*12*7.85)*1.005","v":189.34199999999996}]
[null,"側封板 PL-12","PL-SN490B","0.75*2*8.3*3",{"$f":"鋼構","v":{"$error":"#NAME?"}},{"$f":"12*7.85","v":94.199999999999989},1.06,{"$error":"#VALUE!"}]
[null,"接合板 PL-20*185*615","PL-SN490B","0.185*0.615*(2*3)",{"$f":"鋼構","v":{"$error":"#NAME?"}},{"$f":"20*7.85","v":157},1.06,{"$error":"#VALUE!"}]
[null,"FB PL-9*25*36","PL-SN490B","0.025*0.41*(4*3)",{"$f":"鋼構","v":{"$error":"#NAME?"}},{"$f":"9*7.85","v":70.649999999999991},1.06,{"$error":"#VALUE!"}]
[null,"S-10T","M-24","16*(2*3)",{"$f":"鋼構","v":{"$error":"#NAME?"}},1,1,{"$error":"#VALUE!"}]
[null,"B1 剪力釘","19∮*100","2*(45*3)",{"$f":"鋼構","v":{"$error":"#NAME?"}},1,1,{"$error":"#VALUE!"}]
["6F SG4","BH-800*300*12*25","BH-SN490B","8.3*10+3.45*2+4.85+3.25*2",{"$f":"鋼構","v":{"$error":"#NAME?"}},189.3,1,{"$f":"E467*F467*G467","v":{"$error":"#VALUE!"}},{"$f":"0.8*2+0.3*3","v":2.5},null,{"$f":"+I467*E467","v":{"$error":"#VALUE!"}},{"$f":"(0.3*2*25*7.85+0.75*12*7.85)*1.005","v":189.34199999999996}]
[null,"接合板 PL-20*185*615","PL-SN490B","0.185*0.615*(2*10+1*5)",{"$f":"鋼構","v":{"$error":"#NAME?"}},{"$f":"20*7.85","v":157},1.06,{"$error":"#VALUE!"}]
[null,"FB PL-9*25*36","PL-SN490B","0.025*0.41*(4*10+2*5)",{"$f":"鋼構","v":{"$error":"#NAME?"}},{"$f":"9*7.85","v":70.649999999999991},1.06,{"$error":"#VALUE!"}]
[null,"S-10T","M-24","16*(2*10+1*5)",{"$f":"鋼構","v":{"$error":"#NAME?"}},1,1,{"$error":"#VALUE!"}]
[null,"B1 剪力釘","19∮*100","2*(45*10+19*2+18*3)",{"$f":"鋼構","v":{"$error":"#NAME?"}},1,1,{"$error":"#VALUE!"}]
["6F SJ1*","RH-600*200*11*17","RH-A572","8.1*1",{"$f":"鋼構","v":{"$error":"#NAME?"}},103,1,{"$error":"#VALUE!"},{"$f":"0.6*2+0.2*3","v":1.8},null,{"$f":"+I472*E472","v":{"$error":"#VALUE!"}}]
[null,"側封板 PL-12","PL-SN490B","0.566*8.1*2",{"$f":"鋼構","v":{"$error":"#NAME?"}},{"$f":"12*7.85","v":94.199999999999989},1.06,{"$error":"#VALUE!"}]
["6F SJ1","RH-600*200*11*17","RH-A572","8.7*12+8.1*2+10.5*2+5.85",{"$f":"鋼構","v":{"$error":"#NAME?"}},103,1,{"$error":"#VALUE!"},{"$f":"0.6*2+0.2*3","v":1.8},null,{"$f":"+I474*E474","v":{"$error":"#VALUE!"}}]
["接SG4","接合板 PL-16 244*750","PL-SN490B","0.244*0.750*6",{"$f":"鋼構","v":{"$error":"#NAME?"}},{"$f":"16*7.85","v":125.6},1.06,{"$error":"#VALUE!"}]
["接SG2","接合板 PL-16 243*740","PL-SN490B","0.243*0.740*24",{"$f":"鋼構","v":{"$error":"#NAME?"}},{"$f":"16*7.85","v":125.6},1.06,{"$f":"E476*F476*G476","v":{"$error":"#VALUE!"}}]
["接SG3","接合板 PL-16 243*744","PL-SN490B","0.244*0.750*2",{"$f":"鋼構","v":{"$error":"#NAME?"}},125.6,1.06,{"$error":"#VALUE!"}]
["外側補強","PL-16 143*740","PL-SN490B","0.143*0.74*26",{"$f":"鋼構","v":{"$error":"#NAME?"}},{"$f":"16*7.85","v":125.6},1.06,{"$error":"#VALUE!"}]
[null,"S-10T","M-24","6*2*18",{"$f":"鋼構","v":{"$error":"#NAME?"}},1,1,{"$error":"#VALUE!"}]
[null,"B1 剪力釘","19∮*100","2*(48*12+45*3+55*2+32)",{"$f":"鋼構","v":{"$error":"#NAME?"}},1,1,{"$error":"#VALUE!"}]
["6F SJ2","RH-500*200*10*16","RH-A572","2+2.1+2.3+6",{"$f":"鋼構","v":{"$error":"#NAME?"}},88.2,1,{"$error":"#VALUE!"},{"$f":"0.5*2+0.2*3","v":1.6},null,{"$f":"+I481*E481","v":{"$error":"#VALUE!"}}]
["接柱","接合板 PL-16*170*360","PL-SN490B","0.17*0.36*1",{"$f":"鋼構","v":{"$error":"#NAME?"}},{"$f":"16*7.85","v":125.6},1.06,{"$error":"#VALUE!"}]
[null,"柱內 PL-25","PL-SN490B","0.636*0.636*1",{"$f":"鋼構","v":{"$error":"#NAME?"}},{"$f":"25*7.85","v":196.25},2.06,{"$error":"#VALUE!"}]
["接樑","接合板 PL-14","PL-SN490B","0.75*0.244*3+0.566*0.195*2",{"$f":"鋼構","v":{"$error":"#NAME?"}},{"$f":"14*7.85","v":109.89999999999999},1.06,{"$error":"#VALUE!"}]
[null,"FB PL-9*25*26","PL-SN490B","0.025*0.26*2",{"$f":"鋼構","v":{"$error":"#NAME?"}},{"$f":"9*7.85","v":70.649999999999991},1.06,{"$error":"#VALUE!"}]
[null,"S-10T","M-24","10*1+5*6",{"$f":"鋼構","v":{"$error":"#NAME?"}},1,1,{"$error":"#VALUE!"}]
[null,"B1 剪力釘","19∮*100","2*(11+13+12+33)",{"$f":"鋼構","v":{"$error":"#NAME?"}},1,1,{"$error":"#VALUE!"}]
["6F SJ3","RH-496*199*9*14","RH-A572","8.7+4.9+10.5*2+4+3.5+5.5",{"$f":"鋼構","v":{"$error":"#NAME?"}},77.900000000000006,1.06,{"$error":"#VALUE!"},{"$f":"0.5*2+0.2*3","v":1.6},null,{"$f":"+I488*E488","v":{"$error":"#VALUE!"}}]
["接樑","接合板 PL-14","PL-SN490B","0.74*0.244*9+0.468*0.195*4",{"$f":"鋼構","v":{"$error":"#NAME?"}},{"$f":"14*7.85","v":109.89999999999999},1.06,{"$error":"#VALUE!"}]
[null,"接合板 PL-14","PL-SN490B","0.74*0.144*4+0.468*0.095*3",{"$f":"鋼構","v":{"$error":"#NAME?"}},{"$f":"9*7.85","v":70.649999999999991},1.06,{"$error":"#VALUE!"}]
[null,"S-10T","M-24","4*2*7",{"$f":"鋼構","v":{"$error":"#NAME?"}},1,1,{"$error":"#VALUE!"}]
[null,"B1 剪力釘","19∮*100","1*(47+31+57*2+22+20+30)",{"$f":"鋼構","v":{"$error":"#NAME?"}},1,1,{"$error":"#VALUE!"}]
["6F SJ4","RH-450*200*9*14","RH-A572","3+3.3+8.7+3.2*2+3.15*2+3.35+4.55+4",{"$f":"鋼構","v":{"$error":"#NAME?"}},74.900000000000006,1.06,{"$error":"#VALUE!"},{"$f":"0.45*2+0.2*3","v":1.5},null,{"$f":"+I493*E493","v":{"$error":"#VALUE!"}}]
["接樑,柱","接合板 PL-14","PL-SN490B","0.736*0.243*11+0.566*0.195*6+0.495*0.195*5",{"$f":"鋼構","v":{"$error":"#NAME?"}},{"$f":"14*7.85","v":109.89999999999999},1.06,{"$error":"#VALUE!"}]
[null,"接合板 PL-14","PL-SN490B","0.736*0.143*8+0.566*0.095*6",{"$f":"鋼構","v":{"$error":"#NAME?"}},{"$f":"14*7.85","v":109.89999999999999},1.06,{"$error":"#VALUE!"}]
[null,"S-10T","M-20","4*2*12",{"$f":"鋼構","v":{"$error":"#NAME?"}},1,1,{"$error":"#VALUE!"}]
[null,"B1 剪力釘","19∮*100","2*(18+47+22+17*2+18+25+35+15+18)",{"$f":"鋼構","v":{"$error":"#NAME?"}},1,1,{"$error":"#VALUE!"}]
["6F SJ5","RH-350*175*7*11","RH-A36","1.2*2+3.3+3.45*2+2.35+2.9*2+3.4*7",{"$f":"鋼構","v":{"$error":"#NAME?"}},47.4,1.06,{"$error":"#VALUE!"},{"$f":"0.35*2+0.175*3","v":1.2249999999999999},null,{"$f":"+I498*E498","v":{"$error":"#VALUE!"}}]
["接樑,柱","接合板 PL-12","PL-A36","0.17*0.29*2+0.74*0.244*10+0.566*0.195*9",{"$f":"鋼構","v":{"$error":"#NAME?"}},{"$f":"12*7.85","v":94.199999999999989},1.06,{"$error":"#VALUE!"}]
[null,"接合板 PL-12","PL-A36","0.566*0.095*8+0.74*0.144*3+0.468*0.2*7",{"$f":"鋼構","v":{"$error":"#NAME?"}},{"$f":"12*7.85","v":94.199999999999989},1.06,{"$error":"#VALUE!"}]
[null,"S-10T","M-24","8*2",{"$f":"鋼構","v":{"$error":"#NAME?"}},1,1,{"$error":"#VALUE!"}]
[null,"S-10T","M-20","4*2*15",{"$f":"鋼構","v":{"$error":"#NAME?"}},1,1,{"$error":"#VALUE!"}]
[null,"B1 剪力釘","19∮*100","1*(7+19*2+18+13+16*2+6+19*7)",{"$f":"鋼構","v":{"$error":"#NAME?"}},1,1,{"$error":"#VALUE!"}]
["6F SJ6","RH-250*125*6*9","RH-A36","2.4+2.35",{"$f":"鋼構","v":{"$error":"#NAME?"}},29,1.06,{"$error":"#VALUE!"},{"$f":"0.25*2+0.125*3","v":0.875},null,{"$f":"+I504*E504","v":{"$error":"#VALUE!"}}]
["接樑","接合板 PL-12","PL-A36","0.736*0.243*2+0.736*0.143*1+0.566*0.195*3",{"$f":"鋼構","v":{"$error":"#NAME?"}},{"$f":"12*7.85","v":94.199999999999989},1.06,{"$error":"#VALUE!"}]
[null,"S-10T","M-20","2*2",{"$f":"鋼構","v":{"$error":"#NAME?"}},1,1,{"$error":"#VALUE!"}]
[null,"B1 剪力釘","19∮*100","1*(13*2)",{"$f":"鋼構","v":{"$error":"#NAME?"}},1,1,{"$error":"#VALUE!"}]
["6F 大樑側撐","L-75*75*9","L-A36","1.3*21",{"$f":"鋼構","v":{"$error":"#NAME?"}},9.9600000000000009,1.06,{"$error":"#VALUE!"},{"$f":"0.075*3","v":0.22499999999999998},null,{"$f":"+I508*E508","v":{"$error":"#VALUE!"}}]
[null,"L-100-100*10","L-A36","0.25*21",{"$f":"鋼構","v":{"$error":"#NAME?"}},14.9,1.06,{"$error":"#VALUE!"},{"$f":"0.1*3","v":0.30000000000000004},null,{"$f":"+I509*E509","v":{"$error":"#VALUE!"}}]
[null,"PL-12","PL-A36","0.143*0.143*21",{"$f":"鋼構","v":{"$error":"#NAME?"}},{"$f":"12*7.85","v":94.199999999999989},1.06,{"$error":"#VALUE!"}]
[null,"S-10T","M-16","(2+4)*21",{"$f":"鋼構","v":{"$error":"#NAME?"}},1,1,{"$error":"#VALUE!"}]
["6F SC7","RH-400*400*13*21","RH-SN490B","3.7+4",{"$f":"鋼構","v":{"$error":"#NAME?"}},172,1.06,{"$error":"#VALUE!"},{"$f":"0.4*6","v":2.4000000000000004},null,{"$f":"+I512*E512","v":{"$error":"#VALUE!"}}]
[null,"PL-15","PL-SN490B","0.1*0.29*2*2",{"$f":"鋼構","v":{"$error":"#NAME?"}},{"$f":"15*7.85","v":117.75},1.06,{"$error":"#VALUE!"}]
[null,"S-10T","M-22","4*2*2",{"$f":"鋼構","v":{"$error":"#NAME?"}},1,1,{"$error":"#VALUE!"}]
["6F SC8","RH-300*300*10*15","RH-SN490B","3.7*13",{"$f":"鋼構","v":{"$error":"#NAME?"}},172,1.06,{"$error":"#VALUE!"},{"$f":"0.3*6","v":1.7999999999999998},null,{"$f":"+I515*E515","v":{"$error":"#VALUE!"}}]
[null,"底板 PL-20","PL-SN490B","0.3*0.3*1",{"$f":"鋼構","v":{"$error":"#NAME?"}},{"$f":"20*7.85","v":157},1.06,{"$error":"#VALUE!"}]
[null,"M-24 預埋螺栓 L=600","M24 A.B","6*1",{"$f":"鋼構","v":{"$error":"#NAME?"}},1,1,{"$error":"#VALUE!"}]
[null,"PL-15","PL-SN490B","0.1*0.29*2*13",{"$f":"鋼構","v":{"$error":"#NAME?"}},{"$f":"15*7.85","v":117.75},1.06,{"$error":"#VALUE!"}]
[null,"S-10T","M-22","4*2*13",{"$f":"鋼構","v":{"$error":"#NAME?"}},1,1,{"$error":"#VALUE!"}]
[]
["7F SG1a","BH-800*350*15*35","BH-SN490B","4.35*1",{"$f":"鋼構","v":{"$error":"#NAME?"}},279.7,1,{"$f":"E521*F521*G521","v":{"$error":"#VALUE!"}},{"$f":"0.8*2+0.3*3","v":2.5},null,{"$f":"+I521*E521","v":{"$error":"#VALUE!"}},{"$f":"(0.35*2*35*7.85+0.73*15*7.85)*1.005","v":279.67391249999991}]
[null,"接合板 PL-28*185*615","PL-SN490B","0.185*0.615*1",{"$f":"鋼構","v":{"$error":"#NAME?"}},{"$f":"28*7.85","v":219.79999999999998},1.06,{"$error":"#VALUE!"}]
[null,"FB PL-9*25*36","PL-SN490B","0.025*0.41*2",{"$f":"鋼構","v":{"$error":"#NAME?"}},{"$f":"9*7.85","v":70.649999999999991},1.06,{"$error":"#VALUE!"}]
[null,"S-10T","M-24","16*1",{"$f":"鋼構","v":{"$error":"#NAME?"}},1,1,{"$error":"#VALUE!"}]
[null,"B1 剪力釘","19∮*100","2*24",{"$f":"鋼構","v":{"$error":"#NAME?"}},1,1,{"$error":"#VALUE!"}]
["7F SG1","BH-800*300*15*32","BH-SN490B","10.1*4",{"$f":"鋼構","v":{"$error":"#NAME?"}},238.6,1,{"$error":"#VALUE!"},{"$f":"0.8*2+0.3*3","v":2.5},null,{"$f":"+I526*E526","v":{"$error":"#VALUE!"}},{"$f":"(0.3*2*32*7.85+0.736*15*7.85)*1.005","v":238.57091999999997}]
[null,"接合板 PL-26*185*615","PL-SN490B","0.185*0.615*4*2",{"$f":"鋼構","v":{"$error":"#NAME?"}},{"$f":"26*7.85","v":204.1},1.06,{"$error":"#VALUE!"}]
[null,"FB PL-9*25*36","PL-SN490B","0.025*0.36*2*(4*2)",{"$f":"鋼構","v":{"$error":"#NAME?"}},{"$f":"9*7.85","v":70.649999999999991},1.06,{"$error":"#VALUE!"}]
[null,"S-10T","M-24","16*2*4",{"$f":"鋼構","v":{"$error":"#NAME?"}},1,1,{"$error":"#VALUE!"}]
[null,"B1 剪力釘","19∮*100","2*(55*4)",{"$f":"鋼構","v":{"$error":"#NAME?"}},1,1,{"$error":"#VALUE!"}]
["7F SG3","BH-800*300*14*28","BH-SN490B","10.1*15+7.7*5+2.1*2",{"$f":"鋼構","v":{"$error":"#NAME?"}},214.7,1,{"$error":"#VALUE!"},{"$f":"0.8*2+0.3*3","v":2.5},null,{"$f":"+I531*E531","v":{"$error":"#VALUE!"}},{"$f":"(0.3*2*28*7.85+0.744*14*7.85)*1.005","v":214.71382799999998}]
[null,"接合板 PL-25*185*615","PL-SN490B","0.185*0.615*(15*2+7*2)",{"$f":"鋼構","v":{"$error":"#NAME?"}},{"$f":"25*7.85","v":196.25},1.06,{"$error":"#VALUE!"}]
[null,"FB PL-9*25*36","PL-SN490B","0.025*0.36*2*(15*2+7*2)",{"$f":"鋼構","v":{"$error":"#NAME?"}},{"$f":"9*7.85","v":70.649999999999991},1.06,{"$error":"#VALUE!"}]
[null,"S-10T","M-24","16*(15*2+7*2)",{"$f":"鋼構","v":{"$error":"#NAME?"}},1,1,{"$error":"#VALUE!"}]
[null,"B1 剪力釘","19∮*100","2*(55*15+42*5+12*2)",{"$f":"鋼構","v":{"$error":"#NAME?"}},1,1,{"$error":"#VALUE!"}]
["7F SG4*","BH-800*300*12*25","BH-SN490B","8.3*1",{"$f":"鋼構","v":{"$error":"#NAME?"}},189.3,1,{"$error":"#VALUE!"},{"$f":"0.8*2+0.3*3","v":2.5},null,{"$f":"+I536*E536","v":{"$error":"#VALUE!"}},{"$f":"(0.3*2*25*7.85+0.75*12*7.85)*1.005","v":189.34199999999996}]
[null,"側封板 PL-12","PL-SN490B","0.75*2*8.3*1",{"$f":"鋼構","v":{"$error":"#NAME?"}},{"$f":"12*7.85","v":94.199999999999989},1.06,{"$error":"#VALUE!"}]
[null,"接合板 PL-20*185*615","PL-SN490B","0.185*0.615*(2*1)",{"$f":"鋼構","v":{"$error":"#NAME?"}},{"$f":"20*7.85","v":157},1.06,{"$error":"#VALUE!"}]
[null,"FB PL-9*25*36","PL-SN490B","0.025*0.41*(4*1)",{"$f":"鋼構","v":{"$error":"#NAME?"}},{"$f":"9*7.85","v":70.649999999999991},1.06,{"$error":"#VALUE!"}]
[null,"S-10T","M-24","16*(2*1)",{"$f":"鋼構","v":{"$error":"#NAME?"}},1,1,{"$error":"#VALUE!"}]
[null,"B1 剪力釘","19∮*100","2*(45*1)",{"$f":"鋼構","v":{"$error":"#NAME?"}},1,1,{"$error":"#VALUE!"}]
["7F SG4","BH-800*300*12*25","BH-SN490B","8.3*22+3.45*2+4.85+3.25*2",{"$f":"鋼構","v":{"$error":"#NAME?"}},189.3,1,{"$error":"#VALUE!"},{"$f":"0.8*2+0.3*3","v":2.5},null,{"$f":"+I542*E542","v":{"$error":"#VALUE!"}},{"$f":"(0.3*2*25*7.85+0.75*12*7.85)*1.005","v":189.34199999999996}]
[null,"接合板 PL-20*185*615","PL-SN490B","0.185*0.615*(2*22+1*5)",{"$f":"鋼構","v":{"$error":"#NAME?"}},{"$f":"20*7.85","v":157},1.06,{"$error":"#VALUE!"}]
[null,"FB PL-9*25*36","PL-SN490B","0.025*0.41*(4*22+2*5)",{"$f":"鋼構","v":{"$error":"#NAME?"}},{"$f":"9*7.85","v":70.649999999999991},1.06,{"$error":"#VALUE!"}]
[null,"S-10T","M-24","16*(2*22+1*5)",{"$f":"鋼構","v":{"$error":"#NAME?"}},1,1,{"$error":"#VALUE!"}]
[null,"B1 剪力釘","19∮*100","2*(45*22+19*2+18*3)",{"$f":"鋼構","v":{"$error":"#NAME?"}},1,1,{"$error":"#VALUE!"}]
["7F SJ1*","RH-600*200*11*17","RH-A572","8.1*1",{"$f":"鋼構","v":{"$error":"#NAME?"}},103,1,{"$error":"#VALUE!"},{"$f":"0.6*2+0.2*3","v":1.8},null,{"$f":"+I547*E547","v":{"$error":"#VALUE!"}}]
[null,"側封板 PL-12","PL-SN490B","0.566*8.1*2",{"$f":"鋼構","v":{"$error":"#NAME?"}},{"$f":"12*7.85","v":94.199999999999989},1.06,{"$error":"#VALUE!"}]
["接SG1","接合板 PL-16 243*736","PL-SN490B","0.243*0.736*2",{"$f":"鋼構","v":{"$error":"#NAME?"}},{"$f":"16*7.85","v":125.6},1.06,{"$error":"#VALUE!"}]
["外側補強","PL-16 143*736","PL-SN490B","0.143*0.736",{"$f":"鋼構","v":{"$error":"#NAME?"}},{"$f":"16*7.85","v":125.6},1.06,{"$error":"#VALUE!"}]
[null,"S-10T","M-24","6*2",{"$f":"鋼構","v":{"$error":"#NAME?"}},1,1,{"$error":"#VALUE!"}]
["7F SJ1","RH-600*200*11*17","RH-A572","8.7*48+8.1*2+10.5*2+5.85",{"$f":"鋼構","v":{"$error":"#NAME?"}},103,1,{"$error":"#VALUE!"},{"$f":"0.6*2+0.2*3","v":1.8},null,{"$f":"+I552*E552","v":{"$error":"#VALUE!"}}]
["接SG3","接合板 PL-16 243*744","PL-SN490B","0.243*0.744*2*(48+2+2+1)",{"$f":"鋼構","v":{"$error":"#NAME?"}},{"$f":"16*7.85","v":125.6},1.06,{"$error":"#VALUE!"}]
["外側補強","PL-16 143*736","PL-SN490B","0.143*0.736*39+0.566*0.095",{"$f":"鋼構","v":{"$error":"#NAME?"}},{"$f":"16*7.85","v":125.6},1.06,{"$error":"#VALUE!"}]
[null,"S-10T","M-24","6*2*(48+2+2+1)",{"$f":"鋼構","v":{"$error":"#NAME?"}},1,1,{"$error":"#VALUE!"}]
[null,"B1 剪力釘","19∮*100","2*(49*48+45*2+55*2+32)",{"$f":"鋼構","v":{"$error":"#NAME?"}},1,1,{"$error":"#VALUE!"}]
["7F SJ2","RH-500*200*10*16","RH-A572","2+2.3+2+6+2.75",{"$f":"鋼構","v":{"$error":"#NAME?"}},88.2,1,{"$error":"#VALUE!"},{"$f":"0.5*2+0.2*3","v":1.6},null,{"$f":"+I557*E557","v":{"$error":"#VALUE!"}}]
["接柱","接合板 PL-16*170*360","PL-SN490B","0.17*0.36*1",{"$f":"鋼構","v":{"$error":"#NAME?"}},{"$f":"16*7.85","v":125.6},1.06,{"$error":"#VALUE!"}]
[null,"柱內 PL-25","PL-SN490B","0.636*0.636*1",{"$f":"鋼構","v":{"$error":"#NAME?"}},{"$f":"25*7.85","v":196.25},2.06,{"$error":"#VALUE!"}]
["接樑","接合板 PL-14","PL-SN490B","0.744*0.243*3+0.566*0.195*2",{"$f":"鋼構","v":{"$error":"#NAME?"}},{"$f":"14*7.85","v":109.89999999999999},1.06,{"$error":"#VALUE!"}]
[null,"FB PL-9*25*26","PL-SN490B","0.025*0.26*2",{"$f":"鋼構","v":{"$error":"#NAME?"}},{"$f":"9*7.85","v":70.649999999999991},1.06,{"$error":"#VALUE!"}]
[null,"S-10T","M-24","10+5*2*4",{"$f":"鋼構","v":{"$error":"#NAME?"}},1,1,{"$error":"#VALUE!"}]
[null,"B1 剪力釘","19∮*100","2*(11+13+11+33+15)",{"$f":"鋼構","v":{"$error":"#NAME?"}},1,1,{"$error":"#VALUE!"}]
["7F SJ3","RH-496*199*9*14","RH-A572","8.7+4.9+10.5*2+4+3.5+5.5",{"$f":"鋼構","v":{"$error":"#NAME?"}},77.900000000000006,1.06,{"$error":"#VALUE!"},{"$f":"0.5*2+0.2*3","v":1.6},null,{"$f":"+I564*E564","v":{"$error":"#VALUE!"}}]
["接樑","接合板 PL-14","PL-SN490B","0.736*0.243*2+0.75*0.244*5+0.468*0.195*4",{"$f":"鋼構","v":{"$error":"#NAME?"}},{"$f":"14*7.85","v":109.89999999999999},1.06,{"$error":"#VALUE!"}]
[null,"接合板 PL-14","PL-SN490B","0.736*0.143*4+0.468*0.095*3",{"$f":"鋼構","v":{"$error":"#NAME?"}},{"$f":"9*7.85","v":70.649999999999991},1.06,{"$error":"#VALUE!"}]
[null,"S-10T","M-24","4*2*7",{"$f":"鋼構","v":{"$error":"#NAME?"}},1,1,{"$error":"#VALUE!"}]
[null,"B1 剪力釘","19∮*100","1*(47+31+57*2+22+20+30)",{"$f":"鋼構","v":{"$error":"#NAME?"}},1,1,{"$error":"#VALUE!"}]
["7F SJ4","RH-450*200*9*14","RH-A572","3+3.3+8.7+3.2*2+3.15*2+3.35+4.55+4+6.4+2.7",{"$f":"鋼構","v":{"$error":"#NAME?"}},74.900000000000006,1.06,{"$error":"#VALUE!"},{"$f":"0.45*2+0.2*3","v":1.5},null,{"$f":"+I569*E569","v":{"$error":"#VALUE!"}}]
["接樑,柱","接合板 PL-14","PL-SN490B","0.736*0.243*11+0.566*0.195*6+0.495*0.195*5",{"$f":"鋼構","v":{"$error":"#NAME?"}},{"$f":"14*7.85","v":109.89999999999999},1.06,{"$error":"#VALUE!"}]
[null,"接合板 PL-14","PL-SN490B","0.736*0.143*8+0.566*0.095*6",{"$f":"鋼構","v":{"$error":"#NAME?"}},{"$f":"14*7.85","v":109.89999999999999},1.06,{"$error":"#VALUE!"}]
[null,"S-10T","M-20","4*2*12",{"$f":"鋼構","v":{"$error":"#NAME?"}},1,1,{"$error":"#VALUE!"}]
[null,"B1 剪力釘","19∮*100","2*(18+47+22+17*2+18+25+35+15+18)",{"$f":"鋼構","v":{"$error":"#NAME?"}},1,1,{"$error":"#VALUE!"}]
["7F SJ5","RH-350*175*7*11","RH-A36","1.2*2+3.3+3.45*2+2.35+2.9*2+3.4*7",{"$f":"鋼構","v":{"$error":"#NAME?"}},47.4,1.06,{"$error":"#VALUE!"},{"$f":"0.35*2+0.175*3","v":1.2249999999999999},null,{"$f":"+I574*E574","v":{"$error":"#VALUE!"}}]
["接樑,柱","接合板 PL-12","PL-A36","0.17*0.29*2+0.736*0.243*10+0.566*0.195*9",{"$f":"鋼構","v":{"$error":"#NAME?"}},{"$f":"12*7.85","v":94.199999999999989},1.06,{"$error":"#VALUE!"}]
[null,"接合板 PL-12","PL-A36","0.566*0.095*8+0.736*0.143*3+0.468*0.2*7",{"$f":"鋼構","v":{"$error":"#NAME?"}},{"$f":"12*7.85","v":94.199999999999989},1.06,{"$error":"#VALUE!"}]
[null,"S-10T","M-24","8*2",{"$f":"鋼構","v":{"$error":"#NAME?"}},1,1,{"$error":"#VALUE!"}]
[null,"S-10T","M-20","4*2*15",{"$f":"鋼構","v":{"$error":"#NAME?"}},1,1,{"$error":"#VALUE!"}]
[null,"B1 剪力釘","19∮*100","1*(7*2+18+19*2+13+16*2+19*7)",{"$f":"鋼構","v":{"$error":"#NAME?"}},1,1,{"$error":"#VALUE!"}]
["7F SJ6","RH-250*125*6*9","RH-A36","2.4+2.35",{"$f":"鋼構","v":{"$error":"#NAME?"}},29,1.06,{"$error":"#VALUE!"},{"$f":"0.25*2+0.125*3","v":0.875},null,{"$f":"+I580*E580","v":{"$error":"#VALUE!"}}]
["接樑","接合板 PL-12","PL-A36","0.736*0.243*2+0.736*0.143*1+0.566*0.195*3",{"$f":"鋼構","v":{"$error":"#NAME?"}},{"$f":"12*7.85","v":94.199999999999989},1.06,{"$error":"#VALUE!"}]
[null,"S-10T","M-20","2*2",{"$f":"鋼構","v":{"$error":"#NAME?"}},1,1,{"$error":"#VALUE!"}]
[null,"B1 剪力釘","19∮*100","1*(13*2)",{"$f":"鋼構","v":{"$error":"#NAME?"}},1,1,{"$error":"#VALUE!"}]
["7F 大樑側撐","L-75*75*9","L-A36","1.3*54",{"$f":"鋼構","v":{"$error":"#NAME?"}},9.9600000000000009,1.06,{"$error":"#VALUE!"},{"$f":"0.075*3","v":0.22499999999999998},null,{"$f":"+I584*E584","v":{"$error":"#VALUE!"}}]
[null,"L-100-100*10","L-A36","0.25*54",{"$f":"鋼構","v":{"$error":"#NAME?"}},14.9,1.06,{"$error":"#VALUE!"},{"$f":"0.1*3","v":0.30000000000000004},null,{"$f":"+I585*E585","v":{"$error":"#VALUE!"}}]
[null,"PL-12","PL-A36","0.143*0.143*54",{"$f":"鋼構","v":{"$error":"#NAME?"}},{"$f":"12*7.85","v":94.199999999999989},1.06,{"$f":"E586*F586*G586","v":{"$error":"#VALUE!"}}]
[null,"S-10T","M-16","(2+4)*54",{"$f":"鋼構","v":{"$error":"#NAME?"}},1,1,{"$error":"#VALUE!"}]
["7F SC7","RH-400*400*13*21","RH-SN490B","3.7+4",{"$f":"鋼構","v":{"$error":"#NAME?"}},172,1.06,{"$error":"#VALUE!"},{"$f":"0.4*6","v":2.4000000000000004},null,{"$f":"+I588*E588","v":{"$error":"#VALUE!"}}]
[null,"PL-15","PL-SN490B","0.1*0.29*2*2",{"$f":"鋼構","v":{"$error":"#NAME?"}},{"$f":"15*7.85","v":117.75},1.06,{"$error":"#VALUE!"}]
[null,"S-10T","M-22","4*2*2",{"$f":"鋼構","v":{"$error":"#NAME?"}},1,1,{"$error":"#VALUE!"}]
["7F SC8","RH-300*300*10*15","RH-SN490B","3.7*13",{"$f":"鋼構","v":{"$error":"#NAME?"}},172,1.06,{"$error":"#VALUE!"},{"$f":"0.3*6","v":1.7999999999999998},null,{"$f":"+I591*E591","v":{"$error":"#VALUE!"}}]
[null,"底板 PL-20","PL-SN490B","0.3*0.3*1",{"$f":"鋼構","v":{"$error":"#NAME?"}},{"$f":"20*7.85","v":157},1.06,{"$error":"#VALUE!"}]
[null,"M-24 預埋螺栓 L=600","M24 A.B","6*1",{"$f":"鋼構","v":{"$error":"#NAME?"}},1,1,{"$error":"#VALUE!"}]
[null,"PL-15","PL-SN490B","0.1*0.29*2*13",{"$f":"鋼構","v":{"$error":"#NAME?"}},{"$f":"15*7.85","v":117.75},1.06,{"$error":"#VALUE!"}]
[null,"S-10T","M-22","4*2*13",{"$f":"鋼構","v":{"$error":"#NAME?"}},1,1,{"$error":"#VALUE!"}]
[null,null,null,null,null,null,null,null,null,null,{"$f":"SUM(K5:K595)","v":{"$error":"#VALUE!"}}]
["7F+120 SC3*2+SC5 +3275~+4625","口-700*700*32","口-SN490YC","9*13",{"$f":"鋼構","v":{"$error":"#NAME?"}},680.6,1.06,{"$f":"E597*F597*G597","v":{"$error":"#VALUE!"}},2.8,null,{"$f":"+I597*E597","v":{"$error":"#VALUE!"}},{"$f":"(0.7*2+0.636*2)*32*7.85*1+9.42","v":680.62639999999988},{"$f":"0.012*0.025*7850*4","v":9.4200000000000017}]
[null,"口-700*700*25","口-SN490B","4.5*13",{"$f":"鋼構","v":{"$error":"#NAME?"}},539.29999999999995,1.06,{"$error":"#VALUE!"},2.8,null,{"$f":"+I598*E598","v":{"$error":"#VALUE!"}},{"$f":"(0.7*2+0.65*2)*25*7.85*1+9.42","v":539.29499999999996},{"$f":"0.012*0.025*7850*4","v":9.4200000000000017}]
[null,"變斷面加勁PL-16","PL-SN490B","0.636*0.636*13",{"$f":"鋼構","v":{"$error":"#NAME?"}},{"$f":"16*7.85","v":125.6},1.06,{"$error":"#VALUE!"}]
[null,"背襯板 PL-12*35","PL-SN490B","0.035*0.65*4*13",{"$f":"鋼構","v":{"$error":"#NAME?"}},{"$f":"12*7.85","v":94.199999999999989},1.06,{"$error":"#VALUE!"}]
["7F+120 SC4*2+SC5 +3275~+4625","口-700*700*28","口-SN490B","9*16",{"$f":"鋼構","v":{"$error":"#NAME?"}},600.20000000000005,1.06,{"$error":"#VALUE!"},2.8,null,{"$f":"+I601*E601","v":{"$error":"#VALUE!"}},{"$f":"(0.7*2+0.644*2)*28*7.85*1+9.42","v":600.24239999999986},{"$f":"0.012*0.025*7850*4","v":9.4200000000000017}]
[null,"口-700*700*25","口-SN490B","4.5*16",{"$f":"鋼構","v":{"$error":"#NAME?"}},539.29999999999995,1.06,{"$error":"#VALUE!"},3.8,null,{"$f":"+I602*E602","v":{"$error":"#VALUE!"}},{"$f":"(0.7*2+0.65*2)*25*7.85*1+9.42","v":539.29499999999996},{"$f":"0.012*0.025*7850*4","v":9.4200000000000017}]
[null,"變斷面加勁PL-16","PL-SN490B","0.644*0.644*16",{"$f":"鋼構","v":{"$error":"#NAME?"}},{"$f":"16*7.85","v":125.6},1.06,{"$error":"#VALUE!"}]
[null,"背襯板 PL-12*35","PL-SN490B","0.035*0.65*4*16",{"$f":"鋼構","v":{"$error":"#NAME?"}},{"$f":"12*7.85","v":94.199999999999989},1.06,{"$error":"#VALUE!"}]
["鋼柱現場對接","PL-18","PL-SN490B","0.125*0.24*4*29",{"$f":"鋼構","v":{"$error":"#NAME?"}},{"$f":"18*7.85","v":141.29999999999998},1.06,{"$error":"#VALUE!"}]
[null,"PL-12","PL-SN490B","0.08*0.63*4*29",{"$f":"鋼構","v":{"$error":"#NAME?"}},{"$f":"12*7.85","v":94.199999999999989},1.06,{"$error":"#VALUE!"}]
["  螺栓","M20 S10T","M-20","12*29",{"$f":"鋼構","v":{"$error":"#NAME?"}},1,1,{"$error":"#VALUE!"}]
["柱內接頭加勁板","8F接樑柱內加勁板 PL-35","PL-SN490B","0.65*0.65*2",{"$f":"鋼構","v":{"$error":"#NAME?"}},{"$f":"35*7.85","v":274.75},1.06,{"$error":"#VALUE!"}]
[null,"8F接樑柱內加勁板 PL-25","PL-SN490B","0.636*0.636*2*7+0.65*0.65*(2*15+2)",{"$f":"鋼構","v":{"$error":"#NAME?"}},{"$f":"25*7.85","v":196.25},1.06,{"$error":"#VALUE!"}]
[null,"8F背襯板 PL-25*47","PL-SN490B","0.047*0.636*6*2*7+0.047*0.65*6*(2*15+2)",{"$f":"鋼構","v":{"$error":"#NAME?"}},{"$f":"25*7.85","v":196.25},1.06,{"$error":"#VALUE!"}]
[null,"9F接樑柱內加勁板 PL-35","PL-SN490B","0.65*0.65*2",{"$f":"鋼構","v":{"$error":"#NAME?"}},{"$f":"35*7.85","v":274.75},1.06,{"$error":"#VALUE!"}]
[null,"9F接樑柱內加勁板 PL-25","PL-SN490B","0.644*0.6446*2*13+0.65*0.65*(2*15+2)",{"$f":"鋼構","v":{"$error":"#NAME?"}},{"$f":"25*7.85","v":196.25},1.06,{"$error":"#VALUE!"}]
[null,"9F背襯板 PL-25*47","PL-SN490B","0.047*0.636*6*2*14+0.047*0.65*6*(2*15+2)",{"$f":"鋼構","v":{"$error":"#NAME?"}},{"$f":"25*7.85","v":196.25},1.06,{"$error":"#VALUE!"}]
[null,"10F接樑柱內加勁板 PL-35","PL-SN490B","0.65*0.65*2",{"$f":"鋼構","v":{"$error":"#NAME?"}},{"$f":"35*7.85","v":274.75},1.06,{"$error":"#VALUE!"}]
[null,"10F接樑柱內加勁板 PL-25","PL-SN490B","0.65*0.65*2*22",{"$f":"鋼構","v":{"$error":"#NAME?"}},{"$f":"25*7.85","v":196.25},1.06,{"$error":"#VALUE!"}]
[null,"10F背襯板 PL-25*47","PL-SN490B","0.047*0.65*6*(23*2+2*2)",{"$f":"鋼構","v":{"$error":"#NAME?"}},{"$f":"25*7.85","v":196.25},1.06,{"$error":"#VALUE!"}]
[null,"25∮TIE BOLT","25∮TIE","2*27*29",{"$f":"鋼構","v":{"$error":"#NAME?"}},1,1,{"$error":"#VALUE!"}]
[null,"灌漿孔補強板 PL-21","PL-SN490B","0.4*0.4*29",{"$f":"鋼構","v":{"$error":"#NAME?"}},{"$f":"21*7.85","v":164.85},1.06,{"$error":"#VALUE!"}]
[null,"柱內灌漿 ","SSC","0.636*0.636*9*13+0.644*0.644*9*16",{"$f":"鋼構","v":{"$error":"#NAME?"}},1,1.05,{"$error":"#VALUE!"}]
[null,"柱內灌漿 ","SSC","0.65*0.65*(4.5*13+4.5*16)",{"$f":"鋼構","v":{"$error":"#NAME?"}},1,1.05,{"$f":"E620*F620*G620","v":{"$error":"#VALUE!"}}]
["8F SG1a","BH-800*350*15*35","BH-SN490B","4.35*1",{"$f":"鋼構","v":{"$error":"#NAME?"}},279.7,1,{"$error":"#VALUE!"},{"$f":"0.8*2+0.3*3","v":2.5},null,{"$f":"+I621*E621","v":{"$error":"#VALUE!"}},{"$f":"(0.35*2*35*7.85+0.73*15*7.85)*1.005","v":279.67391249999991}]
[null,"接合板 PL-28*185*615","PL-SN490B","0.185*0.615*1",{"$f":"鋼構","v":{"$error":"#NAME?"}},{"$f":"28*7.85","v":219.79999999999998},1.06,{"$error":"#VALUE!"}]
[null,"FB PL-9*25*36","PL-SN490B","0.025*0.41*2",{"$f":"鋼構","v":{"$error":"#NAME?"}},{"$f":"9*7.85","v":70.649999999999991},1.06,{"$error":"#VALUE!"}]
[null,"S-10T","M-24","16*1",{"$f":"鋼構","v":{"$error":"#NAME?"}},1,1,{"$error":"#VALUE!"}]
[null,"B1 剪力釘","19∮*100","2*24",{"$f":"鋼構","v":{"$error":"#NAME?"}},1,1,{"$error":"#VALUE!"}]
["8F SG4*","BH-800*300*12*25","BH-SN490B","8.3*3",{"$f":"鋼構","v":{"$error":"#NAME?"}},189.3,1,{"$error":"#VALUE!"},{"$f":"0.8*2+0.3*3","v":2.5},null,{"$f":"+I626*E626","v":{"$error":"#VALUE!"}},{"$f":"(0.3*2*25*7.85+0.75*12*7.85)*1.005","v":189.34199999999996}]
[null,"側封板 PL-12","PL-SN490B","0.75*2*8.3*3",{"$f":"鋼構","v":{"$error":"#NAME?"}},{"$f":"12*7.85","v":94.199999999999989},1.06,{"$error":"#VALUE!"}]
[null,"接合板 PL-20*185*615","PL-SN490B","0.185*0.615*(2*3)",{"$f":"鋼構","v":{"$error":"#NAME?"}},{"$f":"20*7.85","v":157},1.06,{"$error":"#VALUE!"}]
[null,"FB PL-9*25*36","PL-SN490B","0.025*0.41*(4*3)",{"$f":"鋼構","v":{"$error":"#NAME?"}},{"$f":"9*7.85","v":70.649999999999991},1.06,{"$error":"#VALUE!"}]
[null,"S-10T","M-24","16*(2*3)",{"$f":"鋼構","v":{"$error":"#NAME?"}},1,1,{"$error":"#VALUE!"}]
[null,"B1 剪力釘","19∮*100","2*(45*3)",{"$f":"鋼構","v":{"$error":"#NAME?"}},1,1,{"$error":"#VALUE!"}]
["8F SG4","BH-800*300*12*25","BH-SN490B","8.3*11+3.45*2+4.85+3.25*2",{"$f":"鋼構","v":{"$error":"#NAME?"}},189.3,1,{"$error":"#VALUE!"},{"$f":"0.8*2+0.3*3","v":2.5},null,{"$f":"+I632*E632","v":{"$error":"#VALUE!"}},{"$f":"(0.3*2*25*7.85+0.75*12*7.85)*1.005","v":189.34199999999996}]
[null,"接合板 PL-20*185*615","PL-SN490B","0.185*0.615*(2*11+1*5)",{"$f":"鋼構","v":{"$error":"#NAME?"}},{"$f":"20*7.85","v":157},1.06,{"$error":"#VALUE!"}]
[null,"FB PL-9*25*36","PL-SN490B","0.025*0.41*(4*11+2*5)",{"$f":"鋼構","v":{"$error":"#NAME?"}},{"$f":"9*7.85","v":70.649999999999991},1.06,{"$error":"#VALUE!"}]
[null,"S-10T","M-24","16*(2*11+1*5)",{"$f":"鋼構","v":{"$error":"#NAME?"}},1,1,{"$error":"#VALUE!"}]
[null,"B1 剪力釘","19∮*100","2*(45*11+19*2+18*3)",{"$f":"鋼構","v":{"$error":"#NAME?"}},1,1,{"$error":"#VALUE!"}]
["8F SG5*","BH-800*300*10*22","BH-SN490B","10.1*5",{"$f":"鋼構","v":{"$error":"#NAME?"}},163.80000000000001,1,{"$error":"#VALUE!"},{"$f":"0.8*2+0.3*3","v":2.5},null,{"$f":"+I637*E637","v":{"$error":"#VALUE!"}},{"$f":"(0.3*2*22*7.85+0.756*10*7.85)*1.005","v":163.78082999999998}]
[null,"側封板 PL-12","PL-SN490B","0.756*2*10.1*5",{"$f":"鋼構","v":{"$error":"#NAME?"}},{"$f":"12*7.85","v":94.199999999999989},1.06,{"$error":"#VALUE!"}]
[null,"接合板 PL-18*185*615","PL-SN490B","0.185*0.615*(5*2)",{"$f":"鋼構","v":{"$error":"#NAME?"}},{"$f":"18*7.85","v":141.29999999999998},1.06,{"$error":"#VALUE!"}]
[null,"FB PL-9*25*36","PL-SN490B","0.025*0.36*2*(15*2)",{"$f":"鋼構","v":{"$error":"#NAME?"}},{"$f":"9*7.85","v":70.649999999999991},1.06,{"$error":"#VALUE!"}]
[null,"S-10T","M-24","16*(5*2)",{"$f":"鋼構","v":{"$error":"#NAME?"}},1,1,{"$error":"#VALUE!"}]
[null,"B1 剪力釘","19∮*100","2*(55*5)",{"$f":"鋼構","v":{"$error":"#NAME?"}},1,1,{"$error":"#VALUE!"}]
["8F SG5","BH-800*300*10*22","BH-SN490B","10.1*6+7.7*5+2.1*2",{"$f":"鋼構","v":{"$error":"#NAME?"}},163.80000000000001,1,{"$f":"E643*F643*G643","v":{"$error":"#VALUE!"}},{"$f":"0.8*2+0.3*3","v":2.5},null,{"$f":"+I643*E643","v":{"$error":"#VALUE!"}},{"$f":"(0.3*2*22*7.85+0.756*10*7.85)*1.005","v":163.78082999999998}]
[null,"接合板 PL-18*185*615","PL-SN490B","0.185*0.615*(6*2+5*2+1*2)",{"$f":"鋼構","v":{"$error":"#NAME?"}},{"$f":"18*7.85","v":141.29999999999998},1.06,{"$error":"#VALUE!"}]
[null,"FB PL-9*25*36","PL-SN490B","0.025*0.36*2*(6*2+5*2+1*2)",{"$f":"鋼構","v":{"$error":"#NAME?"}},{"$f":"9*7.85","v":70.649999999999991},1.06,{"$error":"#VALUE!"}]
[null,"S-10T","M-24","16*(6*2+5*2+1*2)",{"$f":"鋼構","v":{"$error":"#NAME?"}},1,1,{"$error":"#VALUE!"}]
[null,"B1 剪力釘","19∮*100","2*(55*6+42*5+12*2)",{"$f":"鋼構","v":{"$error":"#NAME?"}},1,1,{"$error":"#VALUE!"}]
["8F SJ1*","RH-600*200*11*17","RH-A572","8.1*1",{"$f":"鋼構","v":{"$error":"#NAME?"}},103,1,{"$error":"#VALUE!"},{"$f":"0.6*2+0.2*3","v":1.8},null,{"$f":"+I648*E648","v":{"$error":"#VALUE!"}}]
[null,"側封板 PL-12","PL-SN490B","0.566*8.1*2",{"$f":"鋼構","v":{"$error":"#NAME?"}},{"$f":"12*7.85","v":94.199999999999989},1.06,{"$error":"#VALUE!"}]
["接SG4","接合板 PL-16 243*736","PL-SN490B","0.244*0.75*2",{"$f":"鋼構","v":{"$error":"#NAME?"}},{"$f":"16*7.85","v":125.6},1.06,{"$error":"#VALUE!"}]
["外側補強","PL-16 143*736","PL-SN490B","0.144*0.75",{"$f":"鋼構","v":{"$error":"#NAME?"}},{"$f":"16*7.85","v":125.6},1.06,{"$error":"#VALUE!"}]
[null,"S-10T","M-24","6*2",{"$f":"鋼構","v":{"$error":"#NAME?"}},1,1,{"$error":"#VALUE!"}]
["8F SJ1","RH-600*200*11*17","RH-A572","8.7*12+8.1*2+10.5*2+5.85",{"$f":"鋼構","v":{"$error":"#NAME?"}},103,1,{"$error":"#VALUE!"},{"$f":"0.6*2+0.2*3","v":1.8},null,{"$f":"+I653*E653","v":{"$error":"#VALUE!"}}]
["接SG5","接合板 PL-16 243*744","PL-SN490B","0.245*0.756*2*(12+2+2+1)",{"$f":"鋼構","v":{"$error":"#NAME?"}},{"$f":"16*7.85","v":125.6},1.06,{"$error":"#VALUE!"}]
["外側補強","PL-16 143*736","PL-SN490B","0.145*0.756*25+0.566*0.095",{"$f":"鋼構","v":{"$error":"#NAME?"}},{"$f":"16*7.85","v":125.6},1.06,{"$error":"#VALUE!"}]
[null,"S-10T","M-24","6*2*(12+2+2+1)",{"$f":"鋼構","v":{"$error":"#NAME?"}},1,1,{"$error":"#VALUE!"}]
[null,"B1 剪力釘","19∮*100","2*(49*12+45*2+55*2+32)",{"$f":"鋼構","v":{"$error":"#NAME?"}},1,1,{"$error":"#VALUE!"}]
["8F SJ2","RH-500*200*10*16","RH-A572","2+2.3+2+6+2.75",{"$f":"鋼構","v":{"$error":"#NAME?"}},88.2,1,{"$error":"#VALUE!"},{"$f":"0.5*2+0.2*3","v":1.6},null,{"$f":"+I658*E658","v":{"$error":"#VALUE!"}}]
["接柱","接合板 PL-16*170*360","PL-SN490B","0.17*0.36*1",{"$f":"鋼構","v":{"$error":"#NAME?"}},{"$f":"16*7.85","v":125.6},1.06,{"$error":"#VALUE!"}]
[null,"柱內 PL-25","PL-SN490B","0.636*0.636*1",{"$f":"鋼構","v":{"$error":"#NAME?"}},{"$f":"25*7.85","v":196.25},2.06,{"$error":"#VALUE!"}]
["接樑","接合板 PL-14","PL-SN490B","0.756*0.245*3+0.566*0.195*2",{"$f":"鋼構","v":{"$error":"#NAME?"}},{"$f":"14*7.85","v":109.89999999999999},1.06,{"$error":"#VALUE!"}]
[null,"FB PL-9*25*26","PL-SN490B","0.025*0.26*2",{"$f":"鋼構","v":{"$error":"#NAME?"}},{"$f":"9*7.85","v":70.649999999999991},1.06,{"$error":"#VALUE!"}]
[null,"S-10T","M-24","10+5*2*4",{"$f":"鋼構","v":{"$error":"#NAME?"}},1,1,{"$error":"#VALUE!"}]
[null,"B1 剪力釘","19∮*100","2*(11+13+11+33+15)",{"$f":"鋼構","v":{"$error":"#NAME?"}},1,1,{"$error":"#VALUE!"}]
["8F SJ3","RH-496*199*9*14","RH-A572","8.7+4.9+10.5*2+4+3.5+5.5",{"$f":"鋼構","v":{"$error":"#NAME?"}},77.900000000000006,1.06,{"$error":"#VALUE!"},{"$f":"0.5*2+0.2*3","v":1.6},null,{"$f":"+I665*E665","v":{"$error":"#VALUE!"}}]
["接樑","接合板 PL-14","PL-SN490B","0.756*0.245*2+0.756*0.245*5+0.468*0.195*4",{"$f":"鋼構","v":{"$error":"#NAME?"}},{"$f":"14*7.85","v":109.89999999999999},1.06,{"$error":"#VALUE!"}]
[null,"接合板 PL-14","PL-SN490B","0.756*0.145*4+0.468*0.095*3",{"$f":"鋼構","v":{"$error":"#NAME?"}},{"$f":"9*7.85","v":70.649999999999991},1.06,{"$error":"#VALUE!"}]
[null,"S-10T","M-24","4*2*7",{"$f":"鋼構","v":{"$error":"#NAME?"}},1,1,{"$error":"#VALUE!"}]
[null,"B1 剪力釘","19∮*100","1*(47+31+57*2+22+20+30)",{"$f":"鋼構","v":{"$error":"#NAME?"}},1,1,{"$error":"#VALUE!"}]
["8F SJ4","RH-450*200*9*14","RH-A572","3+3.3+8.7+3.2*2+3.15*2+3.35+4.55+4",{"$f":"鋼構","v":{"$error":"#NAME?"}},74.900000000000006,1.06,{"$error":"#VALUE!"},{"$f":"0.45*2+0.2*3","v":1.5},null,{"$f":"+I670*E670","v":{"$error":"#VALUE!"}}]
["接樑,柱","接合板 PL-14","PL-SN490B","0.756*0.245*9+0.566*0.195*6+0.495*0.195*5",{"$f":"鋼構","v":{"$error":"#NAME?"}},{"$f":"14*7.85","v":109.89999999999999},1.06,{"$error":"#VALUE!"}]
[null,"接合板 PL-14","PL-SN490B","0.756*0.145*6+0.566*0.095*6",{"$f":"鋼構","v":{"$error":"#NAME?"}},{"$f":"14*7.85","v":109.89999999999999},1.06,{"$error":"#VALUE!"}]
[null,"S-10T","M-20","4*2*10",{"$f":"鋼構","v":{"$error":"#NAME?"}},1,1,{"$error":"#VALUE!"}]
[null,"B1 剪力釘","19∮*100","2*(18+47+22+17*2+18+25+35+15+18)",{"$f":"鋼構","v":{"$error":"#NAME?"}},1,1,{"$error":"#VALUE!"}]
["8F SJ5","RH-350*175*7*11","RH-A36","1.2*2+3.3+3.45*2+2.35+2.9*2+3.4*7+6.4+2.7",{"$f":"鋼構","v":{"$error":"#NAME?"}},47.4,1.06,{"$error":"#VALUE!"},{"$f":"0.35*2+0.175*3","v":1.2249999999999999},null,{"$f":"+I675*E675","v":{"$error":"#VALUE!"}}]
["接樑,柱","接合板 PL-12","PL-A36","0.17*0.29*2+0.756*0.245*12+0.566*0.195*9",{"$f":"鋼構","v":{"$error":"#NAME?"}},{"$f":"12*7.85","v":94.199999999999989},1.06,{"$error":"#VALUE!"}]
[null,"接合板 PL-12","PL-A36","0.566*0.095*8+0.756*0.145*5+0.468*0.2*7",{"$f":"鋼構","v":{"$error":"#NAME?"}},{"$f":"12*7.85","v":94.199999999999989},1.06,{"$error":"#VALUE!"}]
[null,"S-10T","M-24","8*2",{"$f":"鋼構","v":{"$error":"#NAME?"}},1,1,{"$error":"#VALUE!"}]
[null,"S-10T","M-20","4*2*15",{"$f":"鋼構","v":{"$error":"#NAME?"}},1,1,{"$error":"#VALUE!"}]
[null,"B1 剪力釘","19∮*100","1*(7*2+18+19*2+13+16*2+19*7+35+15)",{"$f":"鋼構","v":{"$error":"#NAME?"}},1,1,{"$f":"E680*F680*G680","v":{"$error":"#VALUE!"}}]
["8F SJ6","RH-250*125*6*9","RH-A36","2.4+2.35",{"$f":"鋼構","v":{"$error":"#NAME?"}},29,1.06,{"$error":"#VALUE!"},{"$f":"0.25*2+0.125*3","v":0.875},null,{"$f":"+I681*E681","v":{"$error":"#VALUE!"}}]
["接樑","接合板 PL-12","PL-A36","0.736*0.243*2+0.736*0.143*1+0.566*0.195*3",{"$f":"鋼構","v":{"$error":"#NAME?"}},{"$f":"12*7.85","v":94.199999999999989},1.06,{"$error":"#VALUE!"}]
[null,"S-10T","M-20","2*2",{"$f":"鋼構","v":{"$error":"#NAME?"}},1,1,{"$error":"#VALUE!"}]
[null,"B1 剪力釘","19∮*100","1*(13*2)",{"$f":"鋼構","v":{"$error":"#NAME?"}},1,1,{"$error":"#VALUE!"}]
["8 大樑側撐","L-75*75*9","L-A36","1.3*21",{"$f":"鋼構","v":{"$error":"#NAME?"}},9.9600000000000009,1.06,{"$error":"#VALUE!"},{"$f":"0.075*3","v":0.22499999999999998},null,{"$f":"+I685*E685","v":{"$error":"#VALUE!"}}]
[null,"L-100-100*10","L-A36","0.25*21",{"$f":"鋼構","v":{"$error":"#NAME?"}},14.9,1.06,{"$error":"#VALUE!"},{"$f":"0.1*3","v":0.30000000000000004},null,{"$f":"+I686*E686","v":{"$error":"#VALUE!"}}]
[null,"PL-12","PL-A36","0.143*0.143*21",{"$f":"鋼構","v":{"$error":"#NAME?"}},{"$f":"12*7.85","v":94.199999999999989},1.06,{"$error":"#VALUE!"}]
[null,"S-10T","M-16","(2+4)*21",{"$f":"鋼構","v":{"$error":"#NAME?"}},1,1,{"$error":"#VALUE!"}]
["8F SC7","RH-400*400*13*21","RH-SN490B","3.7+4",{"$f":"鋼構","v":{"$error":"#NAME?"}},172,1.06,{"$error":"#VALUE!"},{"$f":"0.4*6","v":2.4000000000000004},null,{"$f":"+I689*E689","v":{"$error":"#VALUE!"}}]
[null,"PL-15","PL-SN490B","0.1*0.29*2*2",{"$f":"鋼構","v":{"$error":"#NAME?"}},{"$f":"15*7.85","v":117.75},1.06,{"$error":"#VALUE!"}]
[null,"S-10T","M-22","4*2*2",{"$f":"鋼構","v":{"$error":"#NAME?"}},1,1,{"$error":"#VALUE!"}]
["8F SC8","RH-300*300*10*15","RH-SN490B","3.7*13",{"$f":"鋼構","v":{"$error":"#NAME?"}},172,1.06,{"$error":"#VALUE!"},{"$f":"0.3*6","v":1.7999999999999998},null,{"$f":"+I692*E692","v":{"$error":"#VALUE!"}}]
[null,"底板 PL-20","PL-SN490B","0.3*0.3*1",{"$f":"鋼構","v":{"$error":"#NAME?"}},{"$f":"20*7.85","v":157},1.06,{"$error":"#VALUE!"}]
[null,"M-24 預埋螺栓 L=600","M24 A.B","6*1",{"$f":"鋼構","v":{"$error":"#NAME?"}},1,1,{"$error":"#VALUE!"}]
[null,"PL-15","PL-SN490B","0.1*0.29*2*13",{"$f":"鋼構","v":{"$error":"#NAME?"}},{"$f":"15*7.85","v":117.75},1.06,{"$error":"#VALUE!"}]
[null,"S-10T","M-22","4*2*13",{"$f":"鋼構","v":{"$error":"#NAME?"}},1,1,{"$error":"#VALUE!"}]
["9F SG1a","BH-800*350*15*35","BH-SN490B","4.35*1",{"$f":"鋼構","v":{"$error":"#NAME?"}},279.7,1,{"$error":"#VALUE!"},{"$f":"0.8*2+0.3*3","v":2.5},null,{"$f":"+I697*E697","v":{"$error":"#VALUE!"}},{"$f":"(0.35*2*35*7.85+0.73*15*7.85)*1.005","v":279.67391249999991}]
[null,"接合板 PL-28*185*615","PL-SN490B","0.185*0.615*1",{"$f":"鋼構","v":{"$error":"#NAME?"}},{"$f":"28*7.85","v":219.79999999999998},1.06,{"$error":"#VALUE!"}]
[null,"FB PL-9*25*36","PL-SN490B","0.025*0.41*2",{"$f":"鋼構","v":{"$error":"#NAME?"}},{"$f":"9*7.85","v":70.649999999999991},1.06,{"$error":"#VALUE!"}]
[null,"S-10T","M-24","16*1",{"$f":"鋼構","v":{"$error":"#NAME?"}},1,1,{"$error":"#VALUE!"}]
[null,"B1 剪力釘","19∮*100","2*24",{"$f":"鋼構","v":{"$error":"#NAME?"}},1,1,{"$error":"#VALUE!"}]
[]
["9F SG4*","BH-800*300*12*25","BH-SN490B","8.3*1",{"$f":"鋼構","v":{"$error":"#NAME?"}},189.3,1,{"$f":"E703*F703*G703","v":{"$error":"#VALUE!"}},{"$f":"0.8*2+0.3*3","v":2.5},null,{"$f":"+I703*E703","v":{"$error":"#VALUE!"}},{"$f":"(0.3*2*25*7.85+0.75*12*7.85)*1.005","v":189.34199999999996}]
[null,"側封板 PL-12","PL-SN490B","0.75*2*8.3*1",{"$f":"鋼構","v":{"$error":"#NAME?"}},{"$f":"12*7.85","v":94.199999999999989},1.06,{"$error":"#VALUE!"}]
[null,"接合板 PL-20*185*615","PL-SN490B","0.185*0.615*(2*1)",{"$f":"鋼構","v":{"$error":"#NAME?"}},{"$f":"20*7.85","v":157},1.06,{"$error":"#VALUE!"}]
[null,"FB PL-9*25*36","PL-SN490B","0.025*0.41*(4*1)",{"$f":"鋼構","v":{"$error":"#NAME?"}},{"$f":"9*7.85","v":70.649999999999991},1.06,{"$error":"#VALUE!"}]
[null,"S-10T","M-24","16*(2*1)",{"$f":"鋼構","v":{"$error":"#NAME?"}},1,1,{"$error":"#VALUE!"}]
[null,"B1 剪力釘","19∮*100","2*(45*1)",{"$f":"鋼構","v":{"$error":"#NAME?"}},1,1,{"$error":"#VALUE!"}]
["9F SG4","BH-800*300*12*25","BH-SN490B","10.1*19+7.7*5+8.3*22+2.1*2+3.45*2+4.85+3.25*2",{"$f":"鋼構","v":{"$error":"#NAME?"}},189.3,1,{"$error":"#VALUE!"},{"$f":"0.8*2+0.3*3","v":2.5},null,{"$f":"+I709*E709","v":{"$error":"#VALUE!"}},{"$f":"(0.3*2*25*7.85+0.75*12*7.85)*1.005","v":189.34199999999996}]
[null,"接合板 PL-20*185*615","PL-SN490B","0.185*0.615*(2*19+2*5+2*22+1*7)",{"$f":"鋼構","v":{"$error":"#NAME?"}},{"$f":"20*7.85","v":157},1.06,{"$error":"#VALUE!"}]
[null,"FB PL-9*25*36","PL-SN490B","0.025*0.41*(4*19+4*5+4*22+2*7)",{"$f":"鋼構","v":{"$error":"#NAME?"}},{"$f":"9*7.85","v":70.649999999999991},1.06,{"$error":"#VALUE!"}]
[null,"S-10T","M-24","16*(2*19+2*5+2*22+1*7)",{"$f":"鋼構","v":{"$error":"#NAME?"}},1,1,{"$error":"#VALUE!"}]
[null,"B1 剪力釘","19∮*100","2*(55*19+42*5+45*22+19*2+18*3)",{"$f":"鋼構","v":{"$error":"#NAME?"}},1,1,{"$error":"#VALUE!"}]
["9F SJ1*","RH-600*200*11*17","RH-A572","8.1*1",{"$f":"鋼構","v":{"$error":"#NAME?"}},103,1,{"$error":"#VALUE!"},{"$f":"0.6*2+0.2*3","v":1.8},null,{"$f":"+I714*E714","v":{"$error":"#VALUE!"}}]
[null,"側封板 PL-12","PL-SN490B","0.566*8.1*2",{"$f":"鋼構","v":{"$error":"#NAME?"}},{"$f":"12*7.85","v":94.199999999999989},1.06,{"$error":"#VALUE!"}]
["接SG1","接合板 PL-16 243*736","PL-SN490B","0.244*0.75*2",{"$f":"鋼構","v":{"$error":"#NAME?"}},{"$f":"16*7.85","v":125.6},1.06,{"$error":"#VALUE!"}]
["外側補強","PL-16 143*736","PL-SN490B","0.144*0.75*2",{"$f":"鋼構","v":{"$error":"#NAME?"}},{"$f":"16*7.85","v":125.6},1.06,{"$error":"#VALUE!"}]
[null,"S-10T","M-24","6*2",{"$f":"鋼構","v":{"$error":"#NAME?"}},1,1,{"$error":"#VALUE!"}]
["9F SJ1","RH-600*200*11*17","RH-A572","8.7*48+8.1*2+10.5*2+5.85",{"$f":"鋼構","v":{"$error":"#NAME?"}},103,1,{"$error":"#VALUE!"},{"$f":"0.6*2+0.2*3","v":1.8},null,{"$f":"+I719*E719","v":{"$error":"#VALUE!"}}]
["接SG4","接合板 PL-16 243*744","PL-SN490B","0.244*0.75*2*(48+2+2+1)",{"$f":"鋼構","v":{"$error":"#NAME?"}},{"$f":"16*7.85","v":125.6},1.06,{"$error":"#VALUE!"}]
["外側補強","PL-16 143*736","PL-SN490B","0.144*0.75*39+0.566*0.095",{"$f":"鋼構","v":{"$error":"#NAME?"}},{"$f":"16*7.85","v":125.6},1.06,{"$error":"#VALUE!"}]
[null,"S-10T","M-24","6*2*(48+2+2+1)",{"$f":"鋼構","v":{"$error":"#NAME?"}},1,1,{"$error":"#VALUE!"}]
[null,"B1 剪力釘","19∮*100","2*(49*48+45*2+55*2+32)",{"$f":"鋼構","v":{"$error":"#NAME?"}},1,1,{"$error":"#VALUE!"}]
["9F SJ2","RH-500*200*10*16","RH-A572","2+2.3+2+6+2.75",{"$f":"鋼構","v":{"$error":"#NAME?"}},88.2,1,{"$error":"#VALUE!"},{"$f":"0.5*2+0.2*3","v":1.6},null,{"$f":"+I724*E724","v":{"$error":"#VALUE!"}}]
["接柱","接合板 PL-16*170*360","PL-SN490B","0.17*0.36*1",{"$f":"鋼構","v":{"$error":"#NAME?"}},{"$f":"16*7.85","v":125.6},1.06,{"$error":"#VALUE!"}]
[null,"柱內 PL-25","PL-SN490B","0.65*0.65*1",{"$f":"鋼構","v":{"$error":"#NAME?"}},{"$f":"25*7.85","v":196.25},2.06,{"$error":"#VALUE!"}]
["接樑","接合板 PL-14","PL-SN490B","0.75*0.244*3+0.566*0.195*2",{"$f":"鋼構","v":{"$error":"#NAME?"}},{"$f":"14*7.85","v":109.89999999999999},1.06,{"$error":"#VALUE!"}]
[null,"FB PL-9*25*26","PL-SN490B","0.025*0.26*2",{"$f":"鋼構","v":{"$error":"#NAME?"}},{"$f":"9*7.85","v":70.649999999999991},1.06,{"$error":"#VALUE!"}]
[null,"S-10T","M-24","10+5*2*4",{"$f":"鋼構","v":{"$error":"#NAME?"}},1,1,{"$error":"#VALUE!"}]
[null,"B1 剪力釘","19∮*100","2*(11+13+11+33+15)",{"$f":"鋼構","v":{"$error":"#NAME?"}},1,1,{"$error":"#VALUE!"}]
["9F SJ3","RH-496*199*9*14","RH-A572","8.7+4.9+10.5*2+4+3.5+5.5",{"$f":"鋼構","v":{"$error":"#NAME?"}},77.900000000000006,1.06,{"$error":"#VALUE!"},{"$f":"0.5*2+0.2*3","v":1.6},null,{"$f":"+I731*E731","v":{"$error":"#VALUE!"}}]
["接樑","接合板 PL-14","PL-SN490B","0.75*0.244*9+0.468*0.195*4",{"$f":"鋼構","v":{"$error":"#NAME?"}},{"$f":"14*7.85","v":109.89999999999999},1.06,{"$error":"#VALUE!"}]
[null,"接合板 PL-14","PL-SN490B","0.75*0.145*3+0.468*0.095*4",{"$f":"鋼構","v":{"$error":"#NAME?"}},{"$f":"9*7.85","v":70.649999999999991},1.06,{"$error":"#VALUE!"}]
[null,"S-10T","M-24","4*2*7",{"$f":"鋼構","v":{"$error":"#NAME?"}},1,1,{"$error":"#VALUE!"}]
[null,"B1 剪力釘","19∮*100","1*(47+31+57*2+22+20+30)",{"$f":"鋼構","v":{"$error":"#NAME?"}},1,1,{"$error":"#VALUE!"}]
["9F SJ4","RH-450*200*9*14","RH-A572","3+3.3+8.7+3.2*2+3.15*2+3.35+4.55+4+6.4+2.7",{"$f":"鋼構","v":{"$error":"#NAME?"}},74.900000000000006,1.06,{"$error":"#VALUE!"},{"$f":"0.45*2+0.2*3","v":1.5},null,{"$f":"+I736*E736","v":{"$error":"#VALUE!"}}]
["接樑,柱","接合板 PL-14","PL-SN490B","0.75*0.244*11+0.566*0.195*6+0.495*0.195*5",{"$f":"鋼構","v":{"$error":"#NAME?"}},{"$f":"14*7.85","v":109.89999999999999},1.06,{"$error":"#VALUE!"}]
[null,"接合板 PL-14","PL-SN490B","0.75*0.144*8+0.566*0.095*6",{"$f":"鋼構","v":{"$error":"#NAME?"}},{"$f":"14*7.85","v":109.89999999999999},1.06,{"$error":"#VALUE!"}]
[null,"S-10T","M-20","4*2*12",{"$f":"鋼構","v":{"$error":"#NAME?"}},1,1,{"$error":"#VALUE!"}]
[null,"B1 剪力釘","19∮*100","2*(18+47+22+17*2+18+25+35+15+18)",{"$f":"鋼構","v":{"$error":"#NAME?"}},1,1,{"$error":"#VALUE!"}]
["9 SJ5","RH-350*175*7*11","RH-A36","1.2*2+3.3+3.45*2+2.35+2.9*2+3.4*7",{"$f":"鋼構","v":{"$error":"#NAME?"}},47.4,1.06,{"$error":"#VALUE!"},{"$f":"0.35*2+0.175*3","v":1.2249999999999999},null,{"$f":"+I741*E741","v":{"$error":"#VALUE!"}}]
["接樑,柱","接合板 PL-12","PL-A36","0.17*0.29*2+0.75*0.244*10+0.566*0.195*9",{"$f":"鋼構","v":{"$error":"#NAME?"}},{"$f":"12*7.85","v":94.199999999999989},1.06,{"$error":"#VALUE!"}]
[null,"接合板 PL-12","PL-A36","0.566*0.095*8+0.75*0.144*3+0.468*0.2*7",{"$f":"鋼構","v":{"$error":"#NAME?"}},{"$f":"12*7.85","v":94.199999999999989},1.06,{"$error":"#VALUE!"}]
[null,"S-10T","M-24","8*2",{"$f":"鋼構","v":{"$error":"#NAME?"}},1,1,{"$error":"#VALUE!"}]
[null,"S-10T","M-20","4*2*15",{"$f":"鋼構","v":{"$error":"#NAME?"}},1,1,{"$error":"#VALUE!"}]
[null,"B1 剪力釘","19∮*100","1*(7*2+18+19*2+13+16*2+19*7)",{"$f":"鋼構","v":{"$error":"#NAME?"}},1,1,{"$error":"#VALUE!"}]
["9F SJ6","RH-250*125*6*9","RH-A36","2.4+2.35",{"$f":"鋼構","v":{"$error":"#NAME?"}},29,1.06,{"$error":"#VALUE!"},{"$f":"0.25*2+0.125*3","v":0.875},null,{"$f":"+I747*E747","v":{"$error":"#VALUE!"}}]
["接樑","接合板 PL-12","PL-A36","0.75*0.244*2+0.75*0.144*1+0.566*0.195*3",{"$f":"鋼構","v":{"$error":"#NAME?"}},{"$f":"12*7.85","v":94.199999999999989},1.06,{"$error":"#VALUE!"}]
[null,"S-10T","M-20","2*2",{"$f":"鋼構","v":{"$error":"#NAME?"}},1,1,{"$error":"#VALUE!"}]
[null,"B1 剪力釘","19∮*100","1*(13*2)",{"$f":"鋼構","v":{"$error":"#NAME?"}},1,1,{"$error":"#VALUE!"}]
["9F 大樑側撐","L-75*75*9","L-A36","1.3*54",{"$f":"鋼構","v":{"$error":"#NAME?"}},9.9600000000000009,1.06,{"$error":"#VALUE!"},{"$f":"0.075*3","v":0.22499999999999998},null,{"$f":"+I751*E751","v":{"$error":"#VALUE!"}}]
[null,"L-100-100*10","L-A36","0.25*54",{"$f":"鋼構","v":{"$error":"#NAME?"}},14.9,1.06,{"$error":"#VALUE!"},{"$f":"0.1*3","v":0.30000000000000004},null,{"$f":"+I752*E752","v":{"$error":"#VALUE!"}}]
[null,"PL-12","PL-A36","0.143*0.143*54",{"$f":"鋼構","v":{"$error":"#NAME?"}},{"$f":"12*7.85","v":94.199999999999989},1.06,{"$error":"#VALUE!"}]
[null,"S-10T","M-16","(2+4)*54",{"$f":"鋼構","v":{"$error":"#NAME?"}},1,1,{"$error":"#VALUE!"}]
["9F SC7","RH-400*400*13*21","RH-SN490B","3.7+4",{"$f":"鋼構","v":{"$error":"#NAME?"}},172,1.06,{"$error":"#VALUE!"},{"$f":"0.4*6","v":2.4000000000000004},null,{"$f":"+I755*E755","v":{"$error":"#VALUE!"}}]
[null,"PL-15","PL-SN490B","0.1*0.29*2*2",{"$f":"鋼構","v":{"$error":"#NAME?"}},{"$f":"15*7.85","v":117.75},1.06,{"$error":"#VALUE!"}]
[null,"S-10T","M-22","4*2*2",{"$f":"鋼構","v":{"$error":"#NAME?"}},1,1,{"$error":"#VALUE!"}]
["9F SC8","RH-300*300*10*15","RH-SN490B","3.7*13",{"$f":"鋼構","v":{"$error":"#NAME?"}},172,1.06,{"$error":"#VALUE!"},{"$f":"0.3*6","v":1.7999999999999998},null,{"$f":"+I758*E758","v":{"$error":"#VALUE!"}}]
[null,"底板 PL-20","PL-SN490B","0.3*0.3*1",{"$f":"鋼構","v":{"$error":"#NAME?"}},{"$f":"20*7.85","v":157},1.06,{"$error":"#VALUE!"}]
[null,"M-24 預埋螺栓 L=600","M24 A.B","6*1",{"$f":"鋼構","v":{"$error":"#NAME?"}},1,1,{"$error":"#VALUE!"}]
[null,"PL-15","PL-SN490B","0.1*0.29*2*13",{"$f":"鋼構","v":{"$error":"#NAME?"}},{"$f":"15*7.85","v":117.75},1.06,{"$error":"#VALUE!"}]
[null,"S-10T","M-22","4*2*13",{"$f":"鋼構","v":{"$error":"#NAME?"}},1,1,{"$error":"#VALUE!"}]
["10F SG1a","BH-800*350*15*35","BH-SN490B","4.35*1",{"$f":"鋼構","v":{"$error":"#NAME?"}},279.7,1,{"$error":"#VALUE!"},{"$f":"0.8*2+0.3*3","v":2.5},null,{"$f":"+I763*E763","v":{"$error":"#VALUE!"}},{"$f":"(0.35*2*35*7.85+0.73*15*7.85)*1.005","v":279.67391249999991}]
[null,"接合板 PL-28*185*615","PL-SN490B","0.185*0.615*1",{"$f":"鋼構","v":{"$error":"#NAME?"}},{"$f":"28*7.85","v":219.79999999999998},1.06,{"$error":"#VALUE!"}]
[null,"FB PL-9*25*36","PL-SN490B","0.025*0.41*2",{"$f":"鋼構","v":{"$error":"#NAME?"}},{"$f":"9*7.85","v":70.649999999999991},1.06,{"$error":"#VALUE!"}]
[null,"S-10T","M-24","16*1",{"$f":"鋼構","v":{"$error":"#NAME?"}},1,1,{"$error":"#VALUE!"}]
[null,"B1 剪力釘","19∮*100","2*24",{"$f":"鋼構","v":{"$error":"#NAME?"}},1,1,{"$error":"#VALUE!"}]
["10F SG4*","BH-800*300*12*25","BH-SN490B","10.1*5+8.3*3",{"$f":"鋼構","v":{"$error":"#NAME?"}},189.3,1,{"$f":"E768*F768*G768","v":{"$error":"#VALUE!"}},{"$f":"0.8*2+0.3*3","v":2.5},null,{"$f":"+I768*E768","v":{"$error":"#VALUE!"}},{"$f":"(0.3*2*25*7.85+0.75*12*7.85)*1.005","v":189.34199999999996}]
[null,"側封板 PL-12","PL-SN490B","0.75*2*(10.1*5+8.3*3)",{"$f":"鋼構","v":{"$error":"#NAME?"}},{"$f":"12*7.85","v":94.199999999999989},1.06,{"$error":"#VALUE!"}]
[null,"接合板 PL-20*185*615","PL-SN490B","0.185*0.615*2*(5+3)",{"$f":"鋼構","v":{"$error":"#NAME?"}},{"$f":"20*7.85","v":157},1.06,{"$error":"#VALUE!"}]
[null,"FB PL-9*25*36","PL-SN490B","0.025*0.41*4*(5+3)",{"$f":"鋼構","v":{"$error":"#NAME?"}},{"$f":"9*7.85","v":70.649999999999991},1.06,{"$error":"#VALUE!"}]
[null,"S-10T","M-24","16*2*(5+3)",{"$f":"鋼構","v":{"$error":"#NAME?"}},1,1,{"$error":"#VALUE!"}]
[null,"B1 剪力釘","19∮*100","2*(55*5+45*3)",{"$f":"鋼構","v":{"$error":"#NAME?"}},1,1,{"$error":"#VALUE!"}]
["10F SG4","BH-800*300*12*25","BH-SN490B","10.1*6+8.1*5+8.3*11+2.1*2+3.45*2+4.85+3.25*2",{"$f":"鋼構","v":{"$error":"#NAME?"}},189.3,1,{"$error":"#VALUE!"},{"$f":"0.8*2+0.3*3","v":2.5},null,{"$f":"+I774*E774","v":{"$error":"#VALUE!"}},{"$f":"(0.3*2*25*7.85+0.75*12*7.85)*1.005","v":189.34199999999996}]
[null,"接合板 PL-20*185*615","PL-SN490B","0.185*0.615*(2*(6+5+11)+1*7)",{"$f":"鋼構","v":{"$error":"#NAME?"}},{"$f":"20*7.85","v":157},1.06,{"$error":"#VALUE!"}]
[null,"FB PL-9*25*36","PL-SN490B","0.025*0.41*(4*(6+5+11)+2*7)",{"$f":"鋼構","v":{"$error":"#NAME?"}},{"$f":"9*7.85","v":70.649999999999991},1.06,{"$error":"#VALUE!"}]
[null,"S-10T","M-24","16*(2*(6+5+11)+1*7)",{"$f":"鋼構","v":{"$error":"#NAME?"}},1,1,{"$error":"#VALUE!"}]
[null,"B1 剪力釘","19∮*100","2*(55*6+44*5+45*11+12*2+19*2+18*3)",{"$f":"鋼構","v":{"$error":"#NAME?"}},1,1,{"$error":"#VALUE!"}]
["10F SG4+T","T-800*300*12*25","BH-SN490B","5.7+5.9",{"$f":"鋼構","v":{"$error":"#NAME?"}},132.5,1,{"$f":"E779*F779*G779","v":{"$error":"#VALUE!"}},{"$f":"0.8*2+0.3*3","v":2.5},null,{"$f":"+I779*E779","v":{"$error":"#VALUE!"}},{"$f":"(0.3*25*7.85+0.775*12*7.85)*1.005","v":132.53939999999997}]
[null,"接合板 PL-20*185*615","PL-SN490B","0.185*0.615*2",{"$f":"鋼構","v":{"$error":"#NAME?"}},{"$f":"20*7.85","v":157},1.06,{"$error":"#VALUE!"}]
[null,"FB PL-9*25*36","PL-SN490B","0.025*0.41*2",{"$f":"鋼構","v":{"$error":"#NAME?"}},{"$f":"9*7.85","v":70.649999999999991},1.06,{"$error":"#VALUE!"}]
[null,"S-10T","M-24","16*2",{"$f":"鋼構","v":{"$error":"#NAME?"}},1,1,{"$error":"#VALUE!"}]
["10F SJ1*","RH-600*200*11*17","RH-A572","8.1*1",{"$f":"鋼構","v":{"$error":"#NAME?"}},103,1,{"$error":"#VALUE!"},{"$f":"0.6*2+0.2*3","v":1.8},null,{"$f":"+I783*E783","v":{"$error":"#VALUE!"}}]
[null,"側封板 PL-12","PL-SN490B","0.566*8.1*2",{"$f":"鋼構","v":{"$error":"#NAME?"}},{"$f":"12*7.85","v":94.199999999999989},1.06,{"$error":"#VALUE!"}]
["接SG4","接合板 PL-16 243*736","PL-SN490B","0.244*0.75*2",{"$f":"鋼構","v":{"$error":"#NAME?"}},{"$f":"16*7.85","v":125.6},1.06,{"$error":"#VALUE!"}]
["外側補強","PL-16 143*736","PL-SN490B","0.144*0.75",{"$f":"鋼構","v":{"$error":"#NAME?"}},{"$f":"16*7.85","v":125.6},1.06,{"$error":"#VALUE!"}]
[null,"S-10T","M-24","6*2",{"$f":"鋼構","v":{"$error":"#NAME?"}},1,1,{"$error":"#VALUE!"}]
["10F SJ1","RH-600*200*11*17","RH-A572","8.7*12+8.1*2+10.5*2+5.85",{"$f":"鋼構","v":{"$error":"#NAME?"}},103,1,{"$error":"#VALUE!"},{"$f":"0.6*2+0.2*3","v":1.8},null,{"$f":"+I788*E788","v":{"$error":"#VALUE!"}}]
["接SG5","接合板 PL-16 243*744","PL-SN490B","0.244*0.75*2*(12+2+2+1)",{"$f":"鋼構","v":{"$error":"#NAME?"}},{"$f":"16*7.85","v":125.6},1.06,{"$error":"#VALUE!"}]
["外側補強","PL-16 143*736","PL-SN490B","0.144*0.75*25+0.566*0.095",{"$f":"鋼構","v":{"$error":"#NAME?"}},{"$f":"16*7.85","v":125.6},1.06,{"$error":"#VALUE!"}]
[null,"S-10T","M-24","6*2*(12+2+2+1)",{"$f":"鋼構","v":{"$error":"#NAME?"}},1,1,{"$error":"#VALUE!"}]
[null,"B1 剪力釘","19∮*100","2*(49*12+45*2+55*2+32)",{"$f":"鋼構","v":{"$error":"#NAME?"}},1,1,{"$error":"#VALUE!"}]
["10F SJ1+T","T-800*200*11*17","BH-SN490B","5.9+3.2",{"$f":"鋼構","v":{"$error":"#NAME?"}},94.8,1,{"$f":"E793*F793*G793","v":{"$error":"#VALUE!"}},{"$f":"0.8*2+0.3*3","v":2.5},null,{"$f":"+I793*E793","v":{"$error":"#VALUE!"}},{"$f":"(0.2*17*7.85+0.783*11*7.85)*1.005","v":94.773560249999989}]
[null,"接合板 PL-20*185*615","PL-SN490B","0.185*0.615*2",{"$f":"鋼構","v":{"$error":"#NAME?"}},{"$f":"20*7.85","v":157},1.06,{"$error":"#VALUE!"}]
[null,"FB PL-9*25*36","PL-SN490B","0.025*0.41*2",{"$f":"鋼構","v":{"$error":"#NAME?"}},{"$f":"9*7.85","v":70.649999999999991},1.06,{"$error":"#VALUE!"}]
[null,"S-10T","M-24","16*2",{"$f":"鋼構","v":{"$error":"#NAME?"}},1,1,{"$error":"#VALUE!"}]
["10F SJ2","RH-500*200*10*16","RH-A572","2+2.3+2+6+2.75",{"$f":"鋼構","v":{"$error":"#NAME?"}},88.2,1,{"$error":"#VALUE!"},{"$f":"0.5*2+0.2*3","v":1.6},null,{"$f":"+I797*E797","v":{"$error":"#VALUE!"}}]
["接柱","接合板 PL-16*170*360","PL-SN490B","0.17*0.36*1",{"$f":"鋼構","v":{"$error":"#NAME?"}},{"$f":"16*7.85","v":125.6},1.06,{"$error":"#VALUE!"}]
[null,"柱內 PL-25","PL-SN490B","0.636*0.636*1",{"$f":"鋼構","v":{"$error":"#NAME?"}},{"$f":"25*7.85","v":196.25},2.06,{"$error":"#VALUE!"}]
["接樑","接合板 PL-14","PL-SN490B","0.756*0.245*3+0.566*0.195*2",{"$f":"鋼構","v":{"$error":"#NAME?"}},{"$f":"14*7.85","v":109.89999999999999},1.06,{"$error":"#VALUE!"}]
[null,"FB PL-9*25*26","PL-SN490B","0.025*0.26*2",{"$f":"鋼構","v":{"$error":"#NAME?"}},{"$f":"9*7.85","v":70.649999999999991},1.06,{"$error":"#VALUE!"}]
[null,"S-10T","M-24","10+5*2*4",{"$f":"鋼構","v":{"$error":"#NAME?"}},1,1,{"$error":"#VALUE!"}]
[null,"B1 剪力釘","19∮*100","2*(11+13+11+33+15)",{"$f":"鋼構","v":{"$error":"#NAME?"}},1,1,{"$error":"#VALUE!"}]
["10F SJ3","RH-496*199*9*14","RH-A572","8.7+4.9+10.5*2+4+3.5+5.5",{"$f":"鋼構","v":{"$error":"#NAME?"}},77.900000000000006,1.06,{"$error":"#VALUE!"},{"$f":"0.5*2+0.2*3","v":1.6},null,{"$f":"+I804*E804","v":{"$error":"#VALUE!"}}]
["接樑","接合板 PL-14","PL-SN490B","0.75*0.244*2+0.75*0.244*5+0.468*0.195*4",{"$f":"鋼構","v":{"$error":"#NAME?"}},{"$f":"14*7.85","v":109.89999999999999},1.06,{"$error":"#VALUE!"}]
[null,"接合板 PL-14","PL-SN490B","0.75*0.144*4+0.468*0.095*3",{"$f":"鋼構","v":{"$error":"#NAME?"}},{"$f":"9*7.85","v":70.649999999999991},1.06,{"$error":"#VALUE!"}]
[null,"S-10T","M-24","4*2*7",{"$f":"鋼構","v":{"$error":"#NAME?"}},1,1,{"$error":"#VALUE!"}]
[null,"B1 剪力釘","19∮*100","1*(47+31+57*2+22+20+30)",{"$f":"鋼構","v":{"$error":"#NAME?"}},1,1,{"$error":"#VALUE!"}]
["10F SJ4","RH-450*200*9*14","RH-A572","3+3.3+8.7+3.2*2+3.15*2+3.35+4.55+4+5.9+2.85",{"$f":"鋼構","v":{"$error":"#NAME?"}},74.900000000000006,1.06,{"$error":"#VALUE!"},{"$f":"0.45*2+0.2*3","v":1.5},null,{"$f":"+I809*E809","v":{"$error":"#VALUE!"}}]
["接樑,柱","接合板 PL-14","PL-SN490B","0.75*0.244*10+0.566*0.195*8+0.495*0.195*6",{"$f":"鋼構","v":{"$error":"#NAME?"}},{"$f":"14*7.85","v":109.89999999999999},1.06,{"$error":"#VALUE!"}]
[null,"接合板 PL-14","PL-SN490B","0.75*0.144*7+0.566*0.095*8",{"$f":"鋼構","v":{"$error":"#NAME?"}},{"$f":"14*7.85","v":109.89999999999999},1.06,{"$error":"#VALUE!"}]
[null,"S-10T","M-20","4*2*12",{"$f":"鋼構","v":{"$error":"#NAME?"}},1,1,{"$error":"#VALUE!"}]
[null,"B1 剪力釘","19∮*100","2*(18+47+22+17*2+18+25+35+15+18+32+16)",{"$f":"鋼構","v":{"$error":"#NAME?"}},1,1,{"$error":"#VALUE!"}]
["10F SJ4+T","T-800*200*9*14","BH-SN490B","5.9+4.8",{"$f":"鋼構","v":{"$error":"#NAME?"}},77.900000000000006,1,{"$f":"E814*F814*G814","v":{"$error":"#VALUE!"}},{"$f":"0.8*2+0.3*3","v":2.5},null,{"$f":"+I814*E814","v":{"$error":"#VALUE!"}},{"$f":"(0.2*14*7.85+0.786*9*7.85)*1.005","v":77.898454499999986}]
[null,"接合板 PL-16*185*615","PL-SN490B","0.185*0.615*2",{"$f":"鋼構","v":{"$error":"#NAME?"}},{"$f":"16*7.85","v":125.6},1.06,{"$error":"#VALUE!"}]
[null,"S-10T","M-24","6*2",{"$f":"鋼構","v":{"$error":"#NAME?"}},1,1,{"$error":"#VALUE!"}]
["10F SJ5","RH-350*175*7*11","RH-A36","1.2*2+3.3+3.45*2+2.35*2+2.4+2.9*2+3.4*7+6.4+2.7",{"$f":"鋼構","v":{"$error":"#NAME?"}},47.4,1.06,{"$error":"#VALUE!"},{"$f":"0.35*2+0.175*3","v":1.2249999999999999},null,{"$f":"+I817*E817","v":{"$error":"#VALUE!"}}]
["接樑,柱","接合板 PL-12","PL-A36","0.17*0.29*2+0.756*0.245*12+0.566*0.195*13",{"$f":"鋼構","v":{"$error":"#NAME?"}},{"$f":"12*7.85","v":94.199999999999989},1.06,{"$error":"#VALUE!"}]
[null,"接合板 PL-12","PL-A36","0.566*0.095*8+0.756*0.145*5+0.468*0.2*11",{"$f":"鋼構","v":{"$error":"#NAME?"}},{"$f":"12*7.85","v":94.199999999999989},1.06,{"$error":"#VALUE!"}]
[null,"S-10T","M-24","8*2",{"$f":"鋼構","v":{"$error":"#NAME?"}},1,1,{"$error":"#VALUE!"}]
[null,"S-10T","M-20","4*2*17",{"$f":"鋼構","v":{"$error":"#NAME?"}},1,1,{"$error":"#VALUE!"}]
[null,"B1 剪力釘","19∮*100","1*(7*2+18+19*2+13*2+13+16*2+19*7+35+15)",{"$f":"鋼構","v":{"$error":"#NAME?"}},1,1,{"$error":"#VALUE!"}]
["10 大樑側撐","L-75*75*9","L-A36","1.3*21",{"$f":"鋼構","v":{"$error":"#NAME?"}},9.9600000000000009,1.06,{"$error":"#VALUE!"},{"$f":"0.075*3","v":0.22499999999999998},null,{"$f":"+I823*E823","v":{"$error":"#VALUE!"}}]
[null,"L-100-100*10","L-A36","0.25*21",{"$f":"鋼構","v":{"$error":"#NAME?"}},14.9,1.06,{"$error":"#VALUE!"},{"$f":"0.1*3","v":0.30000000000000004},null,{"$f":"+I824*E824","v":{"$error":"#VALUE!"}}]
[null,"PL-12","PL-A36","0.143*0.143*21",{"$f":"鋼構","v":{"$error":"#NAME?"}},{"$f":"12*7.85","v":94.199999999999989},1.06,{"$error":"#VALUE!"}]
[null,"S-10T","M-16","(2+4)*21",{"$f":"鋼構","v":{"$error":"#NAME?"}},1,1,{"$error":"#VALUE!"}]
["10F SC7","RH-400*400*13*21","RH-SN490B","3.7+4",{"$f":"鋼構","v":{"$error":"#NAME?"}},172,1.06,{"$error":"#VALUE!"},{"$f":"0.4*6","v":2.4000000000000004},null,{"$f":"+I827*E827","v":{"$error":"#VALUE!"}}]
[null,"PL-15","PL-SN490B","0.1*0.29*2*2",{"$f":"鋼構","v":{"$error":"#NAME?"}},{"$f":"15*7.85","v":117.75},1.06,{"$error":"#VALUE!"}]
[null,"S-10T","M-22","4*2*2",{"$f":"鋼構","v":{"$error":"#NAME?"}},1,1,{"$error":"#VALUE!"}]
["10F SC8","RH-300*300*10*15","RH-SN490B","3.7*13",{"$f":"鋼構","v":{"$error":"#NAME?"}},172,1.06,{"$error":"#VALUE!"},{"$f":"0.3*6","v":1.7999999999999998},null,{"$f":"+I830*E830","v":{"$error":"#VALUE!"}}]
[null,"底板 PL-20","PL-SN490B","0.3*0.3*1",{"$f":"鋼構","v":{"$error":"#NAME?"}},{"$f":"20*7.85","v":157},1.06,{"$error":"#VALUE!"}]
[null,"M-24 預埋螺栓 L=600","M24 A.B","6*1",{"$f":"鋼構","v":{"$error":"#NAME?"}},1,1,{"$error":"#VALUE!"}]
[null,"PL-15","PL-SN490B","0.1*0.29*2*13",{"$f":"鋼構","v":{"$error":"#NAME?"}},{"$f":"15*7.85","v":117.75},1.06,{"$error":"#VALUE!"}]
[null,"S-10T","M-22","4*2*13",{"$f":"鋼構","v":{"$error":"#NAME?"}},1,1,{"$error":"#VALUE!"}]
[]
["10F+120 SC5~SC5 +4625~+5855","口-700*700*25","口-SN490B","12.3*4",{"$f":"鋼構","v":{"$error":"#NAME?"}},539.29999999999995,1.06,{"$f":"E836*F836*G836","v":{"$error":"#VALUE!"}},2.8,null,{"$f":"+I836*E836","v":{"$error":"#VALUE!"}},{"$f":"(0.7*2+0.65*2)*25*7.85*1+9.42","v":539.29499999999996},{"$f":"0.012*0.025*7850*4","v":9.4200000000000017}]
["10F+120 SC5~SC5 +4625~+5497","口-700*700*25","口-SN490B","9.72*7",{"$f":"鋼構","v":{"$error":"#NAME?"}},539.29999999999995,1.06,{"$f":"E837*F837*G837","v":{"$error":"#VALUE!"}},2.8,null,{"$f":"+I837*E837","v":{"$error":"#VALUE!"}},{"$f":"(0.7*2+0.65*2)*25*7.85*1+9.42","v":539.29499999999996},{"$f":"0.012*0.025*7850*4","v":9.4200000000000017}]
["10F+120 SC5~SC5 +4625~+4955","口-700*700*25","口-SN490B","3.3*10",{"$f":"鋼構","v":{"$error":"#NAME?"}},539.29999999999995,1.06,{"$f":"E838*F838*G838","v":{"$error":"#VALUE!"}},2.8,null,{"$f":"+I838*E838","v":{"$error":"#VALUE!"}},{"$f":"(0.7*2+0.65*2)*25*7.85*1+9.42","v":539.29499999999996},{"$f":"0.012*0.025*7850*4","v":9.4200000000000017}]
["10F+120 SC5~SC5 +4625~+5695","口-700*700*25","口-SN490B","10.72*4",{"$f":"鋼構","v":{"$error":"#NAME?"}},539.29999999999995,1.06,{"$f":"E839*F839*G839","v":{"$error":"#VALUE!"}},2.8,null,{"$f":"+I839*E839","v":{"$error":"#VALUE!"}},{"$f":"(0.7*2+0.65*2)*25*7.85*1+9.42","v":539.29499999999996},{"$f":"0.012*0.025*7850*4","v":9.4200000000000017}]
["10F+120 SC5~SC5 +4625~+5847","口-700*700*25","口-SN490B","12.22*3",{"$f":"鋼構","v":{"$error":"#NAME?"}},539.29999999999995,1.06,{"$error":"#VALUE!"},2.8,null,{"$error":"#VALUE!"},539.29499999999996,9.4200000000000017]
["10F+120 SC5~SC5 +4625~+5405","口-700*700*25","口-SN490B","7.8*1",{"$f":"鋼構","v":{"$error":"#NAME?"}},539.29999999999995,1.06,{"$f":"E841*F841*G841","v":{"$error":"#VALUE!"}},2.8,null,{"$f":"+I841*E841","v":{"$error":"#VALUE!"}},539.29499999999996,9.4200000000000017]
["鋼柱現場對接","PL-18","PL-SN490B","0.125*0.24*4*29",{"$f":"鋼構","v":{"$error":"#NAME?"}},{"$f":"18*7.85","v":141.29999999999998},1.06,{"$error":"#VALUE!"}]
[null,"PL-12","PL-SN490B","0.08*0.63*4*29",{"$f":"鋼構","v":{"$error":"#NAME?"}},{"$f":"12*7.85","v":94.199999999999989},1.06,{"$error":"#VALUE!"}]
["  螺栓","M20 S10T","M-20","12*29",{"$f":"鋼構","v":{"$error":"#NAME?"}},1,1,{"$error":"#VALUE!"}]
["柱內接頭加勁板","RF接樑柱內加勁板 PL-35","PL-SN490B","0.65*0.65*2",{"$f":"鋼構","v":{"$error":"#NAME?"}},{"$f":"35*7.85","v":274.75},1.06,{"$error":"#VALUE!"}]
[null,"RF接樑柱內加勁板 PL-25","PL-SN490B","0.65*0.65*(2*28+1*3)",{"$f":"鋼構","v":{"$error":"#NAME?"}},{"$f":"25*7.85","v":196.25},1.06,{"$error":"#VALUE!"}]
[null,"RF背襯板 PL-25*47","PL-SN490B","0.047*0.65*6*(2*29+1*3)",{"$f":"鋼構","v":{"$error":"#NAME?"}},{"$f":"25*7.85","v":196.25},1.06,{"$error":"#VALUE!"}]
[null,"R1F接樑柱內加勁板 PL-25","PL-SN490B","0.65*0.65*(2*18+1*3)",{"$f":"鋼構","v":{"$error":"#NAME?"}},{"$f":"35*7.85","v":274.75},1.06,{"$error":"#VALUE!"}]
[null,"R1F背襯板 PL-25*47","PL-SN490B","0.047*0.65*6*(2*18+1*3)",{"$f":"鋼構","v":{"$error":"#NAME?"}},{"$f":"25*7.85","v":196.25},1.06,{"$error":"#VALUE!"}]
[null,"PRF接樑柱內加勁板 PL-25","PL-SN490B","0.65*0.65*(2*11+2*2)",{"$f":"鋼構","v":{"$error":"#NAME?"}},{"$f":"35*7.85","v":274.75},1.06,{"$f":"E850*F850*G850","v":{"$error":"#VALUE!"}}]
[null,"PRF背襯板 PL-25*47","PL-SN490B","0.047*0.65*6*(2*11+2*2)",{"$f":"鋼構","v":{"$error":"#NAME?"}},{"$f":"25*7.85","v":196.25},1.06,{"$error":"#VALUE!"}]
[null,"柱內灌漿 ","SSC","0.65*0.65*(12.3*4+9.72*7+3.3*10+10.72*4+12.22*3)",{"$f":"鋼構","v":{"$error":"#NAME?"}},1,1.05,{"$error":"#VALUE!"}]
[null,"柱內灌漿 ","SSC","0.65*0.65*7.8*1",{"$f":"鋼構","v":{"$error":"#NAME?"}},1,1.05,{"$f":"E853*F853*G853","v":{"$error":"#VALUE!"}}]
["R1F SG1a","BH-800*350*15*35","BH-SN490B","4.35*1",{"$f":"鋼構","v":{"$error":"#NAME?"}},279.7,1,{"$error":"#VALUE!"},{"$f":"0.8*2+0.3*3","v":2.5},null,{"$f":"+I854*E854","v":{"$error":"#VALUE!"}},{"$f":"(0.35*2*35*7.85+0.73*15*7.85)*1.005","v":279.67391249999991}]
[null,"接合板 PL-28*185*615","PL-SN490B","0.185*0.615*1",{"$f":"鋼構","v":{"$error":"#NAME?"}},{"$f":"28*7.85","v":219.79999999999998},1.06,{"$error":"#VALUE!"}]
[null,"FB PL-9*25*36","PL-SN490B","0.025*0.41*2",{"$f":"鋼構","v":{"$error":"#NAME?"}},{"$f":"9*7.85","v":70.649999999999991},1.06,{"$error":"#VALUE!"}]
[null,"S-10T","M-24","16*1",{"$f":"鋼構","v":{"$error":"#NAME?"}},1,1,{"$error":"#VALUE!"}]
[null,"B1 剪力釘","19∮*100","2*24",{"$f":"鋼構","v":{"$error":"#NAME?"}},1,1,{"$error":"#VALUE!"}]
["R1F SG4","BH-800*300*12*25","BH-SN490B","10.1*19+7.7*5+8.3*23+2.1*2+3.45*2+3.25*2",{"$f":"鋼構","v":{"$error":"#NAME?"}},189.3,1,{"$error":"#VALUE!"},{"$f":"0.8*2+0.3*3","v":2.5},null,{"$f":"+I859*E859","v":{"$error":"#VALUE!"}},{"$f":"(0.3*2*25*7.85+0.75*12*7.85)*1.005","v":189.34199999999996}]
[null,"接合板 PL-20*185*615","PL-SN490B","0.185*0.615*(2*19+2*5+2*23+1*6)",{"$f":"鋼構","v":{"$error":"#NAME?"}},{"$f":"20*7.85","v":157},1.06,{"$error":"#VALUE!"}]
[null,"FB PL-9*25*36","PL-SN490B","0.025*0.41*(4*19+4*5+4*22+2*6)",{"$f":"鋼構","v":{"$error":"#NAME?"}},{"$f":"9*7.85","v":70.649999999999991},1.06,{"$error":"#VALUE!"}]
[null,"S-10T","M-24","16*(2*19+2*5+2*22+1*6)",{"$f":"鋼構","v":{"$error":"#NAME?"}},1,1,{"$error":"#VALUE!"}]
[null,"B1 剪力釘","19∮*100","2*(55*19+42*5+45*22+19*2+18*2)",{"$f":"鋼構","v":{"$error":"#NAME?"}},1,1,{"$error":"#VALUE!"}]
["R1F SG4*","BH-800*300*12*25","BH-SN490B","4.85*1",{"$f":"鋼構","v":{"$error":"#NAME?"}},189.3,1,{"$error":"#VALUE!"},{"$f":"0.8*2+0.3*3","v":2.5},null,{"$f":"+I864*E864","v":{"$error":"#VALUE!"}},{"$f":"(0.3*2*25*7.85+0.75*12*7.85)*1.005","v":189.34199999999996}]
[null,"側封板 PL-12","PL-SN490B","0.75*2*4.85*1",{"$f":"鋼構","v":{"$error":"#NAME?"}},{"$f":"12*7.85","v":94.199999999999989},1.06,{"$error":"#VALUE!"}]
[null,"接合板 PL-20*185*615","PL-SN490B","0.185*0.615*1",{"$f":"鋼構","v":{"$error":"#NAME?"}},{"$f":"20*7.85","v":157},1.06,{"$error":"#VALUE!"}]
[null,"FB PL-9*25*36","PL-SN490B","0.025*0.41*1*2",{"$f":"鋼構","v":{"$error":"#NAME?"}},{"$f":"9*7.85","v":70.649999999999991},1.06,{"$error":"#VALUE!"}]
[null,"S-10T","M-24","16*1",{"$f":"鋼構","v":{"$error":"#NAME?"}},1,1,{"$error":"#VALUE!"}]
[null,"B1 剪力釘","19∮*100","2*13",{"$f":"鋼構","v":{"$error":"#NAME?"}},1,1,{"$error":"#VALUE!"}]
["R1F SG4+T","T-460*300*12*25","BH-SN490B","5.05+5.5",{"$f":"鋼構","v":{"$error":"#NAME?"}},100.35,1,{"$error":"#VALUE!"},{"$f":"0.46*2+0.3*3","v":1.8199999999999998},null,{"$f":"+I870*E870","v":{"$error":"#VALUE!"}},{"$f":"(0.3*25*7.85+0.435*12*7.85)*1.005","v":100.35126}]
[null,"接合板 PL-20*185*615","PL-SN490B","0.185*0.615*2",{"$f":"鋼構","v":{"$error":"#NAME?"}},{"$f":"20*7.85","v":157},1.06,{"$error":"#VALUE!"}]
[null,"FB PL-9*25*36","PL-SN490B","0.025*0.41*2",{"$f":"鋼構","v":{"$error":"#NAME?"}},{"$f":"9*7.85","v":70.649999999999991},1.06,{"$error":"#VALUE!"}]
[null,"S-10T","M-24","16*2",{"$f":"鋼構","v":{"$error":"#NAME?"}},1,1,{"$error":"#VALUE!"}]
["R1F SJ1*","RH-600*200*11*17","RH-A572","8.1*1",{"$f":"鋼構","v":{"$error":"#NAME?"}},103,1,{"$error":"#VALUE!"},{"$f":"0.6*2+0.2*3","v":1.8},null,{"$f":"+I874*E874","v":{"$error":"#VALUE!"}}]
[null,"側封板 PL-12","PL-SN490B","0.566*8.1*2",{"$f":"鋼構","v":{"$error":"#NAME?"}},{"$f":"12*7.85","v":94.199999999999989},1.06,{"$error":"#VALUE!"}]
["接SG4","接合板 PL-16 243*736","PL-SN490B","0.244*0.75*2",{"$f":"鋼構","v":{"$error":"#NAME?"}},{"$f":"16*7.85","v":125.6},1.06,{"$error":"#VALUE!"}]
["外側補強","PL-16 143*736","PL-SN490B","0.144*0.75*2",{"$f":"鋼構","v":{"$error":"#NAME?"}},{"$f":"16*7.85","v":125.6},1.06,{"$error":"#VALUE!"}]
[null,"S-10T","M-24","6*2",{"$f":"鋼構","v":{"$error":"#NAME?"}},1,1,{"$error":"#VALUE!"}]
["R1F SJ1","RH-600*200*11*17","RH-A572","8.7*48+8.1*2+10.5*2",{"$f":"鋼構","v":{"$error":"#NAME?"}},103,1,{"$error":"#VALUE!"},{"$f":"0.6*2+0.2*3","v":1.8},null,{"$f":"+I879*E879","v":{"$error":"#VALUE!"}}]
["接SG4","接合板 PL-16 243*744","PL-SN490B","0.244*0.75*2*(48+2+2)",{"$f":"鋼構","v":{"$error":"#NAME?"}},{"$f":"16*7.85","v":125.6},1.06,{"$error":"#VALUE!"}]
["外側補強","PL-16 144*750","PL-SN490B","0.144*0.75*39",{"$f":"鋼構","v":{"$error":"#NAME?"}},{"$f":"16*7.85","v":125.6},1.06,{"$error":"#VALUE!"}]
[null,"S-10T","M-24","6*2*(48+2+2)",{"$f":"鋼構","v":{"$error":"#NAME?"}},1,1,{"$error":"#VALUE!"}]
[null,"B1 剪力釘","19∮*100","2*(49*48+45*2+55*2)",{"$f":"鋼構","v":{"$error":"#NAME?"}},1,1,{"$error":"#VALUE!"}]
["R1F SJ1+T","T-450*200*11*17","BH-SN490B","5.5*2",{"$f":"鋼構","v":{"$error":"#NAME?"}},65.3,1,{"$error":"#VALUE!"},{"$f":"0.8*2+0.3*3","v":2.5},null,{"$f":"+I884*E884","v":{"$error":"#VALUE!"}},{"$f":"(0.2*17*7.85+0.443*11*7.85)*1.005","v":65.267765249999997}]
[null,"接合板 PL-20*185*615","PL-SN490B","0.185*0.615*2",{"$f":"鋼構","v":{"$error":"#NAME?"}},{"$f":"20*7.85","v":157},1.06,{"$error":"#VALUE!"}]
[null,"FB PL-9*25*36","PL-SN490B","0.025*0.41*2",{"$f":"鋼構","v":{"$error":"#NAME?"}},{"$f":"9*7.85","v":70.649999999999991},1.06,{"$error":"#VALUE!"}]
[null,"S-10T","M-24","6*2",{"$f":"鋼構","v":{"$error":"#NAME?"}},1,1,{"$error":"#VALUE!"}]
["R1F SJ2","RH-500*200*10*16","RH-A572","2+2.3+2+6+2.75",{"$f":"鋼構","v":{"$error":"#NAME?"}},88.2,1,{"$error":"#VALUE!"},{"$f":"0.5*2+0.2*3","v":1.6},null,{"$f":"+I888*E888","v":{"$error":"#VALUE!"}}]
["接柱","接合板 PL-16*170*360","PL-SN490B","0.17*0.36*1",{"$f":"鋼構","v":{"$error":"#NAME?"}},{"$f":"16*7.85","v":125.6},1.06,{"$error":"#VALUE!"}]
[null,"柱內 PL-25","PL-SN490B","0.65*0.65*1",{"$f":"鋼構","v":{"$error":"#NAME?"}},{"$f":"25*7.85","v":196.25},2.06,{"$error":"#VALUE!"}]
["接樑","接合板 PL-14","PL-SN490B","0.75*0.244*3+0.566*0.195*2",{"$f":"鋼構","v":{"$error":"#NAME?"}},{"$f":"14*7.85","v":109.89999999999999},1.06,{"$error":"#VALUE!"}]
[null,"FB PL-9*25*26","PL-SN490B","0.025*0.26*2",{"$f":"鋼構","v":{"$error":"#NAME?"}},{"$f":"9*7.85","v":70.649999999999991},1.06,{"$error":"#VALUE!"}]
[null,"S-10T","M-24","10+5*2*4",{"$f":"鋼構","v":{"$error":"#NAME?"}},1,1,{"$error":"#VALUE!"}]
[null,"B1 剪力釘","19∮*100","2*(11+13+11+33+15)",{"$f":"鋼構","v":{"$error":"#NAME?"}},1,1,{"$error":"#VALUE!"}]
["R1F SJ3","RH-496*199*9*14","RH-A572","8.7+4.9+10.5*2+4+3.5+5.5",{"$f":"鋼構","v":{"$error":"#NAME?"}},77.900000000000006,1.06,{"$error":"#VALUE!"},{"$f":"0.5*2+0.2*3","v":1.6},null,{"$f":"+I895*E895","v":{"$error":"#VALUE!"}}]
["R1F SJ3*","側封板 PL-12","PL-SN490B","0.468*2*(10.5*2+4+3.5+5.5)",{"$f":"鋼構","v":{"$error":"#NAME?"}},{"$f":"12*7.85","v":94.199999999999989},1.06,{"$error":"#VALUE!"}]
["接樑","接合板 PL-14","PL-SN490B","0.75*0.244*9+0.468*0.195*4",{"$f":"鋼構","v":{"$error":"#NAME?"}},{"$f":"14*7.85","v":109.89999999999999},1.06,{"$error":"#VALUE!"}]
[null,"接合板 PL-14","PL-SN490B","0.75*0.145*3+0.468*0.095*4",{"$f":"鋼構","v":{"$error":"#NAME?"}},{"$f":"9*7.85","v":70.649999999999991},1.06,{"$error":"#VALUE!"}]
[null,"S-10T","M-24","4*2*7",{"$f":"鋼構","v":{"$error":"#NAME?"}},1,1,{"$error":"#VALUE!"}]
[null,"B1 剪力釘","19∮*100","1*(47+31+57*2+22+20+30)",{"$f":"鋼構","v":{"$error":"#NAME?"}},1,1,{"$error":"#VALUE!"}]
["R1F SJ4","RH-450*200*9*14","RH-A572","3+3.3+8.7+3.2*2+3.15*2+6.4+2.7+2.7",{"$f":"鋼構","v":{"$error":"#NAME?"}},74.900000000000006,1.06,{"$error":"#VALUE!"},{"$f":"0.45*2+0.2*3","v":1.5},null,{"$f":"+I901*E901","v":{"$error":"#VALUE!"}}]
["接樑,柱","接合板 PL-14","PL-SN490B","0.75*0.244*10+0.566*0.195*6+0.495*0.195*5",{"$f":"鋼構","v":{"$error":"#NAME?"}},{"$f":"14*7.85","v":109.89999999999999},1.06,{"$error":"#VALUE!"}]
[null,"接合板 PL-14","PL-SN490B","0.75*0.144*8+0.566*0.095*6",{"$f":"鋼構","v":{"$error":"#NAME?"}},{"$f":"14*7.85","v":109.89999999999999},1.06,{"$error":"#VALUE!"}]
[null,"S-10T","M-20","4*2*9",{"$f":"鋼構","v":{"$error":"#NAME?"}},1,1,{"$error":"#VALUE!"}]
[null,"B1 剪力釘","19∮*100","2*(18+47+22+17*2+35+15)",{"$f":"鋼構","v":{"$error":"#NAME?"}},1,1,{"$error":"#VALUE!"}]
["R1F SJ4+T","T-460*200*9*14","BH-SN490B",2.7,{"$f":"鋼構","v":{"$error":"#NAME?"}},53.8,1,{"$error":"#VALUE!"},{"$f":"0.8*2+0.3*3","v":2.5},null,{"$f":"+I906*E906","v":{"$error":"#VALUE!"}},{"$f":"(0.2*14*7.85+0.446*9*7.85)*1.005","v":53.757349499999997}]
[null,"接合板 PL-16*185*615","PL-SN490B","0.185*0.615*2",{"$f":"鋼構","v":{"$error":"#NAME?"}},{"$f":"16*7.85","v":125.6},1.06,{"$error":"#VALUE!"}]
[null,"S-10T","M-24","6*2",{"$f":"鋼構","v":{"$error":"#NAME?"}},1,1,{"$error":"#VALUE!"}]
["R1F SJ5","RH-350*175*7*11","RH-A36","1.2*2+3.3+3.45*2+2.35*2+2.9*2",{"$f":"鋼構","v":{"$error":"#NAME?"}},47.4,1.06,{"$error":"#VALUE!"},{"$f":"0.35*2+0.175*3","v":1.2249999999999999},null,{"$f":"+I909*E909","v":{"$error":"#VALUE!"}}]
["接樑,柱","接合板 PL-12","PL-A36","0.17*0.29*2+0.75*0.244*3+0.566*0.195*10",{"$f":"鋼構","v":{"$error":"#NAME?"}},{"$f":"12*7.85","v":94.199999999999989},1.06,{"$error":"#VALUE!"}]
[null,"接合板 PL-12","PL-A36","0.566*0.095*11+0.75*0.144*3",{"$f":"鋼構","v":{"$error":"#NAME?"}},{"$f":"12*7.85","v":94.199999999999989},1.06,{"$error":"#VALUE!"}]
[null,"S-10T","M-24","8*2",{"$f":"鋼構","v":{"$error":"#NAME?"}},1,1,{"$error":"#VALUE!"}]
[null,"S-10T","M-20","4*2*7",{"$f":"鋼構","v":{"$error":"#NAME?"}},1,1,{"$error":"#VALUE!"}]
[null,"B1 剪力釘","19∮*100","1*(18+19*2+13+16*2)",{"$f":"鋼構","v":{"$error":"#NAME?"}},1,1,{"$error":"#VALUE!"}]
["R1F SJ5+T","T-460*175*7*11","BH-SN490B",2.7,{"$f":"鋼構","v":{"$error":"#NAME?"}},40,1,{"$f":"E915*F915*G915","v":{"$error":"#VALUE!"}},{"$f":"0.8*2+0.3*3","v":2.5},null,{"$f":"+I915*E915","v":{"$error":"#VALUE!"}},{"$f":"(0.175*11*7.85+0.449*7*7.85)*1.005","v":39.982718999999996}]
[null,"接合板 PL-16*185*615","PL-SN490B","0.185*0.615*2",{"$f":"鋼構","v":{"$error":"#NAME?"}},{"$f":"16*7.85","v":125.6},1.06,{"$error":"#VALUE!"}]
[null,"S-10T","M-24","6*2",{"$f":"鋼構","v":{"$error":"#NAME?"}},1,1,{"$error":"#VALUE!"}]
["R1F SJ6","RH-250*125*6*9","RH-A36","2.6*1",{"$f":"鋼構","v":{"$error":"#NAME?"}},29,1.06,{"$error":"#VALUE!"},{"$f":"0.25*2+0.125*3","v":0.875},null,{"$f":"+I918*E918","v":{"$error":"#VALUE!"}}]
["接樑","接合板 PL-12","PL-A36","0.75*0.244*2+0.75*0.144*1+0.566*0.195*1",{"$f":"鋼構","v":{"$error":"#NAME?"}},{"$f":"12*7.85","v":94.199999999999989},1.06,{"$error":"#VALUE!"}]
[null,"S-10T","M-20","2*2",{"$f":"鋼構","v":{"$error":"#NAME?"}},1,1,{"$error":"#VALUE!"}]
[null,"B1 剪力釘","19∮*100","1*13",{"$f":"鋼構","v":{"$error":"#NAME?"}},1,1,{"$error":"#VALUE!"}]
["R1F 大樑側撐","L-75*75*9","L-A36","1.3*54",{"$f":"鋼構","v":{"$error":"#NAME?"}},9.9600000000000009,1.06,{"$f":"E922*F922*G922","v":{"$error":"#VALUE!"}},{"$f":"0.075*3","v":0.22499999999999998},null,{"$f":"+I922*E922","v":{"$error":"#VALUE!"}}]
[null,"L-100-100*10","L-A36","0.25*54",{"$f":"鋼構","v":{"$error":"#NAME?"}},14.9,1.06,{"$error":"#VALUE!"},{"$f":"0.1*3","v":0.30000000000000004},null,{"$f":"+I923*E923","v":{"$error":"#VALUE!"}}]
[null,"PL-12","PL-A36","0.143*0.143*54",{"$f":"鋼構","v":{"$error":"#NAME?"}},{"$f":"12*7.85","v":94.199999999999989},1.06,{"$error":"#VALUE!"}]
[null,"S-10T","M-16","(2+4)*54",{"$f":"鋼構","v":{"$error":"#NAME?"}},1,1,{"$error":"#VALUE!"}]
["R1F SC7","RH-400*400*13*21","RH-SN490B","3.7+4.5",{"$f":"鋼構","v":{"$error":"#NAME?"}},172,1.06,{"$error":"#VALUE!"},{"$f":"0.4*6","v":2.4000000000000004},null,{"$f":"+I926*E926","v":{"$error":"#VALUE!"}}]
[null,"PL-15","PL-SN490B","0.1*0.29*2*2",{"$f":"鋼構","v":{"$error":"#NAME?"}},{"$f":"15*7.85","v":117.75},1.06,{"$error":"#VALUE!"}]
[null,"S-10T","M-22","4*2*2",{"$f":"鋼構","v":{"$error":"#NAME?"}},1,1,{"$error":"#VALUE!"}]
["R1F SC8","RH-300*300*10*15","RH-SN490B","3.7*8+3.9*8+4.5*3",{"$f":"鋼構","v":{"$error":"#NAME?"}},172,1.06,{"$error":"#VALUE!"},{"$f":"0.3*6","v":1.7999999999999998},null,{"$f":"+I929*E929","v":{"$error":"#VALUE!"}}]
[null,"底板 PL-20","PL-SN490B","0.3*0.3*1",{"$f":"鋼構","v":{"$error":"#NAME?"}},{"$f":"20*7.85","v":157},1.06,{"$error":"#VALUE!"}]
[null,"M-24 預埋螺栓 L=600","M24 A.B","6*1",{"$f":"鋼構","v":{"$error":"#NAME?"}},1,1,{"$error":"#VALUE!"}]
[null,"PL-15","PL-SN490B","0.1*0.29*2*19",{"$f":"鋼構","v":{"$error":"#NAME?"}},{"$f":"15*7.85","v":117.75},1.06,{"$error":"#VALUE!"}]
[null,"S-10T","M-22","4*2*19",{"$f":"鋼構","v":{"$error":"#NAME?"}},1,1,{"$error":"#VALUE!"}]
["R2F SG6","BH-800*300*10*20","BH-SN490B","7.7*4+8.3*4+3.8*2+2.65*2",{"$f":"鋼構","v":{"$error":"#NAME?"}},154.6,1,{"$error":"#VALUE!"},{"$f":"0.8*2+0.3*3","v":2.5},null,{"$f":"+I934*E934","v":{"$error":"#VALUE!"}},{"$f":"(0.3*2*20*7.85+0.76*10*7.85)*1.005","v":154.62929999999997}]
[null,"接合板 PL-18*185*615","PL-SN490B","0.185*0.615*(2*8+1*4)",{"$f":"鋼構","v":{"$error":"#NAME?"}},{"$f":"18*7.85","v":141.29999999999998},1.06,{"$error":"#VALUE!"}]
[null,"FB PL-9*25*36","PL-SN490B","0.025*0.36*2*(8*2+4*1)",{"$f":"鋼構","v":{"$error":"#NAME?"}},{"$f":"9*7.85","v":70.649999999999991},1.06,{"$error":"#VALUE!"}]
[null,"S-10T","M-24","12*(8*2+4*1)",{"$f":"鋼構","v":{"$error":"#NAME?"}},1,1,{"$error":"#VALUE!"}]
[null,"B1 剪力釘","19∮*100","2*(42*4+45*4+21*2+15*2)",{"$f":"鋼構","v":{"$error":"#NAME?"}},1,1,{"$error":"#VALUE!"}]
["R2F SG7*","BH-600*300*10*20","BH-SN490B","10.1*6+8.3*3+4.9+4.8+2.8*2+5.15+4.35+3.5",{"$f":"鋼構","v":{"$error":"#NAME?"}},154.6,1,{"$f":"E939*F939*G939","v":{"$error":"#VALUE!"}},{"$f":"0.8*2+0.3*3","v":2.5},null,{"$f":"+I939*E939","v":{"$error":"#VALUE!"}},{"$f":"(0.3*2*20*7.85+0.567*10*7.85)*1.005","v":139.40304749999999}]
[null,"側封板 PL-12","PL-SN490B","0.56*2*(10.1*6+8.3*3+4.9+4.8+2.8*2+5.15+4.35+3.5)",{"$f":"鋼構","v":{"$error":"#NAME?"}},{"$f":"12*7.85","v":94.199999999999989},1.06,{"$error":"#VALUE!"}]
[null,"接合板 PL-18*185*500","PL-SN490B","0.185*0.5*(2*(6+3)+1*7)",{"$f":"鋼構","v":{"$error":"#NAME?"}},{"$f":"18*7.85","v":141.29999999999998},1.06,{"$error":"#VALUE!"}]
[null,"FB PL-9*25*36","PL-SN490B","0.025*0.36*2*(9*2+7*1)",{"$f":"鋼構","v":{"$error":"#NAME?"}},{"$f":"9*7.85","v":70.649999999999991},1.06,{"$error":"#VALUE!"}]
[null,"SC8 接樑板 PL-20","PL-SN490B","0.3*0.3*14+0.4*0.4*2",{"$f":"鋼構","v":{"$error":"#NAME?"}},{"$f":"20*7.85","v":157},1.06,{"$f":"E943*F943*G943","v":{"$error":"#VALUE!"}}]
[null,"SC8 接樑板 PL-10","PL-SN490B","0.5*0.18*8",{"$f":"鋼構","v":{"$error":"#NAME?"}},{"$f":"10*7.85","v":78.5},1.06,{"$error":"#VALUE!"}]
[null,"S-10T","M-24","12*(8*2+7*1)",{"$f":"鋼構","v":{"$error":"#NAME?"}},1,1,{"$error":"#VALUE!"}]
[null,"B1 剪力釘","19∮*100","2*(42*4+45*4+21*2+15*2+19)",{"$f":"鋼構","v":{"$error":"#NAME?"}},1,1,{"$error":"#VALUE!"}]
["R2F SJ1","RH-600*200*11*17","RH-A572","8.1*9",{"$f":"鋼構","v":{"$error":"#NAME?"}},103,1,{"$error":"#VALUE!"},{"$f":"0.6*2+0.2*3","v":1.8},null,{"$f":"+I947*E947","v":{"$error":"#VALUE!"}}]
[null,"接合板 PL-16 245*760","PL-SN490B","0.245*0.76*2*6",{"$f":"鋼構","v":{"$error":"#NAME?"}},{"$f":"16*7.85","v":125.6},1.06,{"$error":"#VALUE!"}]
[null,"PL-16 145*760","PL-SN490B","0.145*0.76*10",{"$f":"鋼構","v":{"$error":"#NAME?"}},{"$f":"16*7.85","v":125.6},1.06,{"$error":"#VALUE!"}]
[null,"接SC7, SC8 板 PL-10","PL-SN490B","0.1*0.5*4",{"$f":"鋼構","v":{"$error":"#NAME?"}},{"$f":"20*7.85","v":157},1.06,{"$error":"#VALUE!"}]
[null,"S-10T","M-24","6*2*9",{"$f":"鋼構","v":{"$error":"#NAME?"}},1,1,{"$error":"#VALUE!"}]
[null,"B1 剪力釘","19∮*100","2*44*9",{"$f":"鋼構","v":{"$error":"#NAME?"}},1,1,{"$error":"#VALUE!"}]
["R2F SJ2","RH-500*200*10*16","RH-A572","2.1*2+5.7",{"$f":"鋼構","v":{"$error":"#NAME?"}},88.2,1,{"$error":"#VALUE!"},{"$f":"0.5*2+0.2*3","v":1.6},null,{"$f":"+I953*E953","v":{"$error":"#VALUE!"}}]
["R2F SJ2*","側封板 PL-12","PL-SN490B","0.468*2*5.7",{"$f":"鋼構","v":{"$error":"#NAME?"}},{"$f":"12*7.85","v":94.199999999999989},1.06,{"$f":"E954*F954*G954","v":{"$error":"#VALUE!"}}]
["接柱","接合板 PL-16*170*360","PL-SN490B","0.17*0.36*4",{"$f":"鋼構","v":{"$error":"#NAME?"}},{"$f":"16*7.85","v":125.6},1.06,{"$error":"#VALUE!"}]
[null,"柱內 PL-25","PL-SN490B","0.65*0.65*1",{"$f":"鋼構","v":{"$error":"#NAME?"}},{"$f":"25*7.85","v":196.25},2.06,{"$error":"#VALUE!"}]
[null,"S-10T","M-24","5*2*2+5*2",{"$f":"鋼構","v":{"$error":"#NAME?"}},1,1,{"$error":"#VALUE!"}]
["R2F SJ3","RH-496*199*9*14","RH-A572","10.5*2+4+3.5+5.5",{"$f":"鋼構","v":{"$error":"#NAME?"}},77.900000000000006,1.06,{"$error":"#VALUE!"},{"$f":"0.5*2+0.2*3","v":1.6},null,{"$f":"+I958*E958","v":{"$error":"#VALUE!"}}]
["R1F SJ3*","側封板 PL-12","PL-SN490B","0.468*2*(10.5*2+4+3.5+5.5)",{"$f":"鋼構","v":{"$error":"#NAME?"}},{"$f":"12*7.85","v":94.199999999999989},1.06,{"$error":"#VALUE!"}]
["接樑","接合板 PL-14","PL-SN490B","0.468*0.195*7+0.468*0.29*3",{"$f":"鋼構","v":{"$error":"#NAME?"}},{"$f":"14*7.85","v":109.89999999999999},1.06,{"$error":"#VALUE!"}]
[null,"S-10T","M-24","4*2*5",{"$f":"鋼構","v":{"$error":"#NAME?"}},1,1,{"$error":"#VALUE!"}]
[null,"B1 剪力釘","19∮*100","1*(57*2+22+20+30)",{"$f":"鋼構","v":{"$error":"#NAME?"}},1,1,{"$error":"#VALUE!"}]
["R2F SJ4","RH-450*200*9*14","RH-A572","3+3.3+3.45*2",{"$f":"鋼構","v":{"$error":"#NAME?"}},74.900000000000006,1.06,{"$error":"#VALUE!"},{"$f":"0.45*2+0.2*3","v":1.5},null,{"$f":"+I963*E963","v":{"$error":"#VALUE!"}}]
["接樑,柱","接合板 PL-14","PL-SN490B","0.76*0.245*1+0.566*0.195*5+0.566*0.095*5",{"$f":"鋼構","v":{"$error":"#NAME?"}},{"$f":"14*7.85","v":109.89999999999999},1.06,{"$error":"#VALUE!"}]
[null,"接合板 PL-14","PL-SN490B","0.75*0.144*1",{"$f":"鋼構","v":{"$error":"#NAME?"}},{"$f":"14*7.85","v":109.89999999999999},1.06,{"$error":"#VALUE!"}]
[null,"S-10T","M-20","4*2*4",{"$f":"鋼構","v":{"$error":"#NAME?"}},1,1,{"$error":"#VALUE!"}]
[null,"B1 剪力釘","19∮*100","2*(16+18+17*2)",{"$f":"鋼構","v":{"$error":"#NAME?"}},1,1,{"$error":"#VALUE!"}]
["R2F SJ5","RH-350*175*7*11","RH-A36","2.2*2+2.25",{"$f":"鋼構","v":{"$error":"#NAME?"}},47.4,1.06,{"$error":"#VALUE!"},{"$f":"0.35*2+0.175*3","v":1.2249999999999999},null,{"$f":"+I968*E968","v":{"$error":"#VALUE!"}}]
["接樑,柱","接合板 PL-12","PL-A36","0.566*0.195*6",{"$f":"鋼構","v":{"$error":"#NAME?"}},{"$f":"12*7.85","v":94.199999999999989},1.06,{"$error":"#VALUE!"}]
[null,"接合板 PL-12","PL-A36","0.566*0.095*6",{"$f":"鋼構","v":{"$error":"#NAME?"}},{"$f":"12*7.85","v":94.199999999999989},1.06,{"$error":"#VALUE!"}]
[null,"S-10T","M-20","4*2*3",{"$f":"鋼構","v":{"$error":"#NAME?"}},1,1,{"$error":"#VALUE!"}]
[null,"B1 剪力釘","19∮*100","1*12*3",{"$f":"鋼構","v":{"$error":"#NAME?"}},1,1,{"$error":"#VALUE!"}]
["R2F SJ6","RH-250*125*6*9","RH-A36","1.45*2",{"$f":"鋼構","v":{"$error":"#NAME?"}},29,1.06,{"$error":"#VALUE!"},{"$f":"0.25*2+0.125*3","v":0.875},null,{"$f":"+I973*E973","v":{"$error":"#VALUE!"}}]
["接樑","接合板 PL-12","PL-A36","0.75*0.245*2+0.75*0.145*2+0.268*2",{"$f":"鋼構","v":{"$error":"#NAME?"}},{"$f":"12*7.85","v":94.199999999999989},1.06,{"$error":"#VALUE!"}]
[null,"S-10T","M-20","2*2*2",{"$f":"鋼構","v":{"$error":"#NAME?"}},1,1,{"$error":"#VALUE!"}]
[null,"B1 剪力釘","19∮*100","1*8*2",{"$f":"鋼構","v":{"$error":"#NAME?"}},1,1,{"$error":"#VALUE!"}]
["R2F 大樑側撐","L-75*75*9","L-A36","1.3*6",{"$f":"鋼構","v":{"$error":"#NAME?"}},9.9600000000000009,1.06,{"$error":"#VALUE!"},{"$f":"0.075*3","v":0.22499999999999998},null,{"$f":"+I977*E977","v":{"$error":"#VALUE!"}}]
[null,"L-100-100*10","L-A36","0.25*6",{"$f":"鋼構","v":{"$error":"#NAME?"}},14.9,1.06,{"$error":"#VALUE!"},{"$f":"0.1*3","v":0.30000000000000004},null,{"$f":"+I978*E978","v":{"$error":"#VALUE!"}}]
[null,"PL-12","PL-A36","0.143*0.143*6",{"$f":"鋼構","v":{"$error":"#NAME?"}},{"$f":"12*7.85","v":94.199999999999989},1.06,{"$error":"#VALUE!"}]
[null,"S-10T","M-16","(2+4)*6",{"$f":"鋼構","v":{"$error":"#NAME?"}},1,1,{"$error":"#VALUE!"}]
["R2F SC7","RH-400*400*13*21","RH-SN490B","2.9*2+4.42*1",{"$f":"鋼構","v":{"$error":"#NAME?"}},172,1.06,{"$error":"#VALUE!"},{"$f":"0.4*6","v":2.4000000000000004},null,{"$f":"+I981*E981","v":{"$error":"#VALUE!"}}]
[null,"PL-15","PL-SN490B","0.1*0.29*2*3",{"$f":"鋼構","v":{"$error":"#NAME?"}},{"$f":"15*7.85","v":117.75},1.06,{"$error":"#VALUE!"}]
[null,"S-10T","M-22","4*3",{"$f":"鋼構","v":{"$error":"#NAME?"}},1,1,{"$error":"#VALUE!"}]
["R2F SC8","RH-300*300*10*15","RH-SN490B","4.5*4+2.92*4",{"$f":"鋼構","v":{"$error":"#NAME?"}},172,1.06,{"$error":"#VALUE!"},{"$f":"0.3*6","v":1.7999999999999998},null,{"$f":"+I984*E984","v":{"$error":"#VALUE!"}}]
[null,"底板 PL-20","PL-SN490B","0.3*0.3*2",{"$f":"鋼構","v":{"$error":"#NAME?"}},{"$f":"20*7.85","v":157},1.06,{"$error":"#VALUE!"}]
[null,"M-24 預埋螺栓 L=600","M24 A.B","6*2",{"$f":"鋼構","v":{"$error":"#NAME?"}},1,1,{"$error":"#VALUE!"}]
[null,"PL-15","PL-SN490B","0.1*0.29*2*8",{"$f":"鋼構","v":{"$error":"#NAME?"}},{"$f":"15*7.85","v":117.75},1.06,{"$error":"#VALUE!"}]
[null,"S-10T","M-22","4*2*8",{"$f":"鋼構","v":{"$error":"#NAME?"}},1,1,{"$error":"#VALUE!"}]
["PRF SG6","BH-800*300*10*20","BH-SN490B","7.7*2+8.3*2",{"$f":"鋼構","v":{"$error":"#NAME?"}},154.6,1,{"$error":"#VALUE!"},{"$f":"0.8*2+0.3*3","v":2.5},null,{"$f":"+I989*E989","v":{"$error":"#VALUE!"}},{"$f":"(0.3*2*20*7.85+0.76*10*7.85)*1.005","v":154.62929999999997}]
[null,"接合板 PL-18*185*615","PL-SN490B","0.185*0.615*(2*4)",{"$f":"鋼構","v":{"$error":"#NAME?"}},{"$f":"18*7.85","v":141.29999999999998},1.06,{"$error":"#VALUE!"}]
[null,"FB PL-9*25*36","PL-SN490B","0.025*0.36*2*(4*2)",{"$f":"鋼構","v":{"$error":"#NAME?"}},{"$f":"9*7.85","v":70.649999999999991},1.06,{"$error":"#VALUE!"}]
[null,"S-10T","M-24","12*(4*2)",{"$f":"鋼構","v":{"$error":"#NAME?"}},1,1,{"$error":"#VALUE!"}]
[null,"B1 剪力釘","19∮*100","2*(42*2+45*2)",{"$f":"鋼構","v":{"$error":"#NAME?"}},1,1,{"$error":"#VALUE!"}]
["PRF SG7*","BH-600*300*10*20","BH-SN490B","7.7+10.1*2+8.3*3+2.65*2+2.65*3+5.15*2+3.5",{"$f":"鋼構","v":{"$error":"#NAME?"}},154.6,1,{"$f":"E994*F994*G994","v":{"$error":"#VALUE!"}},{"$f":"0.8*2+0.3*3","v":2.5},null,{"$f":"+I994*E994","v":{"$error":"#VALUE!"}},{"$f":"(0.3*2*20*7.85+0.567*10*7.85)*1.005","v":139.40304749999999}]
[null,"側封板 PL-12","PL-SN490B","0.56*2*(7.7+10.1*2+8.3*3++2.65*5+5.15*2+3.5)",{"$f":"鋼構","v":{"$error":"#NAME?"}},{"$f":"12*7.85","v":94.199999999999989},1.06,{"$error":"#VALUE!"}]
[null,"接合板 PL-18*185*500","PL-SN490B","0.185*0.5*(2*14)",{"$f":"鋼構","v":{"$error":"#NAME?"}},{"$f":"18*7.85","v":141.29999999999998},1.06,{"$error":"#VALUE!"}]
[null,"FB PL-9*25*36","PL-SN490B","0.025*0.36*2*(14*2)",{"$f":"鋼構","v":{"$error":"#NAME?"}},{"$f":"9*7.85","v":70.649999999999991},1.06,{"$error":"#VALUE!"}]
[null,"SC7 接樑板 PL-20","PL-SN490B","0.4*0.4*2*7",{"$f":"鋼構","v":{"$error":"#NAME?"}},{"$f":"20*7.85","v":157},1.06,{"$error":"#VALUE!"}]
[null,"SC8 接樑板 PL-10","PL-SN490B","0.5*0.18*10",{"$f":"鋼構","v":{"$error":"#NAME?"}},{"$f":"10*7.85","v":78.5},1.06,{"$error":"#VALUE!"}]
[null,"S-10T","M-24","12*14*2",{"$f":"鋼構","v":{"$error":"#NAME?"}},1,1,{"$error":"#VALUE!"}]
["PRF SJ1","RH-600*200*11*17","RH-A572","8.3*2",{"$f":"鋼構","v":{"$error":"#NAME?"}},103,1,{"$error":"#VALUE!"},{"$f":"0.6*2+0.2*3","v":1.8},null,{"$f":"+I1001*E1001","v":{"$error":"#VALUE!"}}]
[null,"接合板 PL-16 245*760","PL-SN490B","0.245*0.76*2*2",{"$f":"鋼構","v":{"$error":"#NAME?"}},{"$f":"16*7.85","v":125.6},1.06,{"$error":"#VALUE!"}]
[null,"PL-16 145*760","PL-SN490B","0.145*0.76*2",{"$f":"鋼構","v":{"$error":"#NAME?"}},{"$f":"16*7.85","v":125.6},1.06,{"$error":"#VALUE!"}]
[null,"S-10T","M-24","6*2*2",{"$f":"鋼構","v":{"$error":"#NAME?"}},1,1,{"$error":"#VALUE!"}]
[null,"B1 剪力釘","19∮*100","2*45*2",{"$f":"鋼構","v":{"$error":"#NAME?"}},1,1,{"$error":"#VALUE!"}]
["PRF SJ2*","RH-500*200*10*16","RH-A572","5.7*1",{"$f":"鋼構","v":{"$error":"#NAME?"}},88.2,1,{"$error":"#VALUE!"},{"$f":"0.5*2+0.2*3","v":1.6},null,{"$f":"+I1006*E1006","v":{"$error":"#VALUE!"}}]
[null,"側封板 PL-12","PL-SN490B","0.468*2*5.7",{"$f":"鋼構","v":{"$error":"#NAME?"}},{"$f":"12*7.85","v":94.199999999999989},1.06,{"$error":"#VALUE!"}]
["接柱","接合板 PL-16*170*360","PL-SN490B","0.17*0.36*2",{"$f":"鋼構","v":{"$error":"#NAME?"}},{"$f":"16*7.85","v":125.6},1.06,{"$error":"#VALUE!"}]
[null,"S-10T","M-24","5*2",{"$f":"鋼構","v":{"$error":"#NAME?"}},1,1,{"$error":"#VALUE!"}]
["PRF SJ3","RH-496*199*9*14","RH-A572","7.7+10.5*2+4+3.5+5.5",{"$f":"鋼構","v":{"$error":"#NAME?"}},77.900000000000006,1.06,{"$error":"#VALUE!"},{"$f":"0.5*2+0.2*3","v":1.6},null,{"$f":"+I1010*E1010","v":{"$error":"#VALUE!"}}]
["PRF SJ3*","側封板 PL-12","PL-SN490B","0.468*2*(7.7+10.5*2+4+3.5+5.5)",{"$f":"鋼構","v":{"$error":"#NAME?"}},{"$f":"12*7.85","v":94.199999999999989},1.06,{"$error":"#VALUE!"}]
["接樑","接合板 PL-14","PL-SN490B","0.468*0.195*6+0.468*0.29*1",{"$f":"鋼構","v":{"$error":"#NAME?"}},{"$f":"14*7.85","v":109.89999999999999},1.06,{"$error":"#VALUE!"}]
[null,"S-10T","M-24","4*2*6",{"$f":"鋼構","v":{"$error":"#NAME?"}},1,1,{"$error":"#VALUE!"}]
["PRF SJ5","RH-350*175*7*11","RH-A36","2.9*2",{"$f":"鋼構","v":{"$error":"#NAME?"}},47.4,1.06,{"$error":"#VALUE!"},{"$f":"0.35*2+0.175*3","v":1.2249999999999999},null,{"$f":"+I1014*E1014","v":{"$error":"#VALUE!"}}]
["接樑,柱","接合板 PL-12","PL-A36","0.76*0.245*2+0.76*0.145*2+0.566*0.29*2",{"$f":"鋼構","v":{"$error":"#NAME?"}},{"$f":"12*7.85","v":94.199999999999989},1.06,{"$error":"#VALUE!"}]
[null,"S-10T","M-20","4*2*2",{"$f":"鋼構","v":{"$error":"#NAME?"}},1,1,{"$error":"#VALUE!"}]
[null,"B1 剪力釘","19∮*100","1*16*2",{"$f":"鋼構","v":{"$error":"#NAME?"}},1,1,{"$error":"#VALUE!"}]
[null,null,null,null,null,null,null,null,null,null,{"$f":"SUM(K597:K1017)","v":{"$error":"#VALUE!"}}]
[null,null,null,null,null,null,null,{"$f":"SUM(H6:H1017)","v":{"$error":"#VALUE!"}}]
["項目編號","鋼料型類","類別","數       量       計       算","數  量","重量","損耗","總重","防火漆","位置","面積"]
[null,null,"口-SN490YC",null,null,{"$f":"ROUND(+H1021/1000,1)","v":{"$error":"#VALUE!"}},"公噸",{"$f":"SUMIF(C$5:C$1017,$C1021,H$5:H$1017)","v":{"$error":"#VALUE!"}},null,"樑",{"$f":"SUMIF(J$32:K$1017,$J1021,K$32:K$1017)","v":0},{"$f":"+K1021/(F1021+#REF!)","v":{"$error":"#VALUE!"}}]
[null,null,"口-SN490B",null,null,{"$f":"ROUND(+H1022/1000,1)","v":{"$error":"#VALUE!"}},"公噸",{"$error":"#VALUE!"}]
[null,null,"BH-SN490B",null,null,{"$f":"ROUND(+H1023/1000,1)","v":{"$error":"#VALUE!"}},"公噸",{"$error":"#VALUE!"}]
[null,null,"RH-SN490B",null,null,{"$f":"ROUND(+H1024/1000,1)","v":{"$error":"#VALUE!"}},"公噸",{"$error":"#VALUE!"}]
[null,null,"RH-A572",null,null,{"$error":"#VALUE!"},"公噸",{"$error":"#VALUE!"}]
[null,null,"RH-A36",null,null,{"$error":"#VALUE!"},"公噸",{"$error":"#VALUE!"}]
[null,null,"PL-SN490B",null,null,{"$f":"ROUND(+H1027/1000,1)","v":{"$error":"#VALUE!"}},"公噸",{"$error":"#VALUE!"},null,"柱",{"$f":"SUMIF(J$32:K$1017,$J1027,K$32:K$1017)","v":0}]
[null,null,"PL-A36",null,null,{"$error":"#VALUE!"},"公噸",{"$error":"#VALUE!"}]
[null,null,"L-A36",null,null,{"$f":"ROUND(+H1029/1000,1)","v":{"$error":"#VALUE!"}},"公噸",{"$error":"#VALUE!"}]
[null,null,"M-36A.B",null,null,{"$f":"ROUND(+H1030,1)","v":{"$error":"#VALUE!"}},"支",{"$error":"#VALUE!"}]
[null,null,"M24 A.B",null,null,{"$f":"ROUND(+H1031,1)","v":{"$error":"#VALUE!"}},"支",{"$error":"#VALUE!"}]
[null,null,"M-24",null,null,{"$f":"ROUND(+H1032,1)","v":{"$error":"#VALUE!"}},"支",{"$error":"#VALUE!"},0.75700000000000001,{"$f":"+H1032*I1032","v":{"$error":"#VALUE!"}}]
[null,null,"M-22",null,null,{"$error":"#VALUE!"},"支",{"$error":"#VALUE!"},0.55300000000000005,{"$f":"+H1033*I1033","v":{"$error":"#VALUE!"}}]
[null,null,"M-20",null,null,{"$error":"#VALUE!"},"支",{"$error":"#VALUE!"},0.40600000000000003,{"$error":"#VALUE!"}]
[null,null,"M-16",null,null,{"$f":"ROUND(+H1035,1)","v":{"$error":"#VALUE!"}},"支",{"$error":"#VALUE!"},0.223,{"$error":"#VALUE!"}]
[null,null,"19∮*76",null,null,{"$error":"#VALUE!"},"支",{"$error":"#VALUE!"},null,{"$f":"SUM(J1032:J1035)","v":{"$error":"#VALUE!"}}]
[null,null,"19∮*100",null,null,{"$f":"+H1037","v":{"$error":"#VALUE!"}},"支",{"$error":"#VALUE!"},null,{"$f":"+J1036*1.05","v":{"$error":"#VALUE!"}}]
[null,null,"25∮TIE",null,null,{"$f":"+H1038","v":{"$error":"#VALUE!"}},"支",{"$error":"#VALUE!"},null,null,{"$f":"SUM(K1021:K1037)","v":0}]
[null,null,"SSC",null,null,{"$f":"+H1039","v":{"$error":"#VALUE!"}},"M3",{"$error":"#VALUE!"}]
[null,"不收縮砂漿","N.C",null,null,null,null,{"$error":"#VALUE!"}]
[null,"二小時防火被覆",null,null,null,{"$f":"+K518","v":0},null,{"$f":"SUM(H1021:H1040)","v":{"$error":"#VALUE!"}}]
[null,"一小時防火被覆(含裝飾樑)",null,null,null,{"$f":"+K1018","v":{"$error":"#VALUE!"}}]
[]
["項目編號","鋼料型類","類別","數       量       計       算","數  量","重量","損耗","總重","防火漆","位置","面積"]
["A鋼樓梯","階梯側板 1~3F","PL-16","0.3*(1.02+2.2+(2.75+0.57+0.42)*2+2.72+0.5)*2",{"$f":"鋼構","v":{"$error":"#NAME?"}},{"$f":"16*7.85","v":125.6},1.06,{"$f":"E1045*F1045*G1045","v":{"$error":"#VALUE!"}}]
[null,"階梯側板 3~10F","PL-16","0.3*(3.9+0.8+0.3+4+0.3)*2*8",{"$f":"鋼構","v":{"$error":"#NAME?"}},{"$f":"16*7.85","v":125.6},1.06,{"$f":"E1046*F1046*G1046","v":{"$error":"#VALUE!"}}]
[null,"平台側板 1~10F","PL-16","0.3*(2.12+1.9)*2+(1.6*2)*10",{"$f":"鋼構","v":{"$error":"#NAME?"}},{"$f":"16*7.85","v":125.6},1.06,{"$error":"#VALUE!"}]
[null,"階梯板","PL-6","1.5*(0.26+0.21)*(39+43+29*8)",{"$f":"鋼構","v":{"$error":"#NAME?"}},{"$f":"6*7.85","v":47.099999999999994},1.06,{"$error":"#VALUE!"}]
[null,"夾層平台樑 H-450*200*9*14","RH-A572","3*4",{"$f":"鋼構","v":{"$error":"#NAME?"}},74.900000000000006,1.06,{"$f":"E1049*F1049*G1049","v":{"$error":"#VALUE!"}}]
[null,"平台板","PL-6","3*(1.8*2+1.54*10+0.57*4+1.02+0.7*10+1.02*2)",{"$f":"鋼構","v":{"$error":"#NAME?"}},{"$f":"6*7.85","v":47.099999999999994},1.06,{"$f":"E1050*F1050*G1050","v":{"$error":"#VALUE!"}}]
[null,"夾層平台板","PL-6","3*4.15*2",{"$f":"鋼構","v":{"$error":"#NAME?"}},{"$f":"6*7.85","v":47.099999999999994},1.06,{"$f":"E1051*F1051*G1051","v":{"$error":"#VALUE!"}}]
[null,"平台下支撐板","PL-6","0.15*3*(8*2+5*10+2*2*12+3*2)+0.15*3*14*2",{"$f":"鋼構","v":{"$error":"#NAME?"}},{"$f":"6*7.85","v":47.099999999999994},1.06,{"$f":"E1052*F1052*G1052","v":{"$error":"#VALUE!"}}]
[null,"樑接合板","PL-12","0.422*0.291*4*24+0.422*0.192*4",{"$f":"鋼構","v":{"$error":"#NAME?"}},{"$f":"12*7.85","v":94.199999999999989},1.06,{"$error":"#VALUE!"}]
[null,"階梯混凝土",280,"(0.05*0.26*1.5)*(39+43+29*8)",{"$f":"鋼構","v":{"$error":"#NAME?"}},1,1.06,{"$error":"#VALUE!"}]
[null,"平台混凝土",280,"0.05*3*(1.8*2+1.45*12+0.75*12+1.05*2+4.15*2)",{"$f":"鋼構","v":{"$error":"#NAME?"}},1,1.06,{"$error":"#VALUE!"}]
[null,"階梯鋼筋網","6∮*10","0.26*1.5*(39+43+29*8)",{"$f":"鋼構","v":{"$error":"#NAME?"}},1,1.25,{"$error":"#VALUE!"}]
[null,"平台鋼筋網","6∮*10","3*(1.8*2+1.45*12+0.75*12+1.05*2+4.15*2)",{"$f":"鋼構","v":{"$error":"#NAME?"}},1,1.25,{"$f":"E1057*F1057*G1057","v":{"$error":"#VALUE!"}}]
["B鋼樓梯","階梯側板 1~3F","PL-16","0.3*(1.25+2.1*2+0.45*4+2.25*2+2.7+2+2.35+2.65)*2",{"$f":"鋼構","v":{"$error":"#NAME?"}},{"$f":"16*7.85","v":125.6},1.06,{"$error":"#VALUE!"}]
[null,"階梯側板 3~RF","PL-16","0.3*((3.45+3.35+0.45)*2*8+(3.7+5.3+0.45)*2)",{"$f":"鋼構","v":{"$error":"#NAME?"}},{"$f":"16*7.85","v":125.6},1.06,{"$error":"#VALUE!"}]
[null,"平台側板 1~RF","PL-16","0.3*(1.95+1.45)*13",{"$f":"鋼構","v":{"$error":"#NAME?"}},{"$f":"16*7.85","v":125.6},1.06,{"$f":"E1060*F1060*G1060","v":{"$error":"#VALUE!"}}]
[null,"階梯板","PL-6","1.3*(0.26+0.244)*(31+35+23*8+29)",{"$f":"鋼構","v":{"$error":"#NAME?"}},{"$f":"6*7.85","v":47.099999999999994},1.06,{"$error":"#VALUE!"}]
[null,"夾層平台樑 H-450*200*9*14","RH-A572","2.6*2+3.15*4",{"$f":"鋼構","v":{"$error":"#NAME?"}},74.900000000000006,1.06,{"$error":"#VALUE!"}]
[null,"平台板","PL-6","2.6*1.7*13+1.3*1.85*3+0.75*1.85*1",{"$f":"鋼構","v":{"$error":"#NAME?"}},{"$f":"6*7.85","v":47.099999999999994},1.06,{"$error":"#VALUE!"}]
[null,"夾層平台板","PL-6","2.91*3.15*2",{"$f":"鋼構","v":{"$error":"#NAME?"}},{"$f":"6*7.85","v":47.099999999999994},1.06,{"$error":"#VALUE!"}]
[null,"平台下支撐板","PL-6","0.15*(2.6*(5*13)+3.15*4*3+3.15*10*2)",{"$f":"鋼構","v":{"$error":"#NAME?"}},{"$f":"6*7.85","v":47.099999999999994},1.06,{"$error":"#VALUE!"}]
[null,"樑接合板","PL-12","0.422*0.291*4*26+0.422*0.192*4",{"$f":"鋼構","v":{"$error":"#NAME?"}},{"$f":"12*7.85","v":94.199999999999989},1.06,{"$error":"#VALUE!"}]
[null,"階梯混凝土",280,"(0.05*0.26*1.3)*(31+35+23*8+29)",{"$f":"鋼構","v":{"$error":"#NAME?"}},1,1.06,{"$error":"#VALUE!"}]
[null,"平台混凝土",280,"0.05*(2.6*(1.7*13)+3.15*1.07*5+3.15*2.91*2)",{"$f":"鋼構","v":{"$error":"#NAME?"}},1,1.06,{"$error":"#VALUE!"}]
[null,"階梯鋼筋網","6∮*10","0.26*1.3*(31+35+23*8+29)",{"$f":"鋼構","v":{"$error":"#NAME?"}},1,1.25,{"$error":"#VALUE!"}]
[null,"平台鋼筋網","6∮*10","(2.6*(1.7*13)+3.15*1.07*5+3.15*2.91*2)",{"$f":"鋼構","v":{"$error":"#NAME?"}},1,1.25,{"$error":"#VALUE!"}]
["C鋼樓梯","階梯側板 1~3F","PL-16","0.3*(3.8+1.6+1.75+1.9+2.4+2.3+2.7+2.65)*2",{"$f":"鋼構","v":{"$error":"#NAME?"}},{"$f":"16*7.85","v":125.6},1.06,{"$error":"#VALUE!"}]
[null,"階梯側板 3~RF","PL-16","0.3*(3.65+3.2)*7+(0.45+0.8)*2*7",{"$f":"鋼構","v":{"$error":"#NAME?"}},{"$f":"16*7.85","v":125.6},1.06,{"$error":"#VALUE!"}]
[null,"平台側板 1~RF","PL-16","0.3*(3.6*2+2.1*2+2.85*2+2*2+2.9*2+1.75*2*8)",{"$f":"鋼構","v":{"$error":"#NAME?"}},{"$f":"16*7.85","v":125.6},1.06,{"$f":"E1073*F1073*G1073","v":{"$error":"#VALUE!"}}]
[null,"階梯板","PL-6","1.25*(0.26+0.246)*(31+35+23*7)",{"$f":"鋼構","v":{"$error":"#NAME?"}},{"$f":"6*7.85","v":47.099999999999994},1.06,{"$error":"#VALUE!"}]
[null,"夾層平台樑 H-450*200*9*14","RH-A572","2.6*4",{"$f":"鋼構","v":{"$error":"#NAME?"}},74.900000000000006,1.06,{"$error":"#VALUE!"}]
[null,"平台板","PL-6","2.5*2.11+2.5*2.9+2.5*1.75+2.5*1.63*8",{"$f":"鋼構","v":{"$error":"#NAME?"}},{"$f":"6*7.85","v":47.099999999999994},1.06,{"$error":"#VALUE!"}]
[null,"夾層平台板","PL-6","1.25*(3.6+1.8+2.85+2)",{"$f":"鋼構","v":{"$error":"#NAME?"}},{"$f":"6*7.85","v":47.099999999999994},1.06,{"$error":"#VALUE!"}]
[null,"平台下支撐板","PL-6","0.15*(2.5*(7+9+6+7+6*9)+1.25*(6+3+1*9))",{"$f":"鋼構","v":{"$error":"#NAME?"}},{"$f":"6*7.85","v":47.099999999999994},1.06,{"$error":"#VALUE!"}]
[null,"樑接合板","PL-12","0.422*0.291*(4*5+9)+0.422*0.192*(4*5+9)",{"$f":"鋼構","v":{"$error":"#NAME?"}},{"$f":"12*7.85","v":94.199999999999989},1.06,{"$error":"#VALUE!"}]
[null,"階梯混凝土",280,"(0.05*0.26*1.25)*(31+35+23*7)",{"$f":"鋼構","v":{"$error":"#NAME?"}},1,1.06,{"$error":"#VALUE!"}]
[null,"平台混凝土",280,"0.05*(2.5*(2.1+2.9)+2.5*(2.7+2.5+1.75+1.5*8))",{"$f":"鋼構","v":{"$error":"#NAME?"}},1,1.06,{"$error":"#VALUE!"}]
[null,"階梯鋼筋網","6∮*10","0.26*1.25*(31+35+23*7)",{"$f":"鋼構","v":{"$error":"#NAME?"}},1,1.25,{"$error":"#VALUE!"}]
[null,"平台鋼筋網","6∮*10","2.5*(2.1+2.9)+2.5*(2.7+2.5+1.75+1.5*8)",{"$f":"鋼構","v":{"$error":"#NAME?"}},1,1.25,{"$error":"#VALUE!"}]
[null,null,null,null,null,null,null,{"$f":"SUM(H1044:H1083)","v":{"$error":"#VALUE!"}}]
["項目編號","鋼料型類","類別","數       量       計       算","數  量","重量","損耗","總重","防火漆","位置","面積"]
[null,"型鋼","RH-A572",null,null,{"$f":"+H1086/1000","v":{"$error":"#VALUE!"}},"T",{"$f":"SUMIF(C$1044:C$1083,$C1086,H$1044:H$1083)","v":{"$error":"#VALUE!"}}]
[null,"鋼板","PL-16",null,null,{"$f":"SUM(H1087:H1089)/1000","v":{"$error":"#VALUE!"}},"T",{"$f":"SUMIF(C$1044:C$1083,$C1087,H$1044:H$1083)","v":{"$error":"#VALUE!"}}]
[null,null,"PL-12",null,null,null,null,{"$error":"#VALUE!"}]
[null,null,"PL-6",null,null,null,null,{"$error":"#VALUE!"}]
[null,"鋼筋網","6∮*10",null,null,{"$f":"+H1090","v":{"$error":"#VALUE!"}},"M2",{"$error":"#VALUE!"}]
[null,"RC",280,null,null,{"$f":"+H1091","v":{"$error":"#VALUE!"}},"M3",{"$error":"#VALUE!"}]
[null,null,null,null,null,null,null,{"$f":"SUM(H1086:H1091)","v":{"$error":"#VALUE!"}}]
["電梯中樑","H-200*200*8*12","H","2.3*12+2.5*9",{"$f":"鋼構","v":{"$error":"#NAME?"}},49.9,1.06,{"$f":"E1093*F1093*G1093","v":{"$error":"#VALUE!"}}]
["電梯中柱","H-200*200*8*12","H","(6+6.6+4.5*8)*2+(6+6.6+4.5*7)*2",{"$f":"鋼構","v":{"$error":"#NAME?"}},49.9,1.06,{"$f":"E1094*F1094*G1094","v":{"$error":"#VALUE!"}}]
[null,null,null,null,null,null,null,{"$f":"+H1093+H1094","v":{"$error":"#VALUE!"}}]

{"sheet":"門窗","index":6,"n_rows":80,"n_cols":28,"rows_kept":80,"cut":false,"hidden":false,"merged":[]}
[]
[null,"業 主: 樂迦再生科技股份有限公司"]
[null,"工程名稱:竹北生醫園區廠房新建工程"]
[null,"門窗工程","B2F","B1F","1F","2F","3F","4F","5F","6F","7F","8F","9F","10F","R1","R2","合計",null,"寬","高","扣牆","扣粉刷","框填縫","玻璃","扣粉刷","填縫"]
[1,"D1 200*235 不銹鋼烤漆安全門 F60A (遮煙)",null,null,1,null,null,null,null,null,null,null,null,null,null,null,{"$f":"SUM(C5:P5)","v":1},null,200,235,{"$f":"+(S5/100)*(T5/100)","v":4.7},{"$f":"+(S5/100-0.1)*(T5/100-0.05)","v":4.37},{"$f":"+(S5/100)+(T5/100)*2","v":6.7},null,{"$f":"+AA5*AB5/10000","v":2.1},{"$f":"(+AA5+AB5*2)/100","v":5.2},100,210]
[{"$f":"1+A5","v":2},"D2 120*220 不銹鋼烤漆安全門 F60A (遮煙)",2,2,3,3,3,3,3,3,3,3,3,2,2,1,36,null,120,220,{"$f":"+(S6/100)*(T6/100)","v":2.64},{"$f":"+(S6/100-0.1)*(T6/100-0.05)","v":2.3650000000000002},{"$f":"+(S6/100)+(T6/100)*2","v":5.6000000000000005},null,{"$f":"+AA6*AB6/10000","v":3.99},{"$f":"(+AA6+AB6*2)/100","v":6.1},190,210]
[{"$f":"1+A6","v":3},"D3 120*220 不銹鋼烤漆安全門 F60A (遮煙)",null,null,null,null,null,null,null,null,null,null,null,1,null,null,1,null,120,220,2.64,2.3650000000000002,5.6000000000000005]
[4,"D4 250*250 不銹鋼烤漆防火門 F60A (遮煙)",null,null,1,null,null,null,null,null,null,null,null,null,null,null,1,null,250,250,6.25,5.88,7.5,null,2.73,5.5,130,210]
[5,"D5 240*220 不銹鋼烤漆防火門 F60A (遮煙)",null,null,null,2,2,1,2,1,2,1,2,1,null,null,14,null,240,220,5.28,4.9450000000000003,6.8000000000000007,null,2.73,5.5,130,210]
[6,"D6 240*220 不銹鋼烤漆防火門 F60A (遮煙)",1,null,1,null,null,null,null,null,null,null,null,null,null,null,2,null,240,220,5.28,4.9450000000000003,6.8000000000000007,null,2.73,5.5,130,210]
[7,"D7 200*235 不銹鋼烤漆防火門 F60A (遮煙)",null,null,1,null,null,null,null,null,null,null,null,null,null,null,1,null,200,235,4.7,4.37,6.7,null,2.1,5.2,100,210]
[8,"D8 200*220 不銹鋼烤漆防火門 F60A (遮煙)",null,1,null,1,1,1,1,1,1,1,1,2,null,null,11,null,200,220,4.4000000000000004,4.0850000000000009,6.4,null,3.99,6.1,190,210]
[9,"D9 120*220 不銹鋼烤漆防火門 F60A (遮煙)",2,1,null,null,null,null,null,null,null,null,null,null,null,null,3,null,120,220,2.64,2.3650000000000002,5.6000000000000005]
[10,"D10 100*220 不銹鋼烤漆防火門 F60A (遮煙)",1,1,1,1,1,1,1,1,1,1,1,1,null,null,12,null,100,220,2.2000000000000002,1.9350000000000003,5.4,null,2.36,5.72,100,236]
[11,"D11 160*210 不銹鋼烤漆防火門 F60A (遮煙)",4,2,2,4,4,4,4,4,4,4,4,4,1,null,45,null,160,210,3.3600000000000003,3.0750000000000002,5.8000000000000007,null,2.1,5.2,100,210]
[12,"D12 160*200 不銹鋼烤漆防火門 F60A (遮煙)",null,2,null,null,null,null,null,null,null,null,null,null,null,null,2,null,160,200,3.2,2.9249999999999998,5.6,null,2.1,5.2,100,210]
[13,"D13 90*210 不銹鋼烤漆防火門 F60A (遮煙)",2,null,2,2,2,null,2,null,2,null,2,2,null,null,16,null,90,210,1.8900000000000001,1.6400000000000003,5.1000000000000005,null,2.1,5.2,100,210]
[14,"D14 300*300 不銹鋼烤漆防火門 F60A",null,null,1,null,null,null,null,null,null,null,null,null,null,null,1,null,300,300,9,8.5549999999999997,9]
[15,"D15 250*250 不銹鋼烤漆防火門 F60A",2,null,null,null,null,null,null,null,null,null,null,null,null,null,2,null,250,250,6.25,5.88,7.5,null,16.12,11.4,620,260]
[16,"D16 240*220 不銹鋼烤漆防火門 F60A",1,null,null,null,null,null,null,null,null,null,null,null,null,null,1,null,240,220,5.28,4.9450000000000003,6.8000000000000007,null,12.896000000000001,10.16,496,260]
[17,"D17 200*220 不銹鋼烤漆防火門 F60A",null,3,null,null,null,null,null,null,null,null,null,null,1,null,4,null,200,220,4.4000000000000004,4.0850000000000009,6.4,null,14.638,10.83,563,260]
[18,"D18 120*220 不銹鋼烤漆防火門 F60A",2,null,1,null,null,null,null,null,null,null,null,2,1,null,6,null,120,220,2.64,2.3650000000000002,5.6000000000000005,null,20.54,13.1,790,260]
[19,"D19 100*220 不銹鋼烤漆防火門 F60A",null,1,1,null,null,null,null,null,null,null,null,null,null,null,2,null,100,220,2.2000000000000002,1.9350000000000003,5.4]
[20,"D20 200*220 不銹鋼烤漆門 ",null,null,null,null,null,null,null,null,null,null,null,null,1,null,1,null,200,220,4.4000000000000004,4.0850000000000009,6.4]
[21,"D21 120*220 不銹鋼烤漆門",null,null,1,null,null,null,null,null,null,null,null,null,null,null,1,null,120,220,2.64,2.3650000000000002,5.6000000000000005]
[22,"D22 120*220 不銹鋼烤漆門",null,null,null,null,null,null,null,null,null,null,null,null,2,null,2,null,120,220,2.64,2.3650000000000002,5.6000000000000005]
[23,"D23 100*220 鋼製烤漆門 含視窗",null,null,2,null,null,null,null,null,null,null,null,null,null,null,2,null,100,220,2.2000000000000002,1.9350000000000003,5.4]
[24,"D24 90*220 鋼製烤漆門 含視窗",null,null,3,3,3,2,3,3,2,3,3,2,null,null,27,null,90,220,1.9800000000000002,1.7200000000000004,5.3000000000000007]
[25,"D25 80*210 鋼製烤漆門 含百葉",null,null,1,null,null,null,null,null,null,null,null,null,null,null,1,null,80,210,1.6800000000000002,1.4350000000000003,5]
[26,"D26 200*205 不銹鋼烤漆門 台電規格橫拉門 ",null,1,null,null,null,null,null,null,null,null,null,null,null,null,1,null,200,205,4.0999999999999996,3.7999999999999994,6.1]
[27,"D27 110*210 SMC 無障礙拉門",null,null,1,null,null,1,null,null,1,null,null,1,null,null,4,null,110,210,2.3100000000000005,2.0500000000000003,5.3000000000000007]
[28,"D28 120*120 不銹鋼防火維修門 F60B",1,1,1,1,1,1,1,1,1,1,1,1,1,null,13,null,120,120,1.44,1.2649999999999997,3.5999999999999996]
[29,"D29 80*120 不銹鋼防火維修門 F60B",1,1,1,1,1,1,1,1,1,1,1,1,1,null,13,null,80,120,0.96,0.80500000000000005,3.2]
[30,"SD1  700*322  不銹鋼電動捲門",null,1,null,null,null,null,null,null,null,null,null,null,null,null,1,null,700,322,22.540000000000003,21.873000000000005,13.440000000000001]
[31,"SD2  310*445  不銹鋼電動捲門",null,null,2,null,null,null,null,null,null,null,null,null,null,null,2,null,310,445,13.795000000000002,13.200000000000001,12]
[32,"SD3  350*400  不銹鋼電動捲門",null,null,null,1,null,null,null,null,null,null,null,null,null,null,1,null,350,400,14,13.43,11.5]
[33,"SD4  350*375  不銹鋼電動捲門",null,null,null,null,1,1,1,1,1,1,1,1,null,null,{"$f":"SUM(C37:P37)","v":8},null,350,375,13.125,12.58,11]
[34,"SD5  500*280  不銹鋼電動防火捲門 60A",1,null,null,null,null,null,null,null,null,null,null,null,null,null,1,null,500,280,14,13.475000000000001,10.6]
[35,"SD6  181*280  遮煙捲簾",null,null,2,2,2,2,2,2,2,2,2,null,null,null,18,null,181,280,5.0679999999999996,4.7024999999999997,7.41]
[36,"L1 鍍鋅鋼板防火百葉閘門 65*65",null,1,null,null,null,null,null,null,null,null,null,null,null,null,1,null,65,65,{"$f":"+(S40/100)*(T40/100)","v":0.42250000000000004},{"$f":"+(S40/100-0.1)*(T40/100-0.1)","v":0.30250000000000005},{"$f":"+(S40/100)*2+(T40/100)*2","v":2.6}]
[37,"L1a 鍍鋅鋼板防火百葉閘門 65*65",null,1,null,null,null,null,null,null,null,null,null,null,null,null,1,null,65,65,{"$f":"+(S41/100)*(T41/100)","v":0.42250000000000004},{"$f":"+(S41/100-0.1)*(T41/100-0.1)","v":0.30250000000000005},{"$f":"+(S41/100)*2+(T41/100)*2","v":2.6}]
[38,"L2 284*156 防颱型鋁百葉",null,null,1,null,null,null,null,null,null,null,null,null,null,null,1,null,284,156,4.4303999999999997,4.0004,8.8000000000000007]
[39,"L3 134*156 防颱型鋁百葉",null,null,4,null,null,null,null,null,null,null,null,null,null,null,4,null,134,156,2.0904000000000003,1.8104,5.8000000000000007]
[40,"L4 140*200 防颱型鋁百葉",null,null,1,null,null,null,null,null,null,null,null,null,null,null,1,null,140,200,2.8,2.4699999999999998,6.8]
[41,"L5 250*100 防颱型鋁百葉",null,null,1,null,null,null,null,null,null,null,null,null,null,null,1,null,250,100,2.5,2.16,7]
[42,"L6 1100*100 防颱型鋁百葉+鋁窗",null,null,null,null,null,1,null,1,null,1,null,null,null,null,3,null,1100,100,11,9.81,24]
[43,"L7 85*150 防颱型鋁百葉",null,null,null,null,null,null,null,null,null,null,null,2,null,null,2,null,85,150,1.2749999999999999,1.0499999999999998,4.7]
[44,"L8 100*100 可關閉防水型鋁百葉",null,null,null,null,null,null,null,null,null,null,null,null,1,null,1,null,100,100,1,0.81,4]
[45,"L8a 100*100 可關閉防水型鋁百葉",null,null,null,null,null,null,null,null,null,null,null,null,1,1,2,null,100,100,1,0.81,4]
[46,"L9 60*60 防颱型鋁百葉",null,null,null,null,null,null,null,null,null,null,null,null,1,null,1,null,60,60,0.36,0.25,2.4]
[47,"L9a 60*60 防颱型鋁百葉",null,null,null,null,null,null,null,null,null,null,null,null,null,1,1,null,60,60,0.36,0.25,2.4]
[48,"L10 130*55 防颱型鋁百葉",null,null,null,null,null,null,null,null,null,null,null,null,null,1,1,null,130,55,0.71500000000000008,0.54,3.7]
[49,"W1 1100*200 鋁窗 (附摺疊紗窗)",null,null,null,null,null,null,null,null,null,null,null,1,null,null,1,null,1100,200,22,20.71,26]
[50,"W2 1100*100 鋁窗 (附摺疊紗窗)",null,null,null,1,1,null,1,null,1,null,1,null,null,null,5,null,1100,100,11,9.81,24]
[51,"W3 300*200 鋁窗 (附摺疊紗窗)",null,null,null,null,null,null,null,null,null,null,null,null,1,null,1,null,300,200,6,5.51,10]
[52,"W4 180*100 鋁窗 (附摺疊紗窗)",null,null,null,null,null,null,null,null,null,null,null,null,1,null,1,null,180,100,1.8,1.53,5.6]
[53,"W4a 180*100 鋁窗 (附摺疊紗窗)",null,null,null,null,null,null,null,null,null,null,null,null,null,1,1,null,180,100,1.8,1.53,5.6]
[54,"W5 180*100 鋁窗+防颱型百葉 (附摺疊紗窗)",null,null,null,null,null,null,null,null,null,null,null,null,null,1,1,null,180,100,1.8,1.53,5.6]
[55,"W6 100*100 鋁窗 (附摺疊紗窗)",null,null,2,null,null,null,null,null,null,null,null,null,null,null,2,null,100,100,1,0.81,4]
[56,"W6a 100*100 鋁窗 (附摺疊紗窗)",null,null,null,2,2,2,2,2,2,2,2,2,null,null,18,null,100,100,1,0.81,4]
[57,"W7 100*50 鋁窗 (附摺疊紗窗)",null,null,1,null,null,null,null,null,null,null,null,null,null,3,4,null,100,50,0.5,0.36000000000000004,3]
[58,"W8 840*245 鋁窗+鋁門 (附紗窗,紗門)",null,null,1,null,null,null,null,null,null,null,null,null,null,null,1,null,840,245,20.580000000000002,{"$f":"1.4*7.4+1*2.4","v":12.76},21.700000000000003]
[59,"W9 100*103 鋁窗 (附紗窗)",null,null,1,null,null,null,null,null,null,null,null,null,null,null,1,null,100,103,1.03,0.83700000000000008,4.0600000000000005]
[60,"CW1 1214*4845 玻璃帷幕牆 含飾板",null,null,1,null,null,null,null,null,null,null,null,null,null,null,1,null,1214,4845]
[61,"CW2 3980.5*1185 玻璃帷幕牆",null,null,1,null,null,null,null,null,null,null,null,null,null,null,1,null,3980.5,1185]
[62,"CW3 219.5*500 玻璃帷幕牆",null,null,1,null,null,null,null,null,null,null,null,null,null,null,1,null,219.5,500,{"$f":"+(S66/100)*(T66/100)","v":10.975},{"$f":"+(S66/100-0.1)*(T66/100-0.1)","v":10.265499999999999},{"$f":"+(S66/100)*2+(T66/100)*2","v":14.39}]
[63,"CW4 219.5*500 玻璃帷幕牆 ",null,null,null,1,null,null,null,null,null,null,null,null,null,null,1,null,219.5,500,10.975,10.265499999999999,14.39]
[64,"CW5 1498*400 玻璃帷幕牆 風除室",null,null,1,null,null,null,null,null,null,null,null,null,null,null,1,null,1498,400]
[65,"CW6 979*370 玻璃帷幕牆",null,null,null,null,1,null,null,null,null,null,null,null,null,null,{"$f":"SUM(C69:P69)","v":1},null,979,370,{"$f":"+(S69/100)*(T69/100)","v":36.222999999999999},{"$f":"+(S69/100-0.1)*(T69/100-0.1)","v":34.884},{"$f":"+(S69/100)*2+(T69/100)*2","v":26.979999999999997}]
[66,"CW7 994*345 玻璃帷幕牆",null,null,null,null,2,null,null,null,null,null,null,null,null,null,2,null,994,345,34.292999999999999,32.963999999999999,26.78]
[{"$f":"1+A70","v":67},"CW8 898*345 玻璃帷幕牆",null,null,null,null,1,null,null,null,null,null,null,null,null,null,1,null,898,345,30.981000000000002,29.748000000000005,24.86]
[68,"CW9 979*200 玻璃帷幕牆",null,null,null,null,null,1,1,1,1,1,1,null,null,null,6,null,979,200,{"$f":"+(S72/100)*(T72/100)","v":19.579999999999998},{"$f":"+(S72/100-0.1)*(T72/100-0.1)","v":18.410999999999998},{"$f":"+(S72/100)*2+(T72/100)*2","v":23.58}]
[69,"CW10 968*305 玻璃帷幕牆",null,null,null,null,null,null,null,null,null,null,null,1,null,null,1,null,968,305,{"$f":"+(S73/100)*(T73/100)","v":29.523999999999997},{"$f":"+(S73/100-0.1)*(T73/100-0.1)","v":28.260999999999999},{"$f":"+(S73/100)*2+(T73/100)*2","v":25.46}]
[70,"CW11 980*305 玻璃帷幕牆",null,null,null,null,null,null,null,null,null,null,null,1,null,null,1,null,980,305,29.89,28.615000000000002,25.700000000000003,null,39.902200000000001,20.546999999999997,1534.7,260]
[71,"CW12 1691*360 玻璃帷幕牆",null,null,null,null,null,null,null,null,null,null,null,null,1,null,1,null,1691,360,60.876000000000005,58.834999999999994,41.02,null,5.72,7.4,220,260]
[72,"CW13 180*5010 玻璃帷幕牆",null,null,null,1,null,null,null,null,null,null,null,null,null,null,1,null,180,5010,null,null,null,null,0]
[73,"CW14 242*4110 玻璃帷幕牆",null,null,null,1,null,null,null,null,null,null,null,null,null,null,1,null,242,4110]
[74,"CW15 3424*434 玻璃帷幕牆 含鋁飾板",null,null,null,null,null,1,1,1,1,1,1,null,null,null,6,null,3424,434]
[75]
[76,null,null,null,null,null,null,null,null,null,null,null,null,null,null,null,0]

{"sheet":"廁所雜項","index":7,"n_rows":45,"n_cols":27,"rows_kept":45,"cut":false,"hidden":false,"merged":[[0,1,0,26]]}
[]
[null,"業 主: 樂迦再生科技股份有限公司"]
[null,"工程名稱:竹北生醫園區廠房新建工程"]
["圖號","名稱",null,null,null,null,null,null,null,null,null,null,null,null,null,null,null,null,null,"7F","8F","9F","20F","R1","R2","合計","備註"]
[null,"廁所熱固性樹脂板搗擺隔間 含門扇五金",null,null,null,null,null,null,null,null,null,null,null,null,null,null,null,null,null,null,null,null,null,null,null,{"$f":"SUM(C5:S5)","v":0}]
[null,"小便斗隔板",null,null,null,null,null,null,null,null,null,null,null,null,null,null,null,null,null,null,null,null,null,null,null,{"$f":"SUM(C6:S6)","v":0}]
[null,"不銹鋼排水淺溝",null,null,null,null,null,null,null,null,null,null,null,null,null,null,null,null,null,null,null,null,null,null,null,0]
[null,"無障礙面盆扶手",null,null,null,null,null,null,null,null,null,null,null,null,null,null,null,null,null,null,null,null,null,null,null,0]
[null,"無障礙馬桶扶手(全)",null,null,null,null,null,null,null,null,null,null,null,null,null,null,null,null,null,null,null,null,null,null,null,0]
[null,"無障礙小便斗扶手(全)",null,null,null,null,null,null,null,null,null,null,null,null,null,null,null,null,null,null,null,null,null,null,null,0]
[null,"無障礙廁所明鏡 50*90",null,null,null,null,null,null,null,null,null,null,null,null,null,null,null,null,null,null,null,null,null,null,null,0]
[null,"明鏡",null,null,null,null,null,null,null,null,null,null,null,null,null,null,null,null,null,null,null,null,null,null,null,0]
[null,"人造石洗手台",null,null,null,null,null,null,null,null,null,null,null,null,null,null,null,null,null,null,null,null,null,null,null,0]
[null,"人造大理石檯面",null,null,null,null,null,null,null,null,null,null,null,null,null,null,null,null,null,null,null,null,null,null,null,0]
[null,"P型人造大理石檯面",null,null,null,null,null,null,null,null,null,null,null,null,null,null,null,null,null,null,null,null,null,null,null,0]
[null,"擦手紙架",null,null,null,null,null,null,null,null,null,null,null,null,null,null,null,null,null,null,null,null,null,null,null,0]
[null,"乾手機",null,null,null,null,null,null,null,null,null,null,null,null,null,null,null,null,null,null,null,null,null,null,null,0]
[null,"雙衣鈎",null,null,null,null,null,null,null,null,null,null,null,null,null,null,null,null,null,null,null,null,null,null,null,0]
[null,"馬桶背板牆 H=90",null,null,null,null,null,null,null,null,null,null,null,null,null,null,null,null,null,null,null,null,null,null,null,{"$f":"SUM(C19:S19)","v":0}]
[null,"背板牆台面-石材,14cm",null,null,null,null,null,null,null,null,null,null,null,null,null,null,null,null,null,null,null,null,null,null,null,0]
[null,null,null,null,null,null,null,null,null,null,null,null,null,null,null,null,null,null,null,null,null,null,null,null,null,0]
[null,null,null,null,null,null,null,null,null,null,null,null,null,null,null,null,null,null,null,null,null,null,null,null,null,0]
[null,null,null,null,null,null,null,null,null,null,null,null,null,null,null,null,null,null,null,null,null,null,null,null,null,0]
[]
[]
[]
[]
[]
[]
[]
[]
[]
[]
[]
[]
[]
[]
[]
[]
[]
[]
[]
[]
[]
["合計",null,{"$f":"SUM(C5:C44)","v":0},{"$f":"SUM(D5:D44)","v":0},{"$f":"SUM(E5:E44)","v":0},null,{"$f":"SUM(G5:G44)","v":0},null,null,null,null,null,null,null,null,null,null,null,null,null,null,null,{"$f":"SUM(W5:W44)","v":0},null,{"$f":"SUM(Y5:Y44)","v":0},{"$f":"SUM(Z5:Z44)","v":0}]

{"sheet":"連續壁","index":8,"n_rows":5,"n_cols":6,"rows_kept":5,"cut":false,"hidden":false,"merged":[[0,0,0,5]]}
[]
[null,"工  程  數  量  計  算"]
[null,"業 主: 樂迦再生科技股份有限公司",null," 日    期:2022-0"]
[null,"工程名稱:竹北生醫園區廠房新建工程",null," 施工地點:"]
[null,"項         目","數      量      計       算","數量合計",null,"單位"]